PDS_VERSION_ID = PDS3
/* FILE DATA ELEMENTS */
RECORD_TYPE = UNDEFINED
/* POINTERS TO DATA OBJECTS */
^IMAGE = ("HQ127_0000_S24.TIF")
/* IDENTIFICATION DATA ELEMENTS */
DATA_SET_ID = "MEX-M-HRSC-4-REFDR-MAPPROJECT-EXT9-V4.0"
DATA_SET_NAME = "MARS EXPRESS HRSC MAP PROJECTED REFDR EXTENSION9 V4.0"
DETECTOR_ID = MEX_HRSC_S2
EVENT_TYPE = "MARS-REGIONAL-MAPPING-Im-Eo"
INSTRUMENT_HOST_ID = MEX
INSTRUMENT_HOST_NAME = "MARS EXPRESS"
INSTRUMENT_ID = HRSC
INSTRUMENT_NAME = "HIGH RESOLUTION STEREO CAMERA"
MISSION_NAME = "MARS EXPRESS"
MISSION_PHASE_NAME = ME_Phase_50
PROCESSING_LEVEL_ID = 4
PRODUCT_CREATION_TIME = 2025-01-29T00:31:31.000Z
PRODUCT_ID = "HQ127_0000_S24.TIF"
RELEASE_ID = 0019
REVISION_ID = 0000
/* QUALITY DATA ELEMENTS */
DATA_QUALITY_ID = 1
DATA_QUALITY_DESC = "Data calculated based on original SPICE kernels"
/* TIME DATA ELEMENTS */
SPACECRAFT_CLOCK_START_COUNT = "1/0674173697.65283"
SPACECRAFT_CLOCK_STOP_COUNT = "1/0674173884.46755"
START_TIME = 2024-09-11T22:30:19.913Z
STOP_TIME = 2024-09-11T22:32:13.550Z
/* ORBITAL DATA ELEMENTS */
ASCENDING_NODE_LONGITUDE = 90.34
MAXIMUM_RESOLUTION = 0.0334
FOOTPRINT_POINT_LATITUDE = (11.1381,11.1284,11.1217,11.1152, 11.1089,11.1029,11.097,11.0967,11.1179, 10.9738,10.8254,10.6843,10.5431,10.399, 10.2581,10.1165,9.97473,9.83149,9.68741 ,9.47203,9.25966,9.11852,8.97727, 8.83624,8.62489,8.48387,8.34309,8.20187 ,7.99037,7.77952,7.6388,7.49841,7.3583, 7.21831,7.07856,6.93911,6.73032,6.59086 ,6.45054,6.31046,6.17092,5.8934,5.61508 ,5.2675,4.99025,4.78259,4.50614,4.29521 ,4.15376,4.08321,4.04658,4.05205, 4.05912,4.06561,4.07479,4.07852,4.08495 ,4.08523,4.08589,4.22795,4.37046, 4.51222,4.7882,4.99599,5.20408,5.62037, 5.89835,6.10667,6.24649,6.52498,6.66455 ,6.80416,7.01435,7.15441,7.36445, 7.50468,7.64541,7.78559,7.92624,8.06648 ,8.207,8.34776,8.48887,8.62961,8.77041, 8.91058,9.12726,9.2717,9.48635,9.62791, 9.76893,9.91078,10.0524,10.3275,10.5404 ,10.6829,10.8253,11.0381,11.1094, 11.1381)
FOOTPRINT_POINT_LONGITUDE = (15.2183,14.9094,14.687,14.4666,14.2483 ,14.0316,13.8164,13.803,13.7995,13.7973 ,13.795,13.7929,13.7907,13.7885,13.7863 ,13.7841,13.7818,13.7795,13.7772, 13.7736,13.7701,13.7677,13.7653,13.7629 ,13.7592,13.7568,13.7543,13.7518,13.748 ,13.7441,13.7415,13.7389,13.7363, 13.7337,13.731,13.7283,13.7243,13.7216, 13.7188,13.716,13.7133,13.7077,13.702, 13.6947,13.6889,13.6844,13.6784,13.6738 ,13.6707,13.6691,13.6683,13.8932, 14.1913,14.4491,14.7966,14.9425,15.134, 15.1486,15.1539,15.1551,15.1565,15.158, 15.1595,15.161,15.1627,15.1657,15.1678, 15.1691,15.1706,15.1726,15.1738,15.175, 15.1771,15.1785,15.1804,15.1817,15.1834 ,15.1846,15.1861,15.1874,15.1887, 15.1902,15.1919,15.1933,15.1947,15.1956 ,15.2011,15.2047,15.2087,15.2104, 15.2117,15.2135,15.2151,15.2131,15.2157 ,15.2178,15.2197,15.2221,15.2231, 15.2183)
ORBIT_NUMBER = 26127
ORBITAL_ECCENTRICITY = 0.573
ORBITAL_INCLINATION = 87.08
ORBITAL_SEMIMAJOR_AXIS = 8845.83
PERIAPSIS_ALTITUDE = 385.8
PERIAPSIS_ARGUMENT_ANGLE = 166.72
PERIAPSIS_TIME = 2024-09-11T22:29:10.000Z
SPACECRAFT_ORIENTATION = (0.0,-1.0,0.0)
^MEX_ORIENTATION_DESC = "MEX_ORIENTATION_DESC.TXT"
SPACECRAFT_POINTING_MODE = ACROSSTRACK
^MEX_POINTING_DESC = "MEX_POINTING_DESC.TXT"
RIGHT_ASCENSION = -1e+32
DECLINATION = -1e+32
OFFSET_ANGLE = 0.727
SPACECRAFT_SOLAR_DISTANCE = 2.21135e+08
TARGET_NAME = MARS
/* CAMERA DATA ELEMENTS */
DETECTOR_TEMPERATURE = 18.3705
FOCAL_PLANE_TEMPERATURE = 8.1755
INST_CMPRS_NAME = "DISCRETE COSINE TRANSFORMATION (DCT)"
INST_CMPRS_RATIO = 12.7347
INST_CMPRS_QUALITY = 0
INST_CMPRS_QUANTZ_TBL_ID = 0
INSTRUMENT_TEMPERATURE = 10.8262
LENS_TEMPERATURE = 8.5833
MACROPIXEL_SIZE = 2
MISSING_FRAMES = 0
PIXEL_SUBSAMPLING_FLAG = N
SIGNAL_CHAIN_ID = 1
/* RADIOMETRIC DATA ELEMENTS */
BANDWIDTH = 178.0
CENTER_FILTER_WAVELENGTH = 679.0
RADIANCE_OFFSET = 2.09
RADIANCE_SCALING_FACTOR = 0.0052455
REFLECTANCE_SCALING_FACTOR = 0.000135841
MEX:REFLECTANCE_OFFSET = 0.0541241
/* IMAGE OBJECT DEFINITIONS */
OBJECT = IMAGE
  INTERCHANGE_FORMAT = BINARY
  LINES = 16787
  LINE_SAMPLES = 3671
  SAMPLE_TYPE = UNSIGNED_INTEGER
  SAMPLE_BITS = 8
  BANDS = 1
  BAND_STORAGE_TYPE = BAND_SEQUENTIAL
  MAXIMUM = 255
  MEAN = 106.98
  MINIMUM = 1
  STANDARD_DEVIATION = 29.6808
END_OBJECT = IMAGE
/* MAP OBJECT DEFINITIONS */
OBJECT = IMAGE_MAP_PROJECTION
  ^DATA_SET_MAP_PROJECTION_CATALOG= "DSMAP.CAT"
  A_AXIS_RADIUS = 3396.0
  B_AXIS_RADIUS = 3396.0
  C_AXIS_RADIUS = 3396.0
  CENTER_LATITUDE = 0.0
  CENTER_LONGITUDE = 14.0
  COORDINATE_SYSTEM_NAME = PLANETOGRAPHIC
  COORDINATE_SYSTEM_TYPE = "BODY-FIXED ROTATING"
  EASTERNMOST_LONGITUDE = 15.2231
  FIRST_STANDARD_PARALLEL = "N/A"
  LINE_FIRST_PIXEL = 1
  LINE_LAST_PIXEL = 16787
  LINE_PROJECTION_OFFSET = 26367.75
  MAP_PROJECTION_ROTATION = 0.0
  MAP_PROJECTION_TYPE = SINUSOIDAL
  MAP_RESOLUTION = 2370.85521546667
  MAP_SCALE = 0.025
  MAXIMUM_LATITUDE = 11.1381
  MINIMUM_LATITUDE = 4.04658
  POSITIVE_LONGITUDE_DIRECTION = EAST
  REFERENCE_LATITUDE = "N/A"
  REFERENCE_LONGITUDE = "N/A"
  SAMPLE_FIRST_PIXEL = 1
  SAMPLE_LAST_PIXEL = 3671
  SAMPLE_PROJECTION_OFFSET = 736.25
  SECOND_STANDARD_PARALLEL = "N/A"
  WESTERNMOST_LONGITUDE = 13.6683
END_OBJECT = IMAGE_MAP_PROJECTION
END
