PDS_VERSION_ID = PDS3
/* FILE DATA ELEMENTS */
RECORD_TYPE = UNDEFINED
/* POINTERS TO DATA OBJECTS */
^IMAGE = ("HQ127_0000_P24.TIF")
/* IDENTIFICATION DATA ELEMENTS */
DATA_SET_ID = "MEX-M-HRSC-4-REFDR-MAPPROJECT-EXT9-V4.0"
DATA_SET_NAME = "MARS EXPRESS HRSC MAP PROJECTED REFDR EXTENSION9 V4.0"
DETECTOR_ID = MEX_HRSC_P2
EVENT_TYPE = "MARS-REGIONAL-MAPPING-Im-Eo"
INSTRUMENT_HOST_ID = MEX
INSTRUMENT_HOST_NAME = "MARS EXPRESS"
INSTRUMENT_ID = HRSC
INSTRUMENT_NAME = "HIGH RESOLUTION STEREO CAMERA"
MISSION_NAME = "MARS EXPRESS"
MISSION_PHASE_NAME = ME_Phase_50
PROCESSING_LEVEL_ID = 4
PRODUCT_CREATION_TIME = 2025-01-29T00:31:31.000Z
PRODUCT_ID = "HQ127_0000_P24.TIF"
RELEASE_ID = 0019
REVISION_ID = 0000
/* QUALITY DATA ELEMENTS */
DATA_QUALITY_ID = 1
DATA_QUALITY_DESC = "Data calculated based on original SPICE kernels"
/* TIME DATA ELEMENTS */
SPACECRAFT_CLOCK_START_COUNT = "1/0674173697.65283"
SPACECRAFT_CLOCK_STOP_COUNT = "1/0674173884.46755"
START_TIME = 2024-09-11T22:30:07.536Z
STOP_TIME = 2024-09-11T22:31:59.933Z
/* ORBITAL DATA ELEMENTS */
ASCENDING_NODE_LONGITUDE = 90.34
MAXIMUM_RESOLUTION = 0.0321
FOOTPRINT_POINT_LATITUDE = (11.1237,11.1188,11.1153,11.1119, 11.1087,11.1055,11.1024,11.1022,11.1168 ,10.9017,10.6846,10.5438,10.4012, 10.1885,10.0468,9.90514,9.76245,9.61749 ,9.47562,9.33373,9.12185,8.98054, 8.83928,8.69808,8.55703,8.41586,8.27486 ,8.06315,7.92196,7.78116,7.64014,7.4993 ,7.35872,7.21823,7.07802,6.86777, 6.58805,6.37737,6.23671,6.0969,5.81799, 5.53833,5.25898,5.04982,4.77126,4.49313 ,4.14559,4.07632,4.05775,4.06053, 4.06336,4.06635,4.0685,4.07076,4.07314, 4.0766,4.07686,4.07743,4.2858,4.56497, 4.84325,5.19187,5.47068,5.68022,5.81993 ,5.95969,6.09939,6.23959,6.37967,6.5197 ,6.6596,6.79981,6.9402,7.08082,7.22119, 7.36178,7.5025,7.71403,7.92504,8.06572, 8.2066,8.34762,8.48892,8.62989,8.77098, 8.91171,9.05308,9.19731,9.41317,9.5549, 9.76692,9.90879,10.0507,10.329,10.5415, 10.6838,10.826,11.0389,11.11,11.1237)
FOOTPRINT_POINT_LONGITUDE = (15.2089,14.9023,14.6819,14.4632, 14.2466,14.0317,13.8182,13.8049,13.8014 ,13.7983,13.795,13.793,13.7909,13.7877, 13.7856,13.7834,13.7812,13.7788,13.7766 ,13.7743,13.7709,13.7686,13.7663,13.764 ,13.7616,13.7592,13.7568,13.7532, 13.7507,13.7482,13.7457,13.7432,13.7407 ,13.7381,13.7356,13.7317,13.7265, 13.7225,13.7198,13.7171,13.7116,13.7061 ,13.7005,13.6962,13.6905,13.6847, 13.6773,13.6758,13.6754,13.8971,14.1347 ,14.3742,14.5445,14.7158,14.9166, 15.1198,15.1344,15.1396,15.1412,15.1443 ,15.1463,15.1493,15.1513,15.1532, 15.1543,15.1555,15.1565,15.158,15.1593, 15.1605,15.1616,15.1629,15.1643,15.1658 ,15.1671,15.1686,15.1701,15.1728, 15.1748,15.1762,15.1776,15.1792,15.181, 15.1824,15.1839,15.185,15.1867,15.1911, 15.1971,15.199,15.2013,15.2032,15.2051, 15.2036,15.206,15.2082,15.2102,15.2128, 15.2138,15.2089)
ORBIT_NUMBER = 26127
ORBITAL_ECCENTRICITY = 0.573
ORBITAL_INCLINATION = 87.08
ORBITAL_SEMIMAJOR_AXIS = 8845.83
PERIAPSIS_ALTITUDE = 385.8
PERIAPSIS_ARGUMENT_ANGLE = 166.72
PERIAPSIS_TIME = 2024-09-11T22:29:10.000Z
SPACECRAFT_ORIENTATION = (0.0,-1.0,0.0)
^MEX_ORIENTATION_DESC = "MEX_ORIENTATION_DESC.TXT"
SPACECRAFT_POINTING_MODE = ACROSSTRACK
^MEX_POINTING_DESC = "MEX_POINTING_DESC.TXT"
RIGHT_ASCENSION = -1e+32
DECLINATION = -1e+32
OFFSET_ANGLE = 0.727
SPACECRAFT_SOLAR_DISTANCE = 2.21135e+08
TARGET_NAME = MARS
/* CAMERA DATA ELEMENTS */
DETECTOR_TEMPERATURE = 18.3705
FOCAL_PLANE_TEMPERATURE = 8.1755
INST_CMPRS_NAME = "DISCRETE COSINE TRANSFORMATION (DCT)"
INST_CMPRS_RATIO = 9.72396
INST_CMPRS_QUALITY = 0
INST_CMPRS_QUANTZ_TBL_ID = 0
INSTRUMENT_TEMPERATURE = 10.8262
LENS_TEMPERATURE = 8.5833
MACROPIXEL_SIZE = 2
MISSING_FRAMES = 0
PIXEL_SUBSAMPLING_FLAG = N
SIGNAL_CHAIN_ID = 3
/* RADIOMETRIC DATA ELEMENTS */
BANDWIDTH = 177.0
CENTER_FILTER_WAVELENGTH = 676.5
RADIANCE_OFFSET = 1.90932
RADIANCE_SCALING_FACTOR = 0.00508411
REFLECTANCE_SCALING_FACTOR = 0.000131821
MEX:REFLECTANCE_OFFSET = 0.0495049
/* IMAGE OBJECT DEFINITIONS */
OBJECT = IMAGE
  INTERCHANGE_FORMAT = BINARY
  LINES = 16787
  LINE_SAMPLES = 3671
  SAMPLE_TYPE = UNSIGNED_INTEGER
  SAMPLE_BITS = 8
  BANDS = 1
  BAND_STORAGE_TYPE = BAND_SEQUENTIAL
  MAXIMUM = 255
  MEAN = 110.802
  MINIMUM = 1
  STANDARD_DEVIATION = 25.8837
END_OBJECT = IMAGE
/* MAP OBJECT DEFINITIONS */
OBJECT = IMAGE_MAP_PROJECTION
  ^DATA_SET_MAP_PROJECTION_CATALOG= "DSMAP.CAT"
  A_AXIS_RADIUS = 3396.0
  B_AXIS_RADIUS = 3396.0
  C_AXIS_RADIUS = 3396.0
  CENTER_LATITUDE = 0.0
  CENTER_LONGITUDE = 14.0
  COORDINATE_SYSTEM_NAME = PLANETOGRAPHIC
  COORDINATE_SYSTEM_TYPE = "BODY-FIXED ROTATING"
  EASTERNMOST_LONGITUDE = 15.2138
  FIRST_STANDARD_PARALLEL = "N/A"
  LINE_FIRST_PIXEL = 1
  LINE_LAST_PIXEL = 16787
  LINE_PROJECTION_OFFSET = 26367.75
  MAP_PROJECTION_ROTATION = 0.0
  MAP_PROJECTION_TYPE = SINUSOIDAL
  MAP_RESOLUTION = 2370.85521546667
  MAP_SCALE = 0.025
  MAXIMUM_LATITUDE = 11.1237
  MINIMUM_LATITUDE = 4.05775
  POSITIVE_LONGITUDE_DIRECTION = EAST
  REFERENCE_LATITUDE = "N/A"
  REFERENCE_LONGITUDE = "N/A"
  SAMPLE_FIRST_PIXEL = 1
  SAMPLE_LAST_PIXEL = 3671
  SAMPLE_PROJECTION_OFFSET = 736.25
  SECOND_STANDARD_PARALLEL = "N/A"
  WESTERNMOST_LONGITUDE = 13.6754
END_OBJECT = IMAGE_MAP_PROJECTION
END
