PDS_VERSION_ID = PDS3
/* FILE DATA ELEMENTS */
RECORD_TYPE = UNDEFINED
/* POINTERS TO DATA OBJECTS */
^IMAGE = ("HQ127_0000_IR4.TIF")
/* IDENTIFICATION DATA ELEMENTS */
DATA_SET_ID = "MEX-M-HRSC-4-REFDR-MAPPROJECT-EXT9-V4.0"
DATA_SET_NAME = "MARS EXPRESS HRSC MAP PROJECTED REFDR EXTENSION9 V4.0"
DETECTOR_ID = MEX_HRSC_IR
EVENT_TYPE = "MARS-REGIONAL-MAPPING-Im-Eo"
INSTRUMENT_HOST_ID = MEX
INSTRUMENT_HOST_NAME = "MARS EXPRESS"
INSTRUMENT_ID = HRSC
INSTRUMENT_NAME = "HIGH RESOLUTION STEREO CAMERA"
MISSION_NAME = "MARS EXPRESS"
MISSION_PHASE_NAME = ME_Phase_50
PROCESSING_LEVEL_ID = 4
PRODUCT_CREATION_TIME = 2025-01-29T00:31:31.000Z
PRODUCT_ID = "HQ127_0000_IR4.TIF"
RELEASE_ID = 0019
REVISION_ID = 0000
/* QUALITY DATA ELEMENTS */
DATA_QUALITY_ID = 1
DATA_QUALITY_DESC = "Data calculated based on original SPICE kernels"
/* TIME DATA ELEMENTS */
SPACECRAFT_CLOCK_START_COUNT = "1/0674173697.65283"
SPACECRAFT_CLOCK_STOP_COUNT = "1/0674173884.46755"
START_TIME = 2024-09-11T22:29:14.621Z
STOP_TIME = 2024-09-11T22:31:04.737Z
/* ORBITAL DATA ELEMENTS */
ASCENDING_NODE_LONGITUDE = 90.34
MAXIMUM_RESOLUTION = 0.0646
FOOTPRINT_POINT_LATITUDE = (11.0878,11.1055,11.1159,11.1258, 11.1353,11.1444,11.153,11.1536,11.1346, 10.7937,10.6535,10.3758,10.2356,9.95651 ,9.74844,9.54349,9.26451,9.12473, 8.98503,8.84529,8.7055,8.56562,8.42591, 8.21631,7.937,7.79725,7.58767,7.44791, 7.30788,7.16743,7.02722,6.88694,6.74532 ,6.60357,6.32661,6.1161,5.97562,5.83513 ,5.62482,5.48506,5.27479,5.06443, 4.92419,4.78385,4.64339,4.50315,4.29283 ,4.15231,4.08194,4.07685,4.06814, 4.05875,4.04741,4.03488,4.02738,4.01111 ,4.0104,4.01118,4.15082,4.29137,4.50147 ,4.71152,4.85108,4.99129,5.1322,5.27246 ,5.41289,5.55312,5.69344,5.83368, 5.97404,6.11451,6.2544,6.46482,6.60533, 6.74546,6.88561,7.02554,7.16569,7.30563 ,7.51557,7.79508,7.93514,8.07533, 8.28537,8.42497,8.56496,8.70485,8.84497 ,9.0541,9.32676,9.60542,9.81516,10.095, 10.238,10.4499,10.7278,11.0068,11.0762, 11.0878)
FOOTPRINT_POINT_LONGITUDE = (15.2045,14.8604,14.6509,14.4432, 14.2373,14.0329,13.8299,13.8172,13.8145 ,13.8103,13.8086,13.8052,13.8035, 13.7999,13.7972,13.7943,13.7906,13.7887 ,13.7868,13.7848,13.7829,13.7809, 13.7789,13.7758,13.7717,13.7696,13.7664 ,13.7643,13.7621,13.7599,13.7577, 13.7555,13.7533,13.751,13.7464,13.7429, 13.7406,13.7382,13.7346,13.7322,13.7285 ,13.7248,13.7223,13.7198,13.7173, 13.7147,13.7109,13.7083,13.707,13.7069, 13.8988,14.106,14.3539,14.6174,14.7637, 15.0982,15.1117,15.1162,15.1181,15.1194 ,15.1218,15.1244,15.1264,15.128,15.1291 ,15.1306,15.1321,15.1337,15.1352, 15.1368,15.1383,15.1398,15.1416,15.144, 15.1455,15.1472,15.1489,15.1507,15.1525 ,15.1543,15.1571,15.1611,15.1629, 15.1646,15.1673,15.1694,15.1712,15.1731 ,15.1748,15.1782,15.1873,15.1919, 15.1947,15.1983,15.1978,15.1989,15.204, 15.2081,15.2094,15.2045)
ORBIT_NUMBER = 26127
ORBITAL_ECCENTRICITY = 0.573
ORBITAL_INCLINATION = 87.08
ORBITAL_SEMIMAJOR_AXIS = 8845.83
PERIAPSIS_ALTITUDE = 385.8
PERIAPSIS_ARGUMENT_ANGLE = 166.72
PERIAPSIS_TIME = 2024-09-11T22:29:10.000Z
SPACECRAFT_ORIENTATION = (0.0,-1.0,0.0)
^MEX_ORIENTATION_DESC = "MEX_ORIENTATION_DESC.TXT"
SPACECRAFT_POINTING_MODE = ACROSSTRACK
^MEX_POINTING_DESC = "MEX_POINTING_DESC.TXT"
RIGHT_ASCENSION = -1e+32
DECLINATION = -1e+32
OFFSET_ANGLE = 0.727
SPACECRAFT_SOLAR_DISTANCE = 2.21135e+08
TARGET_NAME = MARS
/* CAMERA DATA ELEMENTS */
DETECTOR_TEMPERATURE = 17.1471
FOCAL_PLANE_TEMPERATURE = 8.1755
INST_CMPRS_NAME = "DISCRETE COSINE TRANSFORMATION (DCT)"
INST_CMPRS_RATIO = 7.79589
INST_CMPRS_QUALITY = 0
INST_CMPRS_QUANTZ_TBL_ID = 0
INSTRUMENT_TEMPERATURE = 10.8262
LENS_TEMPERATURE = 8.5833
MACROPIXEL_SIZE = 4
MISSING_FRAMES = 0
PIXEL_SUBSAMPLING_FLAG = N
SIGNAL_CHAIN_ID = 2
/* RADIOMETRIC DATA ELEMENTS */
BANDWIDTH = 81.0
CENTER_FILTER_WAVELENGTH = 955.5
RADIANCE_OFFSET = 0.47868
RADIANCE_SCALING_FACTOR = 0.00164614
REFLECTANCE_SCALING_FACTOR = 0.000173663
MEX:REFLECTANCE_OFFSET = 0.0504995
/* IMAGE OBJECT DEFINITIONS */
OBJECT = IMAGE
  INTERCHANGE_FORMAT = BINARY
  LINES = 8394
  LINE_SAMPLES = 1836
  SAMPLE_TYPE = UNSIGNED_INTEGER
  SAMPLE_BITS = 8
  BANDS = 1
  BAND_STORAGE_TYPE = BAND_SEQUENTIAL
  MAXIMUM = 255
  MEAN = 119.624
  MINIMUM = 2
  STANDARD_DEVIATION = 27.1674
END_OBJECT = IMAGE
/* MAP OBJECT DEFINITIONS */
OBJECT = IMAGE_MAP_PROJECTION
  ^DATA_SET_MAP_PROJECTION_CATALOG= "DSMAP.CAT"
  A_AXIS_RADIUS = 3396.0
  B_AXIS_RADIUS = 3396.0
  C_AXIS_RADIUS = 3396.0
  CENTER_LATITUDE = 0.0
  CENTER_LONGITUDE = 14.0
  COORDINATE_SYSTEM_NAME = PLANETOGRAPHIC
  COORDINATE_SYSTEM_TYPE = "BODY-FIXED ROTATING"
  EASTERNMOST_LONGITUDE = 15.2094
  FIRST_STANDARD_PARALLEL = "N/A"
  LINE_FIRST_PIXEL = 1
  LINE_LAST_PIXEL = 8394
  LINE_PROJECTION_OFFSET = 13183.625
  MAP_PROJECTION_ROTATION = 0.0
  MAP_PROJECTION_TYPE = SINUSOIDAL
  MAP_RESOLUTION = 1185.42760773333
  MAP_SCALE = 0.05
  MAXIMUM_LATITUDE = 11.1536
  MINIMUM_LATITUDE = 4.0104
  POSITIVE_LONGITUDE_DIRECTION = EAST
  REFERENCE_LATITUDE = "N/A"
  REFERENCE_LONGITUDE = "N/A"
  SAMPLE_FIRST_PIXEL = 1
  SAMPLE_LAST_PIXEL = 1836
  SAMPLE_PROJECTION_OFFSET = 367.875
  SECOND_STANDARD_PARALLEL = "N/A"
  WESTERNMOST_LONGITUDE = 13.7069
END_OBJECT = IMAGE_MAP_PROJECTION
END
