PDS_VERSION_ID = PDS3
/* FILE DATA ELEMENTS */
RECORD_TYPE = UNDEFINED
/* POINTERS TO DATA OBJECTS */
^IMAGE = ("HQ124_0000_IR4.TIF")
/* IDENTIFICATION DATA ELEMENTS */
DATA_SET_ID = "MEX-M-HRSC-4-REFDR-MAPPROJECT-EXT9-V4.0"
DATA_SET_NAME = "MARS EXPRESS HRSC MAP PROJECTED REFDR EXTENSION9 V4.0"
DETECTOR_ID = MEX_HRSC_IR
EVENT_TYPE = "MARS-REGIONAL-STEREO-Te-Fl-La"
INSTRUMENT_HOST_ID = MEX
INSTRUMENT_HOST_NAME = "MARS EXPRESS"
INSTRUMENT_ID = HRSC
INSTRUMENT_NAME = "HIGH RESOLUTION STEREO CAMERA"
MISSION_NAME = "MARS EXPRESS"
MISSION_PHASE_NAME = ME_Phase_50
PROCESSING_LEVEL_ID = 4
PRODUCT_CREATION_TIME = 2025-01-29T00:31:31.000Z
PRODUCT_ID = "HQ124_0000_IR4.TIF"
RELEASE_ID = 0019
REVISION_ID = 0000
/* QUALITY DATA ELEMENTS */
DATA_QUALITY_ID = 1
DATA_QUALITY_DESC = "Data calculated based on original SPICE kernels"
/* TIME DATA ELEMENTS */
SPACECRAFT_CLOCK_START_COUNT = "1/0674098513.00390"
SPACECRAFT_CLOCK_STOP_COUNT = "1/0674098768.55791"
START_TIME = 2024-09-11T01:36:10.506Z
STOP_TIME = 2024-09-11T01:38:35.491Z
/* ORBITAL DATA ELEMENTS */
ASCENDING_NODE_LONGITUDE = 90.38
MAXIMUM_RESOLUTION = 0.1467
FOOTPRINT_POINT_LATITUDE = (-5.37594,-5.359,-5.34842,-5.33812, -5.32812,-5.31835,-5.30882,-5.30823, -5.30969,-5.80786,-6.15168,-6.66278, -6.99874,-7.3431,-7.52891,-7.71221, -7.88936,-8.23612,-8.4954,-8.74091, -8.91842,-9.09485,-9.27738,-9.54766, -9.7221,-9.90028,-10.0876,-10.2814, -10.4638,-10.6439,-10.8249,-11.1013, -11.2864,-11.4668,-11.6507,-11.8342, -12.0223,-12.2142,-12.4041,-12.5933, -12.7819,-12.9698,-13.1598,-13.4445, -13.6246,-13.8131,-14.0051,-14.1961, -14.3929,-14.4904,-14.516,-14.5233, -14.5309,-14.5447,-14.5613,-14.5739, -14.5856,-14.5863,-14.5843,-14.2914, -14.0959,-13.8051,-13.6131,-13.4204, -13.2281,-12.9406,-12.7521,-12.4693, -12.2944,-12.1128,-11.7456,-11.4714, -11.2876,-11.1035,-10.8283,-10.556, -10.3751,-10.1922,-10.0126,-9.831, -9.65286,-9.38708,-9.21315,-9.03358, -8.85539,-8.67749,-8.50323,-8.24123, -8.06649,-7.72038,-7.45966,-7.19964, -6.93453,-6.75436,-6.58106,-6.24107, -5.73476,-5.48735,-5.40455,-5.37594)
FOOTPRINT_POINT_LONGITUDE = (321.441,321.071,320.837,320.605, 320.374,320.145,319.917,319.902,319.895 ,319.882,319.872,319.858,319.849, 319.839,319.833,319.828,319.823,319.813 ,319.805,319.798,319.793,319.788, 319.782,319.774,319.769,319.763,319.757 ,319.751,319.745,319.739,319.734, 319.725,319.719,319.713,319.708,319.702 ,319.695,319.689,319.683,319.676,319.67 ,319.664,319.657,319.648,319.643, 319.636,319.63,319.624,319.617,319.613, 319.612,319.852,320.147,320.565,320.867 ,321.169,321.456,321.474,321.486, 321.483,321.481,321.477,321.475,321.473 ,321.471,321.468,321.466,321.463, 321.471,321.474,321.474,321.474,321.474 ,321.473,321.471,321.469,321.468, 321.466,321.467,321.466,321.465,321.464 ,321.466,321.464,321.463,321.462, 321.462,321.461,321.46,321.46,321.46, 321.459,321.452,321.445,321.442,321.443 ,321.443,321.445,321.445,321.441)
ORBIT_NUMBER = 26124
ORBITAL_ECCENTRICITY = 0.572
ORBITAL_INCLINATION = 87.11
ORBITAL_SEMIMAJOR_AXIS = 8840.48
PERIAPSIS_ALTITUDE = 385.44
PERIAPSIS_ARGUMENT_ANGLE = 167.25
PERIAPSIS_TIME = 2024-09-11T01:31:58.000Z
SPACECRAFT_ORIENTATION = (0.0,-1.0,0.0)
^MEX_ORIENTATION_DESC = "MEX_ORIENTATION_DESC.TXT"
SPACECRAFT_POINTING_MODE = ACROSSTRACK
^MEX_POINTING_DESC = "MEX_POINTING_DESC.TXT"
RIGHT_ASCENSION = -1e+32
DECLINATION = -1e+32
OFFSET_ANGLE = 0.686
SPACECRAFT_SOLAR_DISTANCE = 2.20969e+08
TARGET_NAME = MARS
/* CAMERA DATA ELEMENTS */
DETECTOR_TEMPERATURE = 17.5549
FOCAL_PLANE_TEMPERATURE = 9.8067
INST_CMPRS_NAME = "DISCRETE COSINE TRANSFORMATION (DCT)"
INST_CMPRS_RATIO = 11.2666
INST_CMPRS_QUALITY = 0
INST_CMPRS_QUANTZ_TBL_ID = 0
INSTRUMENT_TEMPERATURE = 11.0301
LENS_TEMPERATURE = 8.7872
MACROPIXEL_SIZE = 8
MISSING_FRAMES = 0
PIXEL_SUBSAMPLING_FLAG = N
SIGNAL_CHAIN_ID = 3
/* RADIOMETRIC DATA ELEMENTS */
BANDWIDTH = 81.0
CENTER_FILTER_WAVELENGTH = 955.5
RADIANCE_OFFSET = 0.420706
RADIANCE_SCALING_FACTOR = 0.00135256
REFLECTANCE_SCALING_FACTOR = 0.000142479
MEX:REFLECTANCE_OFFSET = 0.0443171
/* IMAGE OBJECT DEFINITIONS */
OBJECT = IMAGE
  INTERCHANGE_FORMAT = BINARY
  LINES = 5469
  LINE_SAMPLES = 1164
  SAMPLE_TYPE = UNSIGNED_INTEGER
  SAMPLE_BITS = 8
  BANDS = 1
  BAND_STORAGE_TYPE = BAND_SEQUENTIAL
  MAXIMUM = 255
  MEAN = 77.4708
  MINIMUM = 1
  STANDARD_DEVIATION = 29.6173
END_OBJECT = IMAGE
/* MAP OBJECT DEFINITIONS */
OBJECT = IMAGE_MAP_PROJECTION
  ^DATA_SET_MAP_PROJECTION_CATALOG= "DSMAP.CAT"
  A_AXIS_RADIUS = 3396.0
  B_AXIS_RADIUS = 3396.0
  C_AXIS_RADIUS = 3396.0
  CENTER_LATITUDE = 0.0
  CENTER_LONGITUDE = 321.0
  COORDINATE_SYSTEM_NAME = PLANETOGRAPHIC
  COORDINATE_SYSTEM_TYPE = "BODY-FIXED ROTATING"
  EASTERNMOST_LONGITUDE = 321.486
  FIRST_STANDARD_PARALLEL = "N/A"
  LINE_FIRST_PIXEL = 1
  LINE_LAST_PIXEL = 5469
  LINE_PROJECTION_OFFSET = -3163.4375
  MAP_PROJECTION_ROTATION = 0.0
  MAP_PROJECTION_TYPE = SINUSOIDAL
  MAP_RESOLUTION = 592.713803866667
  MAP_SCALE = 0.1
  MAXIMUM_LATITUDE = -5.30823
  MINIMUM_LATITUDE = -14.5863
  POSITIVE_LONGITUDE_DIRECTION = EAST
  REFERENCE_LATITUDE = "N/A"
  REFERENCE_LONGITUDE = "N/A"
  SAMPLE_FIRST_PIXEL = 1
  SAMPLE_LAST_PIXEL = 1164
  SAMPLE_PROJECTION_OFFSET = 839.3125
  SECOND_STANDARD_PARALLEL = "N/A"
  WESTERNMOST_LONGITUDE = 319.612
END_OBJECT = IMAGE_MAP_PROJECTION
END
