PDS_VERSION_ID = PDS3
/* FILE DATA ELEMENTS */
RECORD_TYPE = UNDEFINED
/* POINTERS TO DATA OBJECTS */
^IMAGE = ("HQ123_0000_RE4.TIF")
/* IDENTIFICATION DATA ELEMENTS */
DATA_SET_ID = "MEX-M-HRSC-4-REFDR-MAPPROJECT-EXT9-V4.0"
DATA_SET_NAME = "MARS EXPRESS HRSC MAP PROJECTED REFDR EXTENSION9 V4.0"
DETECTOR_ID = MEX_HRSC_RED
EVENT_TYPE = "MARS-REGIONAL-MAPPING-Vo-Im-Eo"
INSTRUMENT_HOST_ID = MEX
INSTRUMENT_HOST_NAME = "MARS EXPRESS"
INSTRUMENT_ID = HRSC
INSTRUMENT_NAME = "HIGH RESOLUTION STEREO CAMERA"
MISSION_NAME = "MARS EXPRESS"
MISSION_PHASE_NAME = ME_Phase_50
PROCESSING_LEVEL_ID = 4
PRODUCT_CREATION_TIME = 2025-01-29T00:31:31.000Z
PRODUCT_ID = "HQ123_0000_RE4.TIF"
RELEASE_ID = 0019
REVISION_ID = 0000
/* QUALITY DATA ELEMENTS */
DATA_QUALITY_ID = 1
DATA_QUALITY_DESC = "Data calculated based on original SPICE kernels"
/* TIME DATA ELEMENTS */
SPACECRAFT_CLOCK_START_COUNT = "1/0674073090.65170"
SPACECRAFT_CLOCK_STOP_COUNT = "1/0674073341.16037"
START_TIME = 2024-09-10T18:33:25.979Z
STOP_TIME = 2024-09-10T18:36:23.049Z
/* ORBITAL DATA ELEMENTS */
ASCENDING_NODE_LONGITUDE = 90.4
MAXIMUM_RESOLUTION = 0.0643
FOOTPRINT_POINT_LATITUDE = (12.5624,12.5578,12.5551,12.5531,12.553 ,12.5466,12.3233,12.1004,11.7661, 11.4328,11.0988,10.8766,10.6546,10.4324 ,10.2106,9.87826,9.65661,9.4355,9.10429 ,8.88348,8.55231,8.22168,8.00178, 7.67196,7.45221,7.12283,6.79372,6.5749, 6.3566,6.13794,5.91961,5.70151,5.48388, 5.26616,5.04875,4.72275,4.50594,4.18066 ,3.96405,3.74781,3.31616,2.77775, 2.44833,2.22853,2.00848,1.67695,1.56666 ,1.48551,1.48685,1.48816,1.48943, 1.49078,1.49257,1.49267,1.49369,1.71346 ,1.93354,2.15397,2.37422,2.70456, 2.92042,3.35129,3.78306,3.99888,4.2157, 4.54094,4.75811,4.97545,5.30159,5.51931 ,5.73717,5.95525,6.17369,6.39257, 6.61155,6.94004,7.15965,7.37888,7.59852 ,7.81861,8.14862,8.47934,8.69982, 8.92045,9.14143,9.36264,9.58376,9.91607 ,10.1376,10.3597,10.5816,10.8038, 11.1368,11.3589,11.6932,11.916,12.1391, 12.3628,12.4746,12.5624)
FOOTPRINT_POINT_LONGITUDE = (63.4352,62.8221,62.4096,62.0637, 62.0509,62.0485,62.046,62.0434,62.0395, 62.0353,62.0312,62.0283,62.0253,62.0223 ,62.0193,62.0146,62.0114,62.0081, 62.0031,61.9997,61.9945,61.9892,61.9856 ,61.9801,61.9763,61.9706,61.9648, 61.9609,61.9568,61.9528,61.9486,61.9445 ,61.9402,61.936,61.9316,61.9251,61.9206 ,61.9139,61.9093,61.9047,61.8954, 61.8834,61.876,61.8708,61.8656,61.8581, 61.8556,61.8536,62.0969,62.4101,62.8353 ,63.0561,63.306,63.3199,63.3246,63.3257 ,63.3269,63.3282,63.3293,63.3308, 63.3325,63.3351,63.3378,63.3391,63.3408 ,63.3432,63.3449,63.3466,63.3492,63.351 ,63.3527,63.3545,63.3565,63.3587, 63.3608,63.3639,63.3662,63.3682,63.3705 ,63.3729,63.3763,63.38,63.3824,63.3848, 63.3874,63.3901,63.3926,63.3967,63.3993 ,63.4023,63.4051,63.4079,63.412,63.4148 ,63.4194,63.4225,63.4256,63.4292, 63.4309,63.4352)
ORBIT_NUMBER = 26123
ORBITAL_ECCENTRICITY = 0.573
ORBITAL_INCLINATION = 87.11
ORBITAL_SEMIMAJOR_AXIS = 8849.73
PERIAPSIS_ALTITUDE = 384.73
PERIAPSIS_ARGUMENT_ANGLE = 167.43
PERIAPSIS_TIME = 2024-09-10T18:32:56.000Z
SPACECRAFT_ORIENTATION = (0.0,-1.0,0.0)
^MEX_ORIENTATION_DESC = "MEX_ORIENTATION_DESC.TXT"
SPACECRAFT_POINTING_MODE = ACROSSTRACK
^MEX_POINTING_DESC = "MEX_POINTING_DESC.TXT"
RIGHT_ASCENSION = -1e+32
DECLINATION = -1e+32
OFFSET_ANGLE = 0.39
SPACECRAFT_SOLAR_DISTANCE = 2.20914e+08
TARGET_NAME = MARS
/* CAMERA DATA ELEMENTS */
DETECTOR_TEMPERATURE = 18.7783
FOCAL_PLANE_TEMPERATURE = 8.5833
INST_CMPRS_NAME = "DISCRETE COSINE TRANSFORMATION (DCT)"
INST_CMPRS_RATIO = 6.87326
INST_CMPRS_QUALITY = 0
INST_CMPRS_QUANTZ_TBL_ID = 0
INSTRUMENT_TEMPERATURE = 10.8262
LENS_TEMPERATURE = 8.5833
MACROPIXEL_SIZE = 4
MISSING_FRAMES = 0
PIXEL_SUBSAMPLING_FLAG = N
SIGNAL_CHAIN_ID = 2
/* RADIOMETRIC DATA ELEMENTS */
BANDWIDTH = 48.0
CENTER_FILTER_WAVELENGTH = 748.0
RADIANCE_OFFSET = 0.397836
RADIANCE_SCALING_FACTOR = 0.00107194
REFLECTANCE_SCALING_FACTOR = 0.000119382
MEX:REFLECTANCE_OFFSET = 0.0443074
/* IMAGE OBJECT DEFINITIONS */
OBJECT = IMAGE
  INTERCHANGE_FORMAT = BINARY
  LINES = 13140
  LINE_SAMPLES = 1897
  SAMPLE_TYPE = UNSIGNED_INTEGER
  SAMPLE_BITS = 8
  BANDS = 1
  BAND_STORAGE_TYPE = BAND_SEQUENTIAL
  MAXIMUM = 255
  MEAN = 96.6881
  MINIMUM = 1
  STANDARD_DEVIATION = 39.2111
END_OBJECT = IMAGE
/* MAP OBJECT DEFINITIONS */
OBJECT = IMAGE_MAP_PROJECTION
  ^DATA_SET_MAP_PROJECTION_CATALOG= "DSMAP.CAT"
  A_AXIS_RADIUS = 3396.0
  B_AXIS_RADIUS = 3396.0
  C_AXIS_RADIUS = 3396.0
  CENTER_LATITUDE = 0.0
  CENTER_LONGITUDE = 63.0
  COORDINATE_SYSTEM_NAME = PLANETOGRAPHIC
  COORDINATE_SYSTEM_TYPE = "BODY-FIXED ROTATING"
  EASTERNMOST_LONGITUDE = 63.4352
  FIRST_STANDARD_PARALLEL = "N/A"
  LINE_FIRST_PIXEL = 1
  LINE_LAST_PIXEL = 13140
  LINE_PROJECTION_OFFSET = 14893.875
  MAP_PROJECTION_ROTATION = 0.0
  MAP_PROJECTION_TYPE = SINUSOIDAL
  MAP_RESOLUTION = 1185.42760773333
  MAP_SCALE = 0.05
  MAXIMUM_LATITUDE = 12.5624
  MINIMUM_LATITUDE = 1.48551
  POSITIVE_LONGITUDE_DIRECTION = EAST
  REFERENCE_LATITUDE = "N/A"
  REFERENCE_LONGITUDE = "N/A"
  SAMPLE_FIRST_PIXEL = 1
  SAMPLE_LAST_PIXEL = 1897
  SAMPLE_PROJECTION_OFFSET = 1351.375
  SECOND_STANDARD_PARALLEL = "N/A"
  WESTERNMOST_LONGITUDE = 61.8536
END_OBJECT = IMAGE_MAP_PROJECTION
END
