PDS_VERSION_ID = PDS3
/* FILE DATA ELEMENTS */
RECORD_TYPE = UNDEFINED
/* POINTERS TO DATA OBJECTS */
^IMAGE = ("HQ121_0000_BL4.TIF")
/* IDENTIFICATION DATA ELEMENTS */
DATA_SET_ID = "MEX-M-HRSC-4-REFDR-MAPPROJECT-EXT9-V4.0"
DATA_SET_NAME = "MARS EXPRESS HRSC MAP PROJECTED REFDR EXTENSION9 V4.0"
DETECTOR_ID = MEX_HRSC_BLUE
EVENT_TYPE = "MARS-LOCAL-CARTOGRAPHY-Vo-Te"
INSTRUMENT_HOST_ID = MEX
INSTRUMENT_HOST_NAME = "MARS EXPRESS"
INSTRUMENT_ID = HRSC
INSTRUMENT_NAME = "HIGH RESOLUTION STEREO CAMERA"
MISSION_NAME = "MARS EXPRESS"
MISSION_PHASE_NAME = ME_Phase_50
PROCESSING_LEVEL_ID = 4
PRODUCT_CREATION_TIME = 2025-01-29T00:31:31.000Z
PRODUCT_ID = "HQ121_0000_BL4.TIF"
RELEASE_ID = 0019
REVISION_ID = 0000
/* QUALITY DATA ELEMENTS */
DATA_QUALITY_ID = 1
DATA_QUALITY_DESC = "Data calculated based on original SPICE kernels"
/* TIME DATA ELEMENTS */
SPACECRAFT_CLOCK_START_COUNT = "1/0674023217.00367"
SPACECRAFT_CLOCK_STOP_COUNT = "1/0674023718.00258"
START_TIME = 2024-09-10T04:42:06.407Z
STOP_TIME = 2024-09-10T04:47:47.176Z
/* ORBITAL DATA ELEMENTS */
ASCENDING_NODE_LONGITUDE = 90.44
MAXIMUM_RESOLUTION = 0.0857
FOOTPRINT_POINT_LATITUDE = (-14.1727,-14.1568,-14.1387,-14.1116, -14.1109,-14.1204,-14.586,-15.2118, -15.8467,-16.3281,-16.9756,-17.6312, -18.295,-18.9674,-19.4771,-19.8197, -20.1654,-20.6876,-21.0384,-21.3926, -21.7483,-22.1073,-22.4689,-23.0159, -23.3823,-23.7474,-24.1115,-24.4743, -24.8361,-25.1964,-25.5832,-25.9904, -26.3962,-26.8003,-27.2029,-27.6038, -28.0078,-28.4149,-28.8254,-29.2391, -29.6566,-30.0775,-30.502,-30.9303, -31.3622,-31.7977,-32.2374,-32.4587, -32.4696,-32.4856,-32.5036,-32.523, -32.5335,-32.5453,-32.5576,-32.558, -32.5563,-31.8947,-31.4581,-31.0258, -30.597,-30.1719,-29.7503,-29.3323, -28.9178,-28.5067,-28.099,-27.6943, -27.2927,-26.8895,-26.4847,-26.0771, -25.6705,-25.2819,-24.921,-24.5588, -24.1955,-23.8309,-23.4653,-23.0982, -22.5505,-22.1882,-21.8286,-21.4722, -21.1172,-20.7659,-20.2426,-19.8962, -19.5532,-19.0426,-18.7036,-18.369, -17.7039,-17.0471,-16.3984,-15.5985, -14.9672,-14.3421,-14.1878,-14.1727)
FOOTPRINT_POINT_LONGITUDE = (265.793,265.216,264.625,263.828, 263.808,263.834,263.814,263.782,263.75, 263.724,263.689,263.653,263.615,263.576 ,263.546,263.526,263.504,263.472,263.45 ,263.428,263.406,263.382,263.359, 263.323,263.298,263.273,263.248,263.223 ,263.198,263.172,263.144,263.114, 263.084,263.054,263.023,262.992,262.96, 262.927,262.894,262.86,262.825,262.79, 262.753,262.716,262.678,262.638,262.598 ,262.578,262.577,263.013,263.519, 264.184,264.614,265.205,266.083,266.116 ,266.126,266.101,266.086,266.071, 266.056,266.043,266.03,266.017,266.005, 265.994,265.983,265.973,265.963,265.953 ,265.944,265.935,265.926,265.918, 265.911,265.904,265.898,265.891,265.885 ,265.879,265.871,265.866,265.861, 265.856,265.852,265.847,265.841,265.837 ,265.834,265.829,265.826,265.823, 265.818,265.813,265.809,265.805,265.802 ,265.799,265.799,265.793)
ORBIT_NUMBER = 26121
ORBITAL_ECCENTRICITY = 0.573
ORBITAL_INCLINATION = 87.09
ORBITAL_SEMIMAJOR_AXIS = 8856.33
PERIAPSIS_ALTITUDE = 384.63
PERIAPSIS_ARGUMENT_ANGLE = 167.77
PERIAPSIS_TIME = 2024-09-10T04:34:52.000Z
SPACECRAFT_ORIENTATION = (0.0,-1.0,0.0)
^MEX_ORIENTATION_DESC = "MEX_ORIENTATION_DESC.TXT"
SPACECRAFT_POINTING_MODE = ACROSSTRACK
^MEX_POINTING_DESC = "MEX_POINTING_DESC.TXT"
RIGHT_ASCENSION = -1e+32
DECLINATION = -1e+32
OFFSET_ANGLE = -1.374
SPACECRAFT_SOLAR_DISTANCE = 2.20804e+08
TARGET_NAME = MARS
/* CAMERA DATA ELEMENTS */
DETECTOR_TEMPERATURE = 17.1471
FOCAL_PLANE_TEMPERATURE = 8.3794
INST_CMPRS_NAME = "DISCRETE COSINE TRANSFORMATION (DCT)"
INST_CMPRS_RATIO = 6.49339
INST_CMPRS_QUALITY = 0
INST_CMPRS_QUANTZ_TBL_ID = 0
INSTRUMENT_TEMPERATURE = 10.4184
LENS_TEMPERATURE = 8.7872
MACROPIXEL_SIZE = 4
MISSING_FRAMES = 0
PIXEL_SUBSAMPLING_FLAG = N
SIGNAL_CHAIN_ID = 2
/* RADIOMETRIC DATA ELEMENTS */
BANDWIDTH = 76.0
CENTER_FILTER_WAVELENGTH = 444.0
RADIANCE_OFFSET = 0.302862
RADIANCE_SCALING_FACTOR = 0.00161698
REFLECTANCE_SCALING_FACTOR = 8.09984e-05
MEX:REFLECTANCE_OFFSET = 0.0151711
/* IMAGE OBJECT DEFINITIONS */
OBJECT = IMAGE
  INTERCHANGE_FORMAT = BINARY
  LINES = 10914
  LINE_SAMPLES = 1753
  SAMPLE_TYPE = UNSIGNED_INTEGER
  SAMPLE_BITS = 8
  BANDS = 1
  BAND_STORAGE_TYPE = BAND_SEQUENTIAL
  MAXIMUM = 255
  MEAN = 95.0005
  MINIMUM = 1
  STANDARD_DEVIATION = 20.8513
END_OBJECT = IMAGE
/* MAP OBJECT DEFINITIONS */
OBJECT = IMAGE_MAP_PROJECTION
  ^DATA_SET_MAP_PROJECTION_CATALOG= "DSMAP.CAT"
  A_AXIS_RADIUS = 3396.0
  B_AXIS_RADIUS = 3396.0
  C_AXIS_RADIUS = 3396.0
  CENTER_LATITUDE = 0.0
  CENTER_LONGITUDE = 265.0
  COORDINATE_SYSTEM_NAME = PLANETOGRAPHIC
  COORDINATE_SYSTEM_TYPE = "BODY-FIXED ROTATING"
  EASTERNMOST_LONGITUDE = 266.126
  FIRST_STANDARD_PARALLEL = "N/A"
  LINE_FIRST_PIXEL = 1
  LINE_LAST_PIXEL = 10914
  LINE_PROJECTION_OFFSET = -8379.125
  MAP_PROJECTION_ROTATION = 0.0
  MAP_PROJECTION_TYPE = SINUSOIDAL
  MAP_RESOLUTION = 592.713803866667
  MAP_SCALE = 0.1
  MAXIMUM_LATITUDE = -14.1109
  MINIMUM_LATITUDE = -32.558
  POSITIVE_LONGITUDE_DIRECTION = EAST
  REFERENCE_LATITUDE = "N/A"
  REFERENCE_LONGITUDE = "N/A"
  SAMPLE_FIRST_PIXEL = 1
  SAMPLE_LAST_PIXEL = 1753
  SAMPLE_PROJECTION_OFFSET = 1207.375
  SECOND_STANDARD_PARALLEL = "N/A"
  WESTERNMOST_LONGITUDE = 262.577
END_OBJECT = IMAGE_MAP_PROJECTION
END
