PDS_VERSION_ID = PDS3
/* FILE DATA ELEMENTS */
RECORD_TYPE = UNDEFINED
/* POINTERS TO DATA OBJECTS */
^IMAGE = ("HQ119_0000_S24.TIF")
/* IDENTIFICATION DATA ELEMENTS */
DATA_SET_ID = "MEX-M-HRSC-4-REFDR-MAPPROJECT-EXT9-V4.0"
DATA_SET_NAME = "MARS EXPRESS HRSC MAP PROJECTED REFDR EXTENSION9 V4.0"
DETECTOR_ID = MEX_HRSC_S2
EVENT_TYPE = "MARS-REGIONAL-MAPPING-Vo-Im"
INSTRUMENT_HOST_ID = MEX
INSTRUMENT_HOST_NAME = "MARS EXPRESS"
INSTRUMENT_ID = HRSC
INSTRUMENT_NAME = "HIGH RESOLUTION STEREO CAMERA"
MISSION_NAME = "MARS EXPRESS"
MISSION_PHASE_NAME = ME_Phase_50
PROCESSING_LEVEL_ID = 4
PRODUCT_CREATION_TIME = 2025-01-29T00:31:31.000Z
PRODUCT_ID = "HQ119_0000_S24.TIF"
RELEASE_ID = 0019
REVISION_ID = 0000
/* QUALITY DATA ELEMENTS */
DATA_QUALITY_ID = 1
DATA_QUALITY_DESC = "Data calculated based on original SPICE kernels"
/* TIME DATA ELEMENTS */
SPACECRAFT_CLOCK_START_COUNT = "1/0673972841.00330"
SPACECRAFT_CLOCK_STOP_COUNT = "1/0673973317.00671"
START_TIME = 2024-09-09T14:43:08.263Z
STOP_TIME = 2024-09-09T14:49:25.796Z
/* ORBITAL DATA ELEMENTS */
ASCENDING_NODE_LONGITUDE = 90.47
MAXIMUM_RESOLUTION = 0.0441
FOOTPRINT_POINT_LATITUDE = (-9.3621,-9.29688,-9.22553,-9.1318, -9.12919,-9.13496,-9.62186,-10.1156, -10.7792,-11.2789,-11.9529,-12.6345, -13.3238,-13.6713,-14.0193,-14.3731, -14.9028,-15.259,-15.6182,-16.1594, -16.7056,-17.0726,-17.4433,-17.8152, -18.1895,-18.5672,-18.9474,-19.3293, -19.7152,-20.0994,-20.4839,-20.8663, -21.2464,-21.619,-22.036,-22.455, -22.8717,-23.2903,-23.7029,-24.3273, -24.7465,-25.1711,-25.5977,-26.028, -26.4604,-26.898,-27.7747,-28.0069, -28.0503,-28.115,-28.1936,-28.2396, -28.2738,-28.3126,-28.3396,-28.3433, -28.3432,-27.9005,-27.4544,-27.0119, -26.5746,-26.1414,-25.7106,-25.283, -24.8591,-24.4388,-24.021,-23.6045, -23.1853,-22.764,-22.3393,-21.918, -21.5417,-21.1632,-20.7833,-20.4011, -20.0171,-19.6301,-19.2467,-18.8654, -18.4856,-18.1103,-17.5509,-16.9967, -16.4477,-16.083,-15.7221,-15.1846, -14.6524,-14.2991,-13.9489,-13.5998, -12.9089,-12.2235,-11.3825,-10.7138, -10.0538,-9.56277,-9.39993,-9.3621)
FOOTPRINT_POINT_LONGITUDE = (109.411,108.829,108.225,107.473, 107.453,107.452,107.43,107.407,107.378, 107.354,107.32,107.285,107.248,107.229, 107.209,107.191,107.159,107.138,107.117 ,107.083,107.048,107.024,107.001, 106.976,106.951,106.925,106.899,106.872 ,106.845,106.818,106.792,106.766, 106.739,106.708,106.676,106.639,106.602 ,106.568,106.531,106.476,106.436, 106.398,106.358,106.317,106.274,106.231 ,106.134,106.117,106.113,106.745, 107.575,108.119,108.556,109.089,109.581 ,109.614,109.626,109.614,109.602,109.59 ,109.579,109.569,109.559,109.55,109.541 ,109.533,109.525,109.517,109.51,109.503 ,109.496,109.49,109.485,109.479,109.475 ,109.47,109.466,109.461,109.457,109.453 ,109.45,109.447,109.442,109.438,109.434 ,109.432,109.43,109.427,109.424,109.423 ,109.421,109.42,109.418,109.416,109.415 ,109.414,109.413,109.413,109.413, 109.411)
ORBIT_NUMBER = 26119
ORBITAL_ECCENTRICITY = 0.573
ORBITAL_INCLINATION = 87.09
ORBITAL_SEMIMAJOR_AXIS = 8849.31
PERIAPSIS_ALTITUDE = 384.42
PERIAPSIS_ARGUMENT_ANGLE = 168.09
PERIAPSIS_TIME = 2024-09-09T14:36:39.000Z
SPACECRAFT_ORIENTATION = (0.0,-1.0,0.0)
^MEX_ORIENTATION_DESC = "MEX_ORIENTATION_DESC.TXT"
SPACECRAFT_POINTING_MODE = ACROSSTRACK
^MEX_POINTING_DESC = "MEX_POINTING_DESC.TXT"
RIGHT_ASCENSION = -1e+32
DECLINATION = -1e+32
OFFSET_ANGLE = -2.101
SPACECRAFT_SOLAR_DISTANCE = 2.20694e+08
TARGET_NAME = MARS
/* CAMERA DATA ELEMENTS */
DETECTOR_TEMPERATURE = 19.1861
FOCAL_PLANE_TEMPERATURE = 8.5833
INST_CMPRS_NAME = "DISCRETE COSINE TRANSFORMATION (DCT)"
INST_CMPRS_RATIO = 10.1087
INST_CMPRS_QUALITY = 0
INST_CMPRS_QUANTZ_TBL_ID = 0
INSTRUMENT_TEMPERATURE = 10.8262
LENS_TEMPERATURE = 8.5833
MACROPIXEL_SIZE = 2
MISSING_FRAMES = 0
PIXEL_SUBSAMPLING_FLAG = N
SIGNAL_CHAIN_ID = 1
/* RADIOMETRIC DATA ELEMENTS */
BANDWIDTH = 178.0
CENTER_FILTER_WAVELENGTH = 679.0
RADIANCE_OFFSET = 2.40288
RADIANCE_SCALING_FACTOR = 0.00913751
REFLECTANCE_SCALING_FACTOR = 0.000235689
MEX:REFLECTANCE_OFFSET = 0.0619788
/* IMAGE OBJECT DEFINITIONS */
OBJECT = IMAGE
  INTERCHANGE_FORMAT = BINARY
  LINES = 22568
  LINE_SAMPLES = 3329
  SAMPLE_TYPE = UNSIGNED_INTEGER
  SAMPLE_BITS = 8
  BANDS = 1
  BAND_STORAGE_TYPE = BAND_SEQUENTIAL
  MAXIMUM = 255
  MEAN = 96.6699
  MINIMUM = 1
  STANDARD_DEVIATION = 37.1484
END_OBJECT = IMAGE
/* MAP OBJECT DEFINITIONS */
OBJECT = IMAGE_MAP_PROJECTION
  ^DATA_SET_MAP_PROJECTION_CATALOG= "DSMAP.CAT"
  A_AXIS_RADIUS = 3396.0
  B_AXIS_RADIUS = 3396.0
  C_AXIS_RADIUS = 3396.0
  CENTER_LATITUDE = 0.0
  CENTER_LONGITUDE = 108.0
  COORDINATE_SYSTEM_NAME = PLANETOGRAPHIC
  COORDINATE_SYSTEM_TYPE = "BODY-FIXED ROTATING"
  EASTERNMOST_LONGITUDE = 109.626
  FIRST_STANDARD_PARALLEL = "N/A"
  LINE_FIRST_PIXEL = 1
  LINE_LAST_PIXEL = 22568
  LINE_PROJECTION_OFFSET = -10961.25
  MAP_PROJECTION_ROTATION = 0.0
  MAP_PROJECTION_TYPE = SINUSOIDAL
  MAP_RESOLUTION = 1185.42760773333
  MAP_SCALE = 0.05
  MAXIMUM_LATITUDE = -9.129189999999999
  MINIMUM_LATITUDE = -28.3433
  POSITIVE_LONGITUDE_DIRECTION = EAST
  REFERENCE_LATITUDE = "N/A"
  REFERENCE_LONGITUDE = "N/A"
  SAMPLE_FIRST_PIXEL = 1
  SAMPLE_LAST_PIXEL = 3329
  SAMPLE_PROJECTION_OFFSET = 1720.25
  SECOND_STANDARD_PARALLEL = "N/A"
  WESTERNMOST_LONGITUDE = 106.113
END_OBJECT = IMAGE_MAP_PROJECTION
END
