PDS_VERSION_ID = PDS3
/* FILE DATA ELEMENTS */
RECORD_TYPE = UNDEFINED
/* POINTERS TO DATA OBJECTS */
^IMAGE = ("HQ119_0000_P24.TIF")
/* IDENTIFICATION DATA ELEMENTS */
DATA_SET_ID = "MEX-M-HRSC-4-REFDR-MAPPROJECT-EXT9-V4.0"
DATA_SET_NAME = "MARS EXPRESS HRSC MAP PROJECTED REFDR EXTENSION9 V4.0"
DETECTOR_ID = MEX_HRSC_P2
EVENT_TYPE = "MARS-REGIONAL-MAPPING-Vo-Im"
INSTRUMENT_HOST_ID = MEX
INSTRUMENT_HOST_NAME = "MARS EXPRESS"
INSTRUMENT_ID = HRSC
INSTRUMENT_NAME = "HIGH RESOLUTION STEREO CAMERA"
MISSION_NAME = "MARS EXPRESS"
MISSION_PHASE_NAME = ME_Phase_50
PROCESSING_LEVEL_ID = 4
PRODUCT_CREATION_TIME = 2025-01-29T00:31:31.000Z
PRODUCT_ID = "HQ119_0000_P24.TIF"
RELEASE_ID = 0019
REVISION_ID = 0000
/* QUALITY DATA ELEMENTS */
DATA_QUALITY_ID = 1
DATA_QUALITY_DESC = "Data calculated based on original SPICE kernels"
/* TIME DATA ELEMENTS */
SPACECRAFT_CLOCK_START_COUNT = "1/0673972841.00330"
SPACECRAFT_CLOCK_STOP_COUNT = "1/0673973317.00671"
START_TIME = 2024-09-09T14:42:49.882Z
STOP_TIME = 2024-09-09T14:48:48.859Z
/* ORBITAL DATA ELEMENTS */
ASCENDING_NODE_LONGITUDE = 90.47
MAXIMUM_RESOLUTION = 0.0416
FOOTPRINT_POINT_LATITUDE = (-9.33834,-9.29252,-9.24233,-9.17636, -9.17453,-9.17849,-9.82716,-10.32, -10.9816,-11.6486,-12.3245,-12.8369, -13.1787,-13.5256,-13.8713,-14.223, -14.5733,-14.9275,-15.2821,-15.6408, -16.1813,-16.5441,-16.9111,-17.4647, -17.8359,-18.2112,-18.5876,-18.9674, -19.3502,-19.7355,-20.3201,-20.9125, -21.3091,-21.6999,-22.2851,-22.6718, -23.0566,-23.6961,-24.13,-24.5623, -24.9918,-25.4192,-25.8502,-26.2848, -26.7231,-27.1654,-27.8292,-28.0609, -28.1147,-28.1722,-28.2108,-28.2652, -28.296,-28.325,-28.3264,-28.3262, -27.88,-27.4313,-26.9872,-26.5473, -26.1109,-25.6781,-25.2486,-24.8176, -24.3845,-23.9491,-23.3018,-22.9139, -22.5241,-22.133,-21.7403,-21.148, -20.753,-20.3605,-19.972,-19.5853, -19.2013,-18.8205,-18.2542,-17.6936, -17.1381,-16.7698,-16.4053,-16.0416, -15.6818,-15.1461,-14.7902,-14.4392, -14.0865,-13.7396,-13.2206,-12.8779, -12.3669,-12.0211,-11.1893,-10.5259, -10.0315,-9.54411,-9.3815,-9.33834)
FOOTPRINT_POINT_LONGITUDE = (109.399,108.833,108.243,107.511, 107.491,107.491,107.463,107.441,107.413 ,107.382,107.349,107.323,107.306, 107.289,107.27,107.253,107.234,107.214, 107.194,107.174,107.142,107.12,107.098, 107.065,107.041,107.018,106.994,106.969 ,106.944,106.919,106.881,106.844, 106.818,106.787,106.743,106.711,106.679 ,106.629,106.593,106.558,106.521, 106.484,106.446,106.407,106.368,106.327 ,106.258,106.243,106.238,106.969, 107.493,108.329,108.867,109.52,109.551, 109.562,109.553,109.543,109.533,109.524 ,109.516,109.508,109.5,109.493,109.486, 109.48,109.471,109.465,109.46,109.455, 109.451,109.445,109.441,109.437,109.434 ,109.43,109.428,109.425,109.421,109.418 ,109.414,109.413,109.411,109.409, 109.408,109.406,109.405,109.404,109.403 ,109.403,109.402,109.402,109.401, 109.397,109.401,109.401,109.401,109.402 ,109.402,109.399)
ORBIT_NUMBER = 26119
ORBITAL_ECCENTRICITY = 0.573
ORBITAL_INCLINATION = 87.09
ORBITAL_SEMIMAJOR_AXIS = 8849.31
PERIAPSIS_ALTITUDE = 384.42
PERIAPSIS_ARGUMENT_ANGLE = 168.09
PERIAPSIS_TIME = 2024-09-09T14:36:39.000Z
SPACECRAFT_ORIENTATION = (0.0,-1.0,0.0)
^MEX_ORIENTATION_DESC = "MEX_ORIENTATION_DESC.TXT"
SPACECRAFT_POINTING_MODE = ACROSSTRACK
^MEX_POINTING_DESC = "MEX_POINTING_DESC.TXT"
RIGHT_ASCENSION = -1e+32
DECLINATION = -1e+32
OFFSET_ANGLE = -2.101
SPACECRAFT_SOLAR_DISTANCE = 2.20694e+08
TARGET_NAME = MARS
/* CAMERA DATA ELEMENTS */
DETECTOR_TEMPERATURE = 19.1861
FOCAL_PLANE_TEMPERATURE = 8.5833
INST_CMPRS_NAME = "DISCRETE COSINE TRANSFORMATION (DCT)"
INST_CMPRS_RATIO = 7.71769
INST_CMPRS_QUALITY = 0
INST_CMPRS_QUANTZ_TBL_ID = 0
INSTRUMENT_TEMPERATURE = 10.8262
LENS_TEMPERATURE = 8.5833
MACROPIXEL_SIZE = 2
MISSING_FRAMES = 0
PIXEL_SUBSAMPLING_FLAG = N
SIGNAL_CHAIN_ID = 3
/* RADIOMETRIC DATA ELEMENTS */
BANDWIDTH = 177.0
CENTER_FILTER_WAVELENGTH = 676.5
RADIANCE_OFFSET = 2.24277
RADIANCE_SCALING_FACTOR = 0.00790153
REFLECTANCE_SCALING_FACTOR = 0.000204057
MEX:REFLECTANCE_OFFSET = 0.0579193
/* IMAGE OBJECT DEFINITIONS */
OBJECT = IMAGE
  INTERCHANGE_FORMAT = BINARY
  LINES = 22568
  LINE_SAMPLES = 3329
  SAMPLE_TYPE = UNSIGNED_INTEGER
  SAMPLE_BITS = 8
  BANDS = 1
  BAND_STORAGE_TYPE = BAND_SEQUENTIAL
  MAXIMUM = 255
  MEAN = 99.3438
  MINIMUM = 1
  STANDARD_DEVIATION = 33.8314
END_OBJECT = IMAGE
/* MAP OBJECT DEFINITIONS */
OBJECT = IMAGE_MAP_PROJECTION
  ^DATA_SET_MAP_PROJECTION_CATALOG= "DSMAP.CAT"
  A_AXIS_RADIUS = 3396.0
  B_AXIS_RADIUS = 3396.0
  C_AXIS_RADIUS = 3396.0
  CENTER_LATITUDE = 0.0
  CENTER_LONGITUDE = 108.0
  COORDINATE_SYSTEM_NAME = PLANETOGRAPHIC
  COORDINATE_SYSTEM_TYPE = "BODY-FIXED ROTATING"
  EASTERNMOST_LONGITUDE = 109.562
  FIRST_STANDARD_PARALLEL = "N/A"
  LINE_FIRST_PIXEL = 1
  LINE_LAST_PIXEL = 22568
  LINE_PROJECTION_OFFSET = -10961.25
  MAP_PROJECTION_ROTATION = 0.0
  MAP_PROJECTION_TYPE = SINUSOIDAL
  MAP_RESOLUTION = 1185.42760773333
  MAP_SCALE = 0.05
  MAXIMUM_LATITUDE = -9.174530000000001
  MINIMUM_LATITUDE = -28.3264
  POSITIVE_LONGITUDE_DIRECTION = EAST
  REFERENCE_LATITUDE = "N/A"
  REFERENCE_LONGITUDE = "N/A"
  SAMPLE_FIRST_PIXEL = 1
  SAMPLE_LAST_PIXEL = 3329
  SAMPLE_PROJECTION_OFFSET = 1720.25
  SECOND_STANDARD_PARALLEL = "N/A"
  WESTERNMOST_LONGITUDE = 106.238
END_OBJECT = IMAGE_MAP_PROJECTION
END
