PDS_VERSION_ID = PDS3
/* FILE DATA ELEMENTS */
RECORD_TYPE = UNDEFINED
/* POINTERS TO DATA OBJECTS */
^IMAGE = ("HQ107_0000_ND4.TIF")
/* IDENTIFICATION DATA ELEMENTS */
DATA_SET_ID = "MEX-M-HRSC-4-REFDR-MAPPROJECT-EXT9-V4.0"
DATA_SET_NAME = "MARS EXPRESS HRSC MAP PROJECTED REFDR EXTENSION9 V4.0"
DETECTOR_ID = MEX_HRSC_NADIR
EVENT_TYPE = "MARS-TERMINATOR-CALIBRATION-Tc"
INSTRUMENT_HOST_ID = MEX
INSTRUMENT_HOST_NAME = "MARS EXPRESS"
INSTRUMENT_ID = HRSC
INSTRUMENT_NAME = "HIGH RESOLUTION STEREO CAMERA"
MISSION_NAME = "MARS EXPRESS"
MISSION_PHASE_NAME = ME_Phase_50
PROCESSING_LEVEL_ID = 4
PRODUCT_CREATION_TIME = 2025-01-29T00:31:31.000Z
PRODUCT_ID = "HQ107_0000_ND4.TIF"
RELEASE_ID = 0019
REVISION_ID = 0000
/* QUALITY DATA ELEMENTS */
DATA_QUALITY_ID = 1
DATA_QUALITY_DESC = "Data calculated based on original SPICE kernels"
/* TIME DATA ELEMENTS */
SPACECRAFT_CLOCK_START_COUNT = "1/0673664113.00399"
SPACECRAFT_CLOCK_STOP_COUNT = "1/0673664532.61968"
START_TIME = 2024-09-06T00:57:43.686Z
STOP_TIME = 2024-09-06T01:01:19.720Z
/* ORBITAL DATA ELEMENTS */
ASCENDING_NODE_LONGITUDE = 90.68
MAXIMUM_RESOLUTION = 0.329
FOOTPRINT_POINT_LATITUDE = (-49.1496,-48.6931,-46.7503,-46.7846, -42.9268,-43.5949,-39.7783,-38.993, -35.4788,-35.5038,-32.6866,-30.5936, -31.0104,-28.3809,-26.3722,-22.861, -23.1098,-20.5777,-20.9365,-18.6644, -17.8076,-15.0031,-15.9205,-14.2488, -12.9865,-11.2035,-12.2033,-10.378, -10.8739,-9.07688,-10.3022,-8.47169, -9.04829,-7.14099,-7.61217,-5.4121, -6.58295,-3.95854,-5.17858,-0.553338, -0.246781,0.939594,2.34824,5.0707, 6.72352,11.162,11.0122,14.1798,13.4513, 17.3936,19.105,21.9913,23.8773,27.1062, 29.8775,31.0462,34.379,39.3952,42.2703, 45.7624,48.6564,52.0539,55.8991,58.558, 58.6042,58.6656,59.5144,59.4884,58.0467 ,55.4794,53.4779,50.3329,47.946,43.5414 ,40.4729,37.8094,33.5676,30.5821, 28.0059,23.8783,17.9822,12.8999,8.70538 ,6.02072,3.25892,-2.48142,-6.0814, -9.90866,-13.794,-18.1594,-21.6064, -26.2819,-29.7237,-33.7912,-36.6459, -39.9852,-43.323,-47.4237,-48.7801, -49.1496)
FOOTPRINT_POINT_LONGITUDE = (118.509,118.508,122.394,129.229, 134.348,138.376,141.638,146.101,147.31, 150.793,150.793,152.877,155.946,154.777 ,160.19,159.327,162.399,161.099,164.23, 162.034,165.582,164.873,167.728,165.442 ,169.403,167.035,169.836,167.437, 170.552,168.309,170.708,168.543,171.21, 169.177,172.1,170.095,172.517,170.798, 173.374,172.367,175.587,173.072,176.421 ,174.83,178.028,177.294,180.091,178.567 ,181.234,179.648,183.254,181.575, 184.893,185.847,184.53,187.734,186.311, 188.702,189.352,190.49,194.232,193.065, 195.432,197.106,197.423,197.332,187.095 ,179.8,166.37,156.159,150.891,144.739, 141.112,135.91,133.049,130.934,128.099, 126.417,125.132,123.338,121.227,119.748 ,118.703,118.116,117.583,116.65,116.178 ,115.763,115.439,115.198,115.098, 115.105,115.223,115.509,115.819,116.306 ,116.953,118.026,118.463,118.509)
ORBIT_NUMBER = 26107
ORBITAL_ECCENTRICITY = 0.574
ORBITAL_INCLINATION = 87.08
ORBITAL_SEMIMAJOR_AXIS = 8861.12
PERIAPSIS_ALTITUDE = 383.14
PERIAPSIS_ARGUMENT_ANGLE = 170.17
PERIAPSIS_TIME = 2024-09-06T02:47:49.000Z
SPACECRAFT_ORIENTATION = (0.0,-1.0,0.0)
^MEX_ORIENTATION_DESC = "MEX_ORIENTATION_DESC.TXT"
SPACECRAFT_POINTING_MODE = FIXED
^MEX_POINTING_DESC = "MEX_POINTING_DESC.TXT"
RIGHT_ASCENSION = -1e+32
DECLINATION = -1e+32
OFFSET_ANGLE = -1e+32
SPACECRAFT_SOLAR_DISTANCE = 2.20037e+08
TARGET_NAME = MARS
/* CAMERA DATA ELEMENTS */
DETECTOR_TEMPERATURE = 17.9627
FOCAL_PLANE_TEMPERATURE = 8.1755
INST_CMPRS_NAME = "DISCRETE COSINE TRANSFORMATION (DCT)"
INST_CMPRS_RATIO = 12.0589
INST_CMPRS_QUALITY = 0
INST_CMPRS_QUANTZ_TBL_ID = 0
INSTRUMENT_TEMPERATURE = 11.0301
LENS_TEMPERATURE = 8.9911
MACROPIXEL_SIZE = 1
MISSING_FRAMES = 0
PIXEL_SUBSAMPLING_FLAG = N
SIGNAL_CHAIN_ID = 0
/* RADIOMETRIC DATA ELEMENTS */
BANDWIDTH = 177.0
CENTER_FILTER_WAVELENGTH = 677.5
RADIANCE_OFFSET = 0.0
RADIANCE_SCALING_FACTOR = 0.0499383
REFLECTANCE_SCALING_FACTOR = 0.00128426
MEX:REFLECTANCE_OFFSET = 0.0
/* IMAGE OBJECT DEFINITIONS */
OBJECT = IMAGE
  INTERCHANGE_FORMAT = BINARY
  LINES = 13758
  LINE_SAMPLES = 8854
  SAMPLE_TYPE = UNSIGNED_INTEGER
  SAMPLE_BITS = 8
  BANDS = 1
  BAND_STORAGE_TYPE = BAND_SEQUENTIAL
  MAXIMUM = 255
  MEAN = 188.254
  MINIMUM = 21
  STANDARD_DEVIATION = 71.3052
END_OBJECT = IMAGE
/* MAP OBJECT DEFINITIONS */
OBJECT = IMAGE_MAP_PROJECTION
  ^DATA_SET_MAP_PROJECTION_CATALOG= "DSMAP.CAT"
  A_AXIS_RADIUS = 3396.0
  B_AXIS_RADIUS = 3396.0
  C_AXIS_RADIUS = 3396.0
  CENTER_LATITUDE = 13.405
  CENTER_LONGITUDE = 137.193
  COORDINATE_SYSTEM_NAME = PLANETOGRAPHIC
  COORDINATE_SYSTEM_TYPE = "BODY-FIXED ROTATING"
  EASTERNMOST_LONGITUDE = 197.423
  FIRST_STANDARD_PARALLEL = "N/A"
  LINE_FIRST_PIXEL = 1
  LINE_LAST_PIXEL = 13758
  LINE_PROJECTION_OFFSET = 6531.0
  MAP_PROJECTION_ROTATION = 0.0
  MAP_PROJECTION_TYPE = ORTHOGRAPHIC
  MAP_RESOLUTION = 148.178450966667
  MAP_SCALE = 0.4
  MAXIMUM_LATITUDE = 59.5144
  MINIMUM_LATITUDE = -49.1496
  POSITIVE_LONGITUDE_DIRECTION = EAST
  REFERENCE_LATITUDE = "N/A"
  REFERENCE_LONGITUDE = "N/A"
  SAMPLE_FIRST_PIXEL = 1
  SAMPLE_LAST_PIXEL = 8854
  SAMPLE_PROJECTION_OFFSET = 3058.0
  SECOND_STANDARD_PARALLEL = "N/A"
  WESTERNMOST_LONGITUDE = 115.098
END_OBJECT = IMAGE_MAP_PROJECTION
END
