PDS_VERSION_ID = PDS3
/* FILE DATA ELEMENTS */
RECORD_TYPE = UNDEFINED
/* POINTERS TO DATA OBJECTS */
^IMAGE = ("HQ107_0000_BL4.TIF")
/* IDENTIFICATION DATA ELEMENTS */
DATA_SET_ID = "MEX-M-HRSC-4-REFDR-MAPPROJECT-EXT9-V4.0"
DATA_SET_NAME = "MARS EXPRESS HRSC MAP PROJECTED REFDR EXTENSION9 V4.0"
DETECTOR_ID = MEX_HRSC_BLUE
EVENT_TYPE = "MARS-TERMINATOR-CALIBRATION-Tc"
INSTRUMENT_HOST_ID = MEX
INSTRUMENT_HOST_NAME = "MARS EXPRESS"
INSTRUMENT_ID = HRSC
INSTRUMENT_NAME = "HIGH RESOLUTION STEREO CAMERA"
MISSION_NAME = "MARS EXPRESS"
MISSION_PHASE_NAME = ME_Phase_50
PROCESSING_LEVEL_ID = 4
PRODUCT_CREATION_TIME = 2025-01-29T00:31:31.000Z
PRODUCT_ID = "HQ107_0000_BL4.TIF"
RELEASE_ID = 0019
REVISION_ID = 0000
/* QUALITY DATA ELEMENTS */
DATA_QUALITY_ID = 1
DATA_QUALITY_DESC = "Data calculated based on original SPICE kernels"
/* TIME DATA ELEMENTS */
SPACECRAFT_CLOCK_START_COUNT = "1/0673664113.00399"
SPACECRAFT_CLOCK_STOP_COUNT = "1/0673664532.61968"
START_TIME = 2024-09-06T00:58:05.709Z
STOP_TIME = 2024-09-06T01:01:40.682Z
/* ORBITAL DATA ELEMENTS */
ASCENDING_NODE_LONGITUDE = 90.68
MAXIMUM_RESOLUTION = 0.6558
FOOTPRINT_POINT_LATITUDE = (-44.5654,-46.6302,-47.0791,-45.6413, -46.1382,-44.5867,-44.7864,-42.4339, -40.8292,-42.1015,-38.8225,-35.8353, -32.8743,-31.3151,-33.1031,-29.1361, -29.5168,-25.6015,-26.0343,-23.2853, -24.3844,-21.7774,-18.9103,-20.9074, -18.4453,-15.0121,-13.7799,-13.5776, -10.8802,-9.16839,-5.86054,-6.3852, -2.48656,1.07842,2.12995,4.39973, 4.92863,6.9929,6.93543,10.3184,10.1118, 16.1156,18.4564,21.1721,21.1681,24.9537 ,24.9497,29.1046,30.7668,33.3151, 34.0154,37.597,39.2342,41.8859,45.0513, 45.61,48.5131,52.153,56.5082,58.6149, 58.5681,59.2944,59.5006,59.4665,58.7681 ,57.8789,55.9026,53.8631,51.8397, 49.8606,47.9275,46.0532,44.2242,40.6902 ,37.2982,34.0141,30.8128,27.6668, 24.5521,21.4469,18.3287,15.1748,11.9607 ,8.66491,5.24812,1.64397,-2.18515, -6.32281,-10.9033,-13.4127,-16.1492, -19.1545,-22.5303,-26.4592,-28.7339, -31.3299,-34.4616,-38.5202,-45.921, -44.5654)
FOOTPRINT_POINT_LONGITUDE = (116.924,118.044,117.88,120.943,124.791 ,127.147,130.477,131.669,135.944, 139.837,139.363,143.673,145.059,147.755 ,152.262,153.921,156.648,153.456, 158.411,156.575,160.372,158.62,158.449, 163.746,164.133,160.623,162.816,166.832 ,164.252,167.783,166.048,169.338, 168.603,170.81,173.559,171.082,175.124, 173.019,175.891,173.325,176.714,176.466 ,180.038,179.337,183.121,179.342,183.44 ,182.975,186.907,182.881,185.613, 183.367,189.388,185.205,186.315,192.026 ,187.41,189.516,191.007,193.89,194.332, 190.517,189.401,177.449,170.25,164.893, 157.06,151.44,147.122,143.669,140.811, 138.423,136.369,132.998,130.334,128.151 ,126.326,124.765,123.406,122.207, 121.139,120.177,119.303,118.5,117.764, 117.103,116.497,115.95,115.472,115.264, 115.091,114.957,114.88,114.897,114.964, 115.097,115.351,115.842,117.34,116.924)
ORBIT_NUMBER = 26107
ORBITAL_ECCENTRICITY = 0.574
ORBITAL_INCLINATION = 87.08
ORBITAL_SEMIMAJOR_AXIS = 8861.12
PERIAPSIS_ALTITUDE = 383.14
PERIAPSIS_ARGUMENT_ANGLE = 170.17
PERIAPSIS_TIME = 2024-09-06T02:47:49.000Z
SPACECRAFT_ORIENTATION = (0.0,-1.0,0.0)
^MEX_ORIENTATION_DESC = "MEX_ORIENTATION_DESC.TXT"
SPACECRAFT_POINTING_MODE = FIXED
^MEX_POINTING_DESC = "MEX_POINTING_DESC.TXT"
RIGHT_ASCENSION = -1e+32
DECLINATION = -1e+32
OFFSET_ANGLE = -1e+32
SPACECRAFT_SOLAR_DISTANCE = 2.20037e+08
TARGET_NAME = MARS
/* CAMERA DATA ELEMENTS */
DETECTOR_TEMPERATURE = 17.9627
FOCAL_PLANE_TEMPERATURE = 8.1755
INST_CMPRS_NAME = "DISCRETE COSINE TRANSFORMATION (DCT)"
INST_CMPRS_RATIO = 10.0136
INST_CMPRS_QUALITY = 0
INST_CMPRS_QUANTZ_TBL_ID = 0
INSTRUMENT_TEMPERATURE = 11.0301
LENS_TEMPERATURE = 8.9911
MACROPIXEL_SIZE = 2
MISSING_FRAMES = 0
PIXEL_SUBSAMPLING_FLAG = N
SIGNAL_CHAIN_ID = 2
/* RADIOMETRIC DATA ELEMENTS */
BANDWIDTH = 76.0
CENTER_FILTER_WAVELENGTH = 444.0
RADIANCE_OFFSET = 0.0
RADIANCE_SCALING_FACTOR = 0.0127239
REFLECTANCE_SCALING_FACTOR = 0.000632862
MEX:REFLECTANCE_OFFSET = 0.0
/* IMAGE OBJECT DEFINITIONS */
OBJECT = IMAGE
  INTERCHANGE_FORMAT = BINARY
  LINES = 6879
  LINE_SAMPLES = 4427
  SAMPLE_TYPE = UNSIGNED_INTEGER
  SAMPLE_BITS = 8
  BANDS = 1
  BAND_STORAGE_TYPE = BAND_SEQUENTIAL
  MAXIMUM = 255
  MEAN = 169.081
  MINIMUM = 19
  STANDARD_DEVIATION = 70.5772
END_OBJECT = IMAGE
/* MAP OBJECT DEFINITIONS */
OBJECT = IMAGE_MAP_PROJECTION
  ^DATA_SET_MAP_PROJECTION_CATALOG= "DSMAP.CAT"
  A_AXIS_RADIUS = 3396.0
  B_AXIS_RADIUS = 3396.0
  C_AXIS_RADIUS = 3396.0
  CENTER_LATITUDE = 13.405
  CENTER_LONGITUDE = 137.193
  COORDINATE_SYSTEM_NAME = PLANETOGRAPHIC
  COORDINATE_SYSTEM_TYPE = "BODY-FIXED ROTATING"
  EASTERNMOST_LONGITUDE = 194.332
  FIRST_STANDARD_PARALLEL = "N/A"
  LINE_FIRST_PIXEL = 1
  LINE_LAST_PIXEL = 6879
  LINE_PROJECTION_OFFSET = 3265.25
  MAP_PROJECTION_ROTATION = 0.0
  MAP_PROJECTION_TYPE = ORTHOGRAPHIC
  MAP_RESOLUTION = 74.08922548333329
  MAP_SCALE = 0.8
  MAXIMUM_LATITUDE = 59.5006
  MINIMUM_LATITUDE = -47.0791
  POSITIVE_LONGITUDE_DIRECTION = EAST
  REFERENCE_LATITUDE = "N/A"
  REFERENCE_LONGITUDE = "N/A"
  SAMPLE_FIRST_PIXEL = 1
  SAMPLE_LAST_PIXEL = 4427
  SAMPLE_PROJECTION_OFFSET = 1528.75
  SECOND_STANDARD_PARALLEL = "N/A"
  WESTERNMOST_LONGITUDE = 114.88
END_OBJECT = IMAGE_MAP_PROJECTION
END
