PDS_VERSION_ID = PDS3
/* FILE DATA ELEMENTS */
RECORD_TYPE = UNDEFINED
/* POINTERS TO DATA OBJECTS */
^IMAGE = ("HQ103_0000_IR4.TIF")
/* IDENTIFICATION DATA ELEMENTS */
DATA_SET_ID = "MEX-M-HRSC-4-REFDR-MAPPROJECT-EXT9-V4.0"
DATA_SET_NAME = "MARS EXPRESS HRSC MAP PROJECTED REFDR EXTENSION9 V4.0"
DETECTOR_ID = MEX_HRSC_IR
EVENT_TYPE = "MARS-TERMINATOR-CALIBRATION-Tc"
INSTRUMENT_HOST_ID = MEX
INSTRUMENT_HOST_NAME = "MARS EXPRESS"
INSTRUMENT_ID = HRSC
INSTRUMENT_NAME = "HIGH RESOLUTION STEREO CAMERA"
MISSION_NAME = "MARS EXPRESS"
MISSION_PHASE_NAME = ME_Phase_50
PROCESSING_LEVEL_ID = 4
PRODUCT_CREATION_TIME = 2025-01-29T00:31:31.000Z
PRODUCT_ID = "HQ103_0000_IR4.TIF"
RELEASE_ID = 0019
REVISION_ID = 0000
/* QUALITY DATA ELEMENTS */
DATA_QUALITY_ID = 1
DATA_QUALITY_DESC = "Data calculated based on original SPICE kernels"
/* TIME DATA ELEMENTS */
SPACECRAFT_CLOCK_START_COUNT = "1/0673563850.65107"
SPACECRAFT_CLOCK_STOP_COUNT = "1/0673564289.65215"
START_TIME = 2024-09-04T21:05:01.687Z
STOP_TIME = 2024-09-04T21:08:52.636Z
/* ORBITAL DATA ELEMENTS */
ASCENDING_NODE_LONGITUDE = 90.75
MAXIMUM_RESOLUTION = 0.632
FOOTPRINT_POINT_LATITUDE = (-39.2133,-41.4856,-44.2318,-45.9491, -44.8864,-46.541,-45.1426,-45.3745, -42.6437,-44.7504,-41.6037,-40.5931, -38.4696,-40.3667,-36.7033,-37.5826, -35.3176,-33.432,-30.2894,-28.9125, -25.7451,-22.4833,-19.9831,-17.8062, -14.2134,-11.1074,-8.37697,-5.81711, -3.46203,0.837647,4.75023,8.38822, 11.8077,15.0526,18.1451,21.0862,22.4927 ,23.8451,25.1274,26.3154,27.3605, 28.0987,28.2238,27.9903,27.278,31.3944, 33.4956,36.111,38.2887,38.9283,42.2111, 44.856,48.7544,49.7253,53.2381,55.7211, 58.4565,60.9259,65.7062,67.5248,69.0322 ,68.3312,67.248,66.0266,64.7581,62.2194 ,59.757,57.3994,55.1447,52.984,50.9066, 48.9026,45.0839,41.4605,37.9855,34.6136 ,31.3261,28.0764,24.8482,21.6121, 18.3405,15.0033,11.5671,7.99148,4.22874 ,0.214579,-1.91647,-4.16454,-6.52892, -9.02775,-11.7243,-14.6893,-17.9668, -21.7989,-23.946,-26.4106,-29.181, -32.5404,-37.0533,-39.2133)
FOOTPRINT_POINT_LONGITUDE = (146.553,147.978,149.045,149.363, 148.685,154.77,159.386,163.715,166.255, 170.848,172.399,177.693,178.927,183.153 ,182.737,188.603,188.949,194.107, 193.021,195.845,194.284,192.425,191.327 ,190.533,189.629,189.134,188.952, 188.895,189.009,189.601,190.579,191.902 ,193.594,195.697,198.295,201.536, 203.468,205.671,208.22,211.207,214.798, 219.579,222.826,227.193,233.367,230.166 ,233.201,235.314,233.928,237.768, 239.615,237.365,239.089,244.818,241.119 ,242.684,244.818,250.719,251.336, 254.995,230.0,218.287,210.117,203.945, 199.081,191.847,186.664,182.732,179.621 ,177.079,174.95,173.132,170.169,167.821 ,165.888,164.241,162.823,161.55,160.404 ,159.351,158.368,157.436,156.54,155.665 ,154.797,153.918,153.469,153.009, 152.535,152.042,151.523,150.968,150.362 ,149.674,149.289,148.856,148.364, 147.769,146.963,146.553)
ORBIT_NUMBER = 26103
ORBITAL_ECCENTRICITY = 0.573
ORBITAL_INCLINATION = 87.09
ORBITAL_SEMIMAJOR_AXIS = 8846.27
PERIAPSIS_ALTITUDE = 383.09
PERIAPSIS_ARGUMENT_ANGLE = 170.87
PERIAPSIS_TIME = 2024-09-04T22:51:27.000Z
SPACECRAFT_ORIENTATION = (0.0,-1.0,0.0)
^MEX_ORIENTATION_DESC = "MEX_ORIENTATION_DESC.TXT"
SPACECRAFT_POINTING_MODE = FIXED
^MEX_POINTING_DESC = "MEX_POINTING_DESC.TXT"
RIGHT_ASCENSION = -1e+32
DECLINATION = -1e+32
OFFSET_ANGLE = -1e+32
SPACECRAFT_SOLAR_DISTANCE = 2.19819e+08
TARGET_NAME = MARS
/* CAMERA DATA ELEMENTS */
DETECTOR_TEMPERATURE = 17.1471
FOCAL_PLANE_TEMPERATURE = 8.5833
INST_CMPRS_NAME = "DISCRETE COSINE TRANSFORMATION (DCT)"
INST_CMPRS_RATIO = 10.3324
INST_CMPRS_QUALITY = 0
INST_CMPRS_QUANTZ_TBL_ID = 0
INSTRUMENT_TEMPERATURE = 10.6223
LENS_TEMPERATURE = 7.5638
MACROPIXEL_SIZE = 2
MISSING_FRAMES = 0
PIXEL_SUBSAMPLING_FLAG = N
SIGNAL_CHAIN_ID = 3
/* RADIOMETRIC DATA ELEMENTS */
BANDWIDTH = 81.0
CENTER_FILTER_WAVELENGTH = 955.5
RADIANCE_OFFSET = 0.0
RADIANCE_SCALING_FACTOR = 0.00733852
REFLECTANCE_SCALING_FACTOR = 0.000764917
MEX:REFLECTANCE_OFFSET = 0.0
/* IMAGE OBJECT DEFINITIONS */
OBJECT = IMAGE
  INTERCHANGE_FORMAT = BINARY
  LINES = 7385
  LINE_SAMPLES = 5019
  SAMPLE_TYPE = UNSIGNED_INTEGER
  SAMPLE_BITS = 8
  BANDS = 1
  BAND_STORAGE_TYPE = BAND_SEQUENTIAL
  MAXIMUM = 255
  MEAN = 169.032
  MINIMUM = 1
  STANDARD_DEVIATION = 93.9931
END_OBJECT = IMAGE
/* MAP OBJECT DEFINITIONS */
OBJECT = IMAGE_MAP_PROJECTION
  ^DATA_SET_MAP_PROJECTION_CATALOG= "DSMAP.CAT"
  A_AXIS_RADIUS = 3396.0
  B_AXIS_RADIUS = 3396.0
  C_AXIS_RADIUS = 3396.0
  CENTER_LATITUDE = 19.5262
  CENTER_LONGITUDE = 173.487
  COORDINATE_SYSTEM_NAME = PLANETOGRAPHIC
  COORDINATE_SYSTEM_TYPE = "BODY-FIXED ROTATING"
  EASTERNMOST_LONGITUDE = 254.995
  FIRST_STANDARD_PARALLEL = "N/A"
  LINE_FIRST_PIXEL = 1
  LINE_LAST_PIXEL = 7385
  LINE_PROJECTION_OFFSET = 3647.25
  MAP_PROJECTION_ROTATION = 0.0
  MAP_PROJECTION_TYPE = ORTHOGRAPHIC
  MAP_RESOLUTION = 74.08922548333329
  MAP_SCALE = 0.8
  MAXIMUM_LATITUDE = 69.0322
  MINIMUM_LATITUDE = -46.541
  POSITIVE_LONGITUDE_DIRECTION = EAST
  REFERENCE_LATITUDE = "N/A"
  REFERENCE_LONGITUDE = "N/A"
  SAMPLE_FIRST_PIXEL = 1
  SAMPLE_LAST_PIXEL = 5019
  SAMPLE_PROJECTION_OFFSET = 1701.75
  SECOND_STANDARD_PARALLEL = "N/A"
  WESTERNMOST_LONGITUDE = 146.553
END_OBJECT = IMAGE_MAP_PROJECTION
END
