PDS_VERSION_ID = PDS3
/* FILE DATA ELEMENTS */
RECORD_TYPE = UNDEFINED
/* POINTERS TO DATA OBJECTS */
^IMAGE = ("HQ092_0000_GR4.TIF")
/* IDENTIFICATION DATA ELEMENTS */
DATA_SET_ID = "MEX-M-HRSC-4-REFDR-MAPPROJECT-EXT9-V4.0"
DATA_SET_NAME = "MARS EXPRESS HRSC MAP PROJECTED REFDR EXTENSION9 V4.0"
DETECTOR_ID = MEX_HRSC_GREEN
EVENT_TYPE = "MARS-TERMINATOR-CALIBRATION-Tc"
INSTRUMENT_HOST_ID = MEX
INSTRUMENT_HOST_NAME = "MARS EXPRESS"
INSTRUMENT_ID = HRSC
INSTRUMENT_NAME = "HIGH RESOLUTION STEREO CAMERA"
MISSION_NAME = "MARS EXPRESS"
MISSION_PHASE_NAME = ME_Phase_50
PROCESSING_LEVEL_ID = 4
PRODUCT_CREATION_TIME = 2025-01-28T19:40:01.000Z
PRODUCT_ID = "HQ092_0000_GR4.TIF"
RELEASE_ID = 0018
REVISION_ID = 0000
/* QUALITY DATA ELEMENTS */
DATA_QUALITY_ID = 1
DATA_QUALITY_DESC = "Data calculated based on original SPICE kernels"
/* TIME DATA ELEMENTS */
SPACECRAFT_CLOCK_START_COUNT = "1/0673282605.65281"
SPACECRAFT_CLOCK_STOP_COUNT = "1/0673283006.57953"
START_TIME = 2024-09-01T14:58:57.568Z
STOP_TIME = 2024-09-01T15:02:10.508Z
/* ORBITAL DATA ELEMENTS */
ASCENDING_NODE_LONGITUDE = 90.95
MAXIMUM_RESOLUTION = 0.824
FOOTPRINT_POINT_LATITUDE = (-61.7743,-66.1084,-69.8287,-71.3928, -71.8723,-73.1774,-73.6932,-69.1262, -70.4711,-66.6365,-63.5116,-63.1777, -59.0938,-58.6915,-55.1251,-54.7402, -52.5114,-49.4809,-46.8861,-44.8748, -44.1923,-41.9747,-41.366,-38.1277, -37.847,-35.0557,-32.719,-29.8785, -27.8761,-25.4178,-22.6833,-20.188, -15.5933,-11.2989,-7.20919,-3.0915, -1.07499,-0.0572402,2.36502,4.76547, 7.16203,10.8398,12.1451,13.3683,14.7078 ,15.9684,17.4448,20.059,22.8705,25.9548 ,27.2948,30.5305,33.8714,38.0074, 41.7318,44.3794,46.0868,48.9033,51.9174 ,54.9256,59.514,62.4728,62.2553,56.9146 ,53.6267,50.9593,48.6468,44.6235, 41.2024,38.1513,35.3532,32.7511,30.3138 ,27.9936,23.6289,19.427,15.6404,11.1037 ,7.52996,4.02413,0.545381,-2.93107, -6.43212,-9.9923,-13.6454,-17.434, -21.4097,-25.6446,-30.2399,-32.7187, -35.3563,-38.1884,-41.2658,-44.6928, -48.623,-50.912,-53.4666,-56.3047, -59.8736,-61.7743)
FOOTPRINT_POINT_LONGITUDE = (199.735,205.279,208.478,209.326, 206.968,220.727,233.136,235.796,247.562 ,247.135,253.834,267.471,267.741, 273.234,266.97,271.877,269.894,270.397, 272.081,275.689,278.926,275.214,278.598 ,275.735,280.568,279.228,279.889, 284.528,279.558,278.784,276.119,274.624 ,273.43,273.762,275.959,278.92,282.656, 285.28,283.813,282.702,282.627,284.698, 287.133,283.08,285.493,282.978,287.106, 283.54,282.9,284.654,281.443,281.763, 280.579,284.114,280.583,283.233,276.744 ,277.627,277.429,273.318,273.502, 267.341,265.988,253.383,248.263,244.915 ,242.432,238.791,236.216,234.221, 232.588,231.209,230.023,228.972,227.167 ,225.554,224.286,222.896,221.843, 220.866,219.929,219.024,218.132,217.243 ,216.339,215.404,214.415,213.341, 212.137,211.462,210.721,209.89,208.937, 207.8,206.371,205.464,204.364,202.994, 201.017,199.735)
ORBIT_NUMBER = 26092
ORBITAL_ECCENTRICITY = 0.573
ORBITAL_INCLINATION = 87.08
ORBITAL_SEMIMAJOR_AXIS = 8845.7
PERIAPSIS_ALTITUDE = 382.47
PERIAPSIS_ARGUMENT_ANGLE = 172.7
PERIAPSIS_TIME = 2024-09-01T18:01:12.000Z
SPACECRAFT_ORIENTATION = (0.0,-1.0,0.0)
^MEX_ORIENTATION_DESC = "MEX_ORIENTATION_DESC.TXT"
SPACECRAFT_POINTING_MODE = FIXED
^MEX_POINTING_DESC = "MEX_POINTING_DESC.TXT"
RIGHT_ASCENSION = -1e+32
DECLINATION = -1e+32
OFFSET_ANGLE = -1e+32
SPACECRAFT_SOLAR_DISTANCE = 2.19225e+08
TARGET_NAME = MARS
/* CAMERA DATA ELEMENTS */
DETECTOR_TEMPERATURE = 17.5549
FOCAL_PLANE_TEMPERATURE = 8.1755
INST_CMPRS_NAME = "DISCRETE COSINE TRANSFORMATION (DCT)"
INST_CMPRS_RATIO = 13.3802
INST_CMPRS_QUALITY = 0
INST_CMPRS_QUANTZ_TBL_ID = 0
INSTRUMENT_TEMPERATURE = 11.0301
LENS_TEMPERATURE = 8.5833
MACROPIXEL_SIZE = 2
MISSING_FRAMES = 0
PIXEL_SUBSAMPLING_FLAG = N
SIGNAL_CHAIN_ID = 2
/* RADIOMETRIC DATA ELEMENTS */
BANDWIDTH = 88.0
CENTER_FILTER_WAVELENGTH = 538.0
RADIANCE_OFFSET = 0.0
RADIANCE_SCALING_FACTOR = 0.0117892
REFLECTANCE_SCALING_FACTOR = 0.00048771
MEX:REFLECTANCE_OFFSET = 0.0
/* IMAGE OBJECT DEFINITIONS */
OBJECT = IMAGE
  INTERCHANGE_FORMAT = BINARY
  LINES = 7788
  LINE_SAMPLES = 4877
  SAMPLE_TYPE = UNSIGNED_INTEGER
  SAMPLE_BITS = 8
  BANDS = 1
  BAND_STORAGE_TYPE = BAND_SEQUENTIAL
  MAXIMUM = 255
  MEAN = 201.847
  MINIMUM = 13
  STANDARD_DEVIATION = 71.631
END_OBJECT = IMAGE
/* MAP OBJECT DEFINITIONS */
OBJECT = IMAGE_MAP_PROJECTION
  ^DATA_SET_MAP_PROJECTION_CATALOG= "DSMAP.CAT"
  A_AXIS_RADIUS = 3396.0
  B_AXIS_RADIUS = 3396.0
  C_AXIS_RADIUS = 3396.0
  CENTER_LATITUDE = -5.28385
  CENTER_LONGITUDE = 238.506
  COORDINATE_SYSTEM_NAME = PLANETOGRAPHIC
  COORDINATE_SYSTEM_TYPE = "BODY-FIXED ROTATING"
  EASTERNMOST_LONGITUDE = 287.133
  FIRST_STANDARD_PARALLEL = "N/A"
  LINE_FIRST_PIXEL = 1
  LINE_LAST_PIXEL = 7788
  LINE_PROJECTION_OFFSET = 3909.25
  MAP_PROJECTION_ROTATION = 0.0
  MAP_PROJECTION_TYPE = ORTHOGRAPHIC
  MAP_RESOLUTION = 74.08922548333329
  MAP_SCALE = 0.8
  MAXIMUM_LATITUDE = 62.4728
  MINIMUM_LATITUDE = -73.6932
  POSITIVE_LONGITUDE_DIRECTION = EAST
  REFERENCE_LATITUDE = "N/A"
  REFERENCE_LONGITUDE = "N/A"
  SAMPLE_FIRST_PIXEL = 1
  SAMPLE_LAST_PIXEL = 4877
  SAMPLE_PROJECTION_OFFSET = 1643.75
  SECOND_STANDARD_PARALLEL = "N/A"
  WESTERNMOST_LONGITUDE = 199.735
END_OBJECT = IMAGE_MAP_PROJECTION
END
