PDS_VERSION_ID = PDS3
/* FILE DATA ELEMENTS */
RECORD_TYPE = UNDEFINED
/* POINTERS TO DATA OBJECTS */
^IMAGE = ("HQ087_0000_GR4.TIF")
/* IDENTIFICATION DATA ELEMENTS */
DATA_SET_ID = "MEX-M-HRSC-4-REFDR-MAPPROJECT-EXT9-V4.0"
DATA_SET_NAME = "MARS EXPRESS HRSC MAP PROJECTED REFDR EXTENSION9 V4.0"
DETECTOR_ID = MEX_HRSC_GREEN
EVENT_TYPE = "MARS-LOCAL-SYSTEMTEST-Tc-Ot-Sh"
INSTRUMENT_HOST_ID = MEX
INSTRUMENT_HOST_NAME = "MARS EXPRESS"
INSTRUMENT_ID = HRSC
INSTRUMENT_NAME = "HIGH RESOLUTION STEREO CAMERA"
MISSION_NAME = "MARS EXPRESS"
MISSION_PHASE_NAME = ME_Phase_50
PROCESSING_LEVEL_ID = 4
PRODUCT_CREATION_TIME = 2025-01-28T19:40:01.000Z
PRODUCT_ID = "HQ087_0000_GR4.TIF"
RELEASE_ID = 0018
REVISION_ID = 0000
/* QUALITY DATA ELEMENTS */
DATA_QUALITY_ID = 1
DATA_QUALITY_DESC = "Data calculated based on original SPICE kernels"
/* TIME DATA ELEMENTS */
SPACECRAFT_CLOCK_START_COUNT = "1/0673167991.64183"
SPACECRAFT_CLOCK_STOP_COUNT = "1/0673168169.63846"
START_TIME = 2024-08-31T07:07:53.968Z
STOP_TIME = 2024-08-31T07:09:27.356Z
/* ORBITAL DATA ELEMENTS */
ASCENDING_NODE_LONGITUDE = 91.02
MAXIMUM_RESOLUTION = 0.0656
FOOTPRINT_POINT_LATITUDE = (-2.14767,-2.14844,-2.1492,-2.15001, -2.1504,-2.15082,-2.15123,-2.15166, -2.15207,-2.15254,-2.15311,-2.15317, -2.1567,-2.32677,-2.55337,-2.77989, -3.00633,-3.17612,-3.40231,-3.63163, -3.74779,-3.8638,-4.03766,-4.21122, -4.50017,-4.67423,-4.84795,-4.96376, -5.13741,-5.36859,-5.7148,-5.89041, -6.00873,-6.18624,-6.3637,-6.48206, -6.60908,-6.78653,-6.9048,-7.02288, -7.14109,-7.31795,-7.43582,-7.61256, -7.73197,-7.85309,-7.97387,-8.03429, -8.05515,-8.05543,-8.05543,-8.05595, -8.05647,-8.05665,-8.05729,-8.05791, -8.058,-8.05753,-8.05753,-8.05643, -7.93588,-7.81523,-7.69416,-7.57547, -7.45722,-7.27935,-7.10226,-6.9841, -6.86568,-6.74673,-6.62915,-6.50283, -6.38479,-6.26663,-6.0896,-5.91186, -5.79324,-5.67739,-5.56032,-5.44377, -5.2119,-4.98041,-4.80832,-4.57753, -4.46149,-4.34517,-4.22808,-4.1115, -3.99544,-3.82145,-3.70539,-3.58913, -3.41695,-3.19133,-2.96357,-2.73686, -2.56632,-2.22585,-2.16927,-2.14767)
FOOTPRINT_POINT_LONGITUDE = (137.99,137.771,137.548,137.318,137.202 ,137.083,136.964,136.842,136.719, 136.595,136.436,136.42,136.391,136.387, 136.382,136.378,136.373,136.369,136.365 ,136.361,136.357,136.354,136.351, 136.351,136.352,136.344,136.34,136.337, 136.332,136.328,136.325,136.321,136.319 ,136.316,136.312,136.309,136.304, 136.298,136.294,136.292,136.288,136.286 ,136.284,136.281,136.279,136.273,136.27 ,136.268,136.267,136.384,136.572, 136.717,136.925,137.147,137.437,137.615 ,137.733,137.925,137.94,137.945,137.944 ,137.943,137.944,137.945,137.946,137.95 ,137.949,137.95,137.951,137.954,137.951 ,137.949,137.947,137.946,137.944, 137.944,137.945,137.947,137.954,137.959 ,137.962,137.962,137.955,137.951, 137.952,137.954,137.96,137.963,137.964, 137.964,137.965,137.966,137.967,137.964 ,137.972,137.973,137.977,137.98,137.98, 137.99)
ORBIT_NUMBER = 26087
ORBITAL_ECCENTRICITY = 0.573
ORBITAL_INCLINATION = 87.08
ORBITAL_SEMIMAJOR_AXIS = 8849.11
PERIAPSIS_ALTITUDE = 381.81
PERIAPSIS_ARGUMENT_ANGLE = 173.59
PERIAPSIS_TIME = 2024-08-31T07:05:45.000Z
SPACECRAFT_ORIENTATION = (0.0,-1.0,0.0)
^MEX_ORIENTATION_DESC = "MEX_ORIENTATION_DESC.TXT"
SPACECRAFT_POINTING_MODE = ACROSSTRACK
^MEX_POINTING_DESC = "MEX_POINTING_DESC.TXT"
RIGHT_ASCENSION = -1e+32
DECLINATION = -1e+32
OFFSET_ANGLE = -2.29
SPACECRAFT_SOLAR_DISTANCE = 2.18958e+08
TARGET_NAME = MARS
/* CAMERA DATA ELEMENTS */
DETECTOR_TEMPERATURE = 17.7588
FOCAL_PLANE_TEMPERATURE = 8.5833
INST_CMPRS_NAME = "DISCRETE COSINE TRANSFORMATION (DCT)"
INST_CMPRS_RATIO = 22.0825
INST_CMPRS_QUALITY = 0
INST_CMPRS_QUANTZ_TBL_ID = 0
INSTRUMENT_TEMPERATURE = 10.6223
LENS_TEMPERATURE = 8.7872
MACROPIXEL_SIZE = 4
MISSING_FRAMES = 1
PIXEL_SUBSAMPLING_FLAG = N
SIGNAL_CHAIN_ID = 2
/* RADIOMETRIC DATA ELEMENTS */
BANDWIDTH = 88.0
CENTER_FILTER_WAVELENGTH = 538.0
RADIANCE_OFFSET = 0.807632
RADIANCE_SCALING_FACTOR = 0.000795549
REFLECTANCE_SCALING_FACTOR = 3.2838e-05
MEX:REFLECTANCE_OFFSET = 0.0333367
/* IMAGE OBJECT DEFINITIONS */
OBJECT = IMAGE
  INTERCHANGE_FORMAT = BINARY
  LINES = 7047
  LINE_SAMPLES = 2159
  SAMPLE_TYPE = UNSIGNED_INTEGER
  SAMPLE_BITS = 8
  BANDS = 1
  BAND_STORAGE_TYPE = BAND_SEQUENTIAL
  MAXIMUM = 255
  MEAN = 200.419
  MINIMUM = 3
  STANDARD_DEVIATION = 43.9413
END_OBJECT = IMAGE
/* MAP OBJECT DEFINITIONS */
OBJECT = IMAGE_MAP_PROJECTION
  ^DATA_SET_MAP_PROJECTION_CATALOG= "DSMAP.CAT"
  A_AXIS_RADIUS = 3396.0
  B_AXIS_RADIUS = 3396.0
  C_AXIS_RADIUS = 3396.0
  CENTER_LATITUDE = 0.0
  CENTER_LONGITUDE = 137.0
  COORDINATE_SYSTEM_NAME = PLANETOGRAPHIC
  COORDINATE_SYSTEM_TYPE = "BODY-FIXED ROTATING"
  EASTERNMOST_LONGITUDE = 137.99
  FIRST_STANDARD_PARALLEL = "N/A"
  LINE_FIRST_PIXEL = 1
  LINE_LAST_PIXEL = 7047
  LINE_PROJECTION_OFFSET = -2523.875
  MAP_PROJECTION_ROTATION = 0.0
  MAP_PROJECTION_TYPE = SINUSOIDAL
  MAP_RESOLUTION = 1185.42760773333
  MAP_SCALE = 0.05
  MAXIMUM_LATITUDE = -2.14767
  MINIMUM_LATITUDE = -8.058
  POSITIVE_LONGITUDE_DIRECTION = EAST
  REFERENCE_LATITUDE = "N/A"
  REFERENCE_LONGITUDE = "N/A"
  SAMPLE_FIRST_PIXEL = 1
  SAMPLE_LAST_PIXEL = 2159
  SAMPLE_PROJECTION_OFFSET = 986.875
  SECOND_STANDARD_PARALLEL = "N/A"
  WESTERNMOST_LONGITUDE = 136.267
END_OBJECT = IMAGE_MAP_PROJECTION
END
