PDS_VERSION_ID = PDS3
/* FILE DATA ELEMENTS */
RECORD_TYPE = UNDEFINED
/* POINTERS TO DATA OBJECTS */
^IMAGE = ("HQ084_0017_IR4.TIF")
/* IDENTIFICATION DATA ELEMENTS */
DATA_SET_ID = "MEX-M-HRSC-4-REFDR-MAPPROJECT-EXT9-V4.0"
DATA_SET_NAME = "MARS EXPRESS HRSC MAP PROJECTED REFDR EXTENSION9 V4.0"
DETECTOR_ID = MEX_HRSC_IR
EVENT_TYPE = "MARS-REGIONAL-VARIABLE-Gl-Ot"
INSTRUMENT_HOST_ID = MEX
INSTRUMENT_HOST_NAME = "MARS EXPRESS"
INSTRUMENT_ID = HRSC
INSTRUMENT_NAME = "HIGH RESOLUTION STEREO CAMERA"
MISSION_NAME = "MARS EXPRESS"
MISSION_PHASE_NAME = ME_Phase_50
PROCESSING_LEVEL_ID = 4
PRODUCT_CREATION_TIME = 2025-01-28T19:40:01.000Z
PRODUCT_ID = "HQ084_0017_IR4.TIF"
RELEASE_ID = 0018
REVISION_ID = 0000
/* QUALITY DATA ELEMENTS */
DATA_QUALITY_ID = 1
DATA_QUALITY_DESC = "Data calculated based on original SPICE kernels"
/* TIME DATA ELEMENTS */
SPACECRAFT_CLOCK_START_COUNT = "1/0673093705.00351"
SPACECRAFT_CLOCK_STOP_COUNT = "1/0673096353.05928"
START_TIME = 2024-08-30T10:29:49.934Z
STOP_TIME = 2024-08-30T10:40:23.795Z
/* ORBITAL DATA ELEMENTS */
ASCENDING_NODE_LONGITUDE = 91.08
MAXIMUM_RESOLUTION = 0.2574
FOOTPRINT_POINT_LATITUDE = (-69.1166,-69.3064,-69.402,-69.473, -69.5193,-69.5407,-69.5347,-69.5334, -69.6343,-70.2005,-70.7614,-71.599, -72.149,-72.7042,-73.2503,-73.7879, -74.331,-75.1404,-75.9343,-76.4712, -76.9993,-77.521,-78.0439,-78.5613, -79.0751,-79.5856,-80.0919,-80.5944, -81.0935,-81.5906,-82.0832,-82.5702, -83.0561,-83.5365,-84.0138,-84.4873, -84.9523,-85.6396,-86.5247,-87.3521, -88.0614,-88.4922,-88.3171,-87.7248, -86.9776,-86.1693,-85.3375,-85.1274, -84.964,-85.2249,-85.3047,-85.2697, -85.134,-84.914,-84.6136,-84.2491, -83.8332,-83.3728,-82.8764,-82.3503, -81.4447,-81.3727,-81.3499,-81.8863, -82.3621,-82.7623,-83.0707,-83.2708, -83.3493,-83.2648,-83.0509,-82.8112, -82.5071,-82.0114,-81.4274,-80.7691, -80.4148,-80.0454,-79.6625,-79.2681, -78.6585,-78.2386,-77.8092,-77.3684, -76.9141,-76.4574,-76.0017,-75.2796, -74.5569,-74.0707,-73.5727,-73.0723, -72.3186,-71.5343,-71.0082,-70.4821, -69.6796,-69.4093,-69.1166)
FOOTPRINT_POINT_LONGITUDE = (95.4313,92.1002,89.8595,87.605,85.3404 ,83.0652,80.4928,80.3496,80.1936, 80.0421,79.8869,79.6379,79.4685,79.2787 ,79.0885,78.8967,78.6807,78.3324,77.968 ,77.6834,77.3912,77.0855,76.7479, 76.3896,76.0038,75.5856,75.1333,74.6397 ,74.0974,73.493,72.8241,72.0835,71.2358 ,70.2786,69.1714,67.8786,66.3819, 63.5571,58.1658,49.3988,33.7275,5.75981 ,323.822,303.161,291.926,285.308, 281.035,280.197,279.599,269.299,261.246 ,251.095,243.311,236.084,229.602, 223.884,218.897,214.592,210.885,207.689 ,203.377,203.085,202.979,198.337, 193.005,186.946,180.178,172.812,165.05, 155.21,147.64,142.341,137.329,131.249, 125.912,121.278,119.191,117.246,115.438 ,113.763,111.486,110.094,108.795, 107.573,106.41,105.347,104.384,102.964, 101.721,100.965,100.237,99.5609,98.6351 ,97.7445,97.1988,96.6928,95.9759, 95.7489,95.4313)
ORBIT_NUMBER = 26084
ORBITAL_ECCENTRICITY = 0.573
ORBITAL_INCLINATION = 87.09
ORBITAL_SEMIMAJOR_AXIS = 8853.7
PERIAPSIS_ALTITUDE = 380.72
PERIAPSIS_ARGUMENT_ANGLE = 174.07
PERIAPSIS_TIME = 2024-08-30T10:08:24.000Z
SPACECRAFT_ORIENTATION = (0.0,-1.0,0.0)
^MEX_ORIENTATION_DESC = "MEX_ORIENTATION_DESC.TXT"
SPACECRAFT_POINTING_MODE = NADIR
^MEX_POINTING_DESC = "MEX_POINTING_DESC.TXT"
RIGHT_ASCENSION = -1e+32
DECLINATION = -1e+32
OFFSET_ANGLE = -1e+32
SPACECRAFT_SOLAR_DISTANCE = 2.18797e+08
TARGET_NAME = MARS
/* CAMERA DATA ELEMENTS */
DETECTOR_TEMPERATURE = 17.351
FOCAL_PLANE_TEMPERATURE = 8.5833
INST_CMPRS_NAME = "DISCRETE COSINE TRANSFORMATION (DCT)"
INST_CMPRS_RATIO = 16.5008
INST_CMPRS_QUALITY = 0
INST_CMPRS_QUANTZ_TBL_ID = 0
INSTRUMENT_TEMPERATURE = 10.8262
LENS_TEMPERATURE = 9.3989
MACROPIXEL_SIZE = 4
MISSING_FRAMES = 0
PIXEL_SUBSAMPLING_FLAG = N
SIGNAL_CHAIN_ID = 2
/* RADIOMETRIC DATA ELEMENTS */
BANDWIDTH = 81.0
CENTER_FILTER_WAVELENGTH = 955.5
RADIANCE_OFFSET = 0.371629
RADIANCE_SCALING_FACTOR = 0.00711336
REFLECTANCE_SCALING_FACTOR = 0.000734678
MEX:REFLECTANCE_OFFSET = 0.0383825
/* IMAGE OBJECT DEFINITIONS */
OBJECT = IMAGE
  INTERCHANGE_FORMAT = BINARY
  LINES = 4023
  LINE_SAMPLES = 7878
  SAMPLE_TYPE = UNSIGNED_INTEGER
  SAMPLE_BITS = 8
  BANDS = 1
  BAND_STORAGE_TYPE = BAND_SEQUENTIAL
  MAXIMUM = 255
  MEAN = 55.2662
  MINIMUM = 1
  STANDARD_DEVIATION = 37.1117
END_OBJECT = IMAGE
/* MAP OBJECT DEFINITIONS */
OBJECT = IMAGE_MAP_PROJECTION
  ^DATA_SET_MAP_PROJECTION_CATALOG= "DSMAP.CAT"
  A_AXIS_RADIUS = 3396.0
  B_AXIS_RADIUS = 3396.0
  C_AXIS_RADIUS = 3396.0
  CENTER_LATITUDE = -90.0
  CENTER_LONGITUDE = 0.0
  COORDINATE_SYSTEM_NAME = PLANETOGRAPHIC
  COORDINATE_SYSTEM_TYPE = "BODY-FIXED ROTATING"
  EASTERNMOST_LONGITUDE = 360.0
  FIRST_STANDARD_PARALLEL = "N/A"
  LINE_FIRST_PIXEL = 1
  LINE_LAST_PIXEL = 4023
  LINE_PROJECTION_OFFSET = 1171.375
  MAP_PROJECTION_ROTATION = 0.0
  MAP_PROJECTION_TYPE = STEREOGRAPHIC
  MAP_RESOLUTION = 296.356901933333
  MAP_SCALE = 0.2
  MAXIMUM_LATITUDE = -69.11660000000001
  MINIMUM_LATITUDE = -90.0
  POSITIVE_LONGITUDE_DIRECTION = EAST
  REFERENCE_LATITUDE = "N/A"
  REFERENCE_LONGITUDE = "N/A"
  SAMPLE_FIRST_PIXEL = 1
  SAMPLE_LAST_PIXEL = 7878
  SAMPLE_PROJECTION_OFFSET = 1645.125
  SECOND_STANDARD_PARALLEL = "N/A"
  WESTERNMOST_LONGITUDE = 0.0
END_OBJECT = IMAGE_MAP_PROJECTION
END
