PDS_VERSION_ID = PDS3
/* FILE DATA ELEMENTS */
RECORD_TYPE = UNDEFINED
/* POINTERS TO DATA OBJECTS */
^IMAGE = ("HQ079_0001_S14.TIF")
/* IDENTIFICATION DATA ELEMENTS */
DATA_SET_ID = "MEX-M-HRSC-4-REFDR-MAPPROJECT-EXT9-V4.0"
DATA_SET_NAME = "MARS EXPRESS HRSC MAP PROJECTED REFDR EXTENSION9 V4.0"
DETECTOR_ID = MEX_HRSC_S1
EVENT_TYPE = "MARS-REGIONAL-VARIABLE-Gl-Ot"
INSTRUMENT_HOST_ID = MEX
INSTRUMENT_HOST_NAME = "MARS EXPRESS"
INSTRUMENT_ID = HRSC
INSTRUMENT_NAME = "HIGH RESOLUTION STEREO CAMERA"
MISSION_NAME = "MARS EXPRESS"
MISSION_PHASE_NAME = ME_Phase_50
PROCESSING_LEVEL_ID = 4
PRODUCT_CREATION_TIME = 2025-01-28T19:40:01.000Z
PRODUCT_ID = "HQ079_0001_S14.TIF"
RELEASE_ID = 0018
REVISION_ID = 0000
/* QUALITY DATA ELEMENTS */
DATA_QUALITY_ID = 1
DATA_QUALITY_DESC = "Data calculated based on original SPICE kernels"
/* TIME DATA ELEMENTS */
SPACECRAFT_CLOCK_START_COUNT = "1/0672967945.00344"
SPACECRAFT_CLOCK_STOP_COUNT = "1/0672970565.20281"
START_TIME = 2024-08-28T23:33:15.526Z
STOP_TIME = 2024-08-28T23:42:17.245Z
/* ORBITAL DATA ELEMENTS */
ASCENDING_NODE_LONGITUDE = 91.17
MAXIMUM_RESOLUTION = 0.1239
FOOTPRINT_POINT_LATITUDE = (-68.6552,-68.8183,-68.9044,-68.9682, -69.0095,-69.0284,-69.0253,-69.0244, -69.1489,-70.1732,-70.6828,-71.4469, -71.955,-72.4572,-73.2088,-73.7186, -74.2148,-74.697,-75.1902,-75.6787, -76.1633,-76.8894,-77.3687,-77.8462, -78.5603,-79.0418,-79.505,-79.9731, -80.4396,-80.9003,-81.5902,-82.0465, -82.5006,-82.9512,-83.3995,-83.8453, -84.941,-85.7997,-86.6302,-87.5997, -88.2504,-88.5715,-88.5965,-88.0079, -87.3248,-87.1414,-87.0702,-87.321, -87.4843,-87.4463,-87.2359,-86.7084, -86.134,-85.7651,-85.3675,-84.8122, -84.0885,-83.4268,-82.902,-82.8265, -82.7996,-83.1459,-83.403,-83.5797, -83.5916,-83.4393,-83.2621,-83.0236, -82.6208,-82.2643,-81.9964,-81.4151, -80.9405,-80.2639,-79.9079,-79.3539, -78.9741,-78.5876,-78.1909,-77.7869, -77.3758,-76.9587,-76.5345,-76.1049, -75.6699,-75.229,-74.7843,-74.3347, -73.6507,-72.9534,-72.4877,-72.0134, -71.5398,-71.0616,-70.334,-69.5982, -69.1045,-68.8566,-68.6552)
FOOTPRINT_POINT_LONGITUDE = (245.569,242.484,240.324,238.152, 235.972,233.781,231.719,231.581,231.415 ,231.174,231.046,230.839,230.692, 230.542,230.303,230.118,229.939,229.767 ,229.567,229.36,229.144,228.789,228.536 ,228.267,227.822,227.48,227.147,226.77, 226.358,225.919,225.168,224.604,223.975 ,223.276,222.485,221.583,218.704, 215.362,210.423,199.708,183.349,163.089 ,127.698,96.4037,83.9651,81.8199, 81.0704,70.9252,57.3171,37.5497,24.6976 ,9.78837,1.14411,356.972,353.658, 350.123,346.731,344.243,342.652,342.443 ,342.364,336.197,329.39,320.157,312.486 ,303.07,297.672,292.523,286.261,282.055 ,279.366,274.596,271.436,267.718, 266.041,263.728,262.32,261.014,259.782, 258.629,257.549,256.538,255.586,254.694 ,253.855,253.063,252.321,251.621, 250.641,249.733,249.177,248.642,248.143 ,247.668,246.994,246.37,245.981,245.794 ,245.569)
ORBIT_NUMBER = 26079
ORBITAL_ECCENTRICITY = 0.574
ORBITAL_INCLINATION = 87.08
ORBITAL_SEMIMAJOR_AXIS = 8860.87
PERIAPSIS_ALTITUDE = 380.42
PERIAPSIS_ARGUMENT_ANGLE = 174.93
PERIAPSIS_TIME = 2024-08-28T23:12:53.000Z
SPACECRAFT_ORIENTATION = (0.0,-1.0,0.0)
^MEX_ORIENTATION_DESC = "MEX_ORIENTATION_DESC.TXT"
SPACECRAFT_POINTING_MODE = NADIR
^MEX_POINTING_DESC = "MEX_POINTING_DESC.TXT"
RIGHT_ASCENSION = -1e+32
DECLINATION = -1e+32
OFFSET_ANGLE = -1e+32
SPACECRAFT_SOLAR_DISTANCE = 2.18532e+08
TARGET_NAME = MARS
/* CAMERA DATA ELEMENTS */
DETECTOR_TEMPERATURE = 20.4095
FOCAL_PLANE_TEMPERATURE = 8.9911
INST_CMPRS_NAME = "DISCRETE COSINE TRANSFORMATION (DCT)"
INST_CMPRS_RATIO = 14.2274
INST_CMPRS_QUALITY = 0
INST_CMPRS_QUANTZ_TBL_ID = 0
INSTRUMENT_TEMPERATURE = 14.9042
LENS_TEMPERATURE = 9.195
MACROPIXEL_SIZE = 2
MISSING_FRAMES = 0
PIXEL_SUBSAMPLING_FLAG = N
SIGNAL_CHAIN_ID = 1
/* RADIOMETRIC DATA ELEMENTS */
BANDWIDTH = 180.0
CENTER_FILTER_WAVELENGTH = 677.0
RADIANCE_OFFSET = 2.17448
RADIANCE_SCALING_FACTOR = 0.0226959
REFLECTANCE_SCALING_FACTOR = 0.000565496
MEX:REFLECTANCE_OFFSET = 0.0541797
/* IMAGE OBJECT DEFINITIONS */
OBJECT = IMAGE
  INTERCHANGE_FORMAT = BINARY
  LINES = 12729
  LINE_SAMPLES = 14089
  SAMPLE_TYPE = UNSIGNED_INTEGER
  SAMPLE_BITS = 8
  BANDS = 1
  BAND_STORAGE_TYPE = BAND_SEQUENTIAL
  MAXIMUM = 255
  MEAN = 79.8761
  MINIMUM = 1
  STANDARD_DEVIATION = 49.289
END_OBJECT = IMAGE
/* MAP OBJECT DEFINITIONS */
OBJECT = IMAGE_MAP_PROJECTION
  ^DATA_SET_MAP_PROJECTION_CATALOG= "DSMAP.CAT"
  A_AXIS_RADIUS = 3396.0
  B_AXIS_RADIUS = 3396.0
  C_AXIS_RADIUS = 3396.0
  CENTER_LATITUDE = -90.0
  CENTER_LONGITUDE = 0.0
  COORDINATE_SYSTEM_NAME = PLANETOGRAPHIC
  COORDINATE_SYSTEM_TYPE = "BODY-FIXED ROTATING"
  EASTERNMOST_LONGITUDE = 360.0
  FIRST_STANDARD_PARALLEL = "N/A"
  LINE_FIRST_PIXEL = 1
  LINE_LAST_PIXEL = 12729
  LINE_PROJECTION_OFFSET = 4745.75
  MAP_PROJECTION_ROTATION = 0.0
  MAP_PROJECTION_TYPE = STEREOGRAPHIC
  MAP_RESOLUTION = 592.713803866667
  MAP_SCALE = 0.1
  MAXIMUM_LATITUDE = -68.65519999999999
  MINIMUM_LATITUDE = -90.0
  POSITIVE_LONGITUDE_DIRECTION = EAST
  REFERENCE_LATITUDE = "N/A"
  REFERENCE_LONGITUDE = "N/A"
  SAMPLE_FIRST_PIXEL = 1
  SAMPLE_LAST_PIXEL = 14089
  SAMPLE_PROJECTION_OFFSET = 11850.25
  SECOND_STANDARD_PARALLEL = "N/A"
  WESTERNMOST_LONGITUDE = 0.0
END_OBJECT = IMAGE_MAP_PROJECTION
END
