PDS_VERSION_ID = PDS3
/* FILE DATA ELEMENTS */
RECORD_TYPE = UNDEFINED
/* POINTERS TO DATA OBJECTS */
^IMAGE = ("HQ079_0001_P14.TIF")
/* IDENTIFICATION DATA ELEMENTS */
DATA_SET_ID = "MEX-M-HRSC-4-REFDR-MAPPROJECT-EXT9-V4.0"
DATA_SET_NAME = "MARS EXPRESS HRSC MAP PROJECTED REFDR EXTENSION9 V4.0"
DETECTOR_ID = MEX_HRSC_P1
EVENT_TYPE = "MARS-REGIONAL-VARIABLE-Gl-Ot"
INSTRUMENT_HOST_ID = MEX
INSTRUMENT_HOST_NAME = "MARS EXPRESS"
INSTRUMENT_ID = HRSC
INSTRUMENT_NAME = "HIGH RESOLUTION STEREO CAMERA"
MISSION_NAME = "MARS EXPRESS"
MISSION_PHASE_NAME = ME_Phase_50
PROCESSING_LEVEL_ID = 4
PRODUCT_CREATION_TIME = 2025-01-28T19:40:01.000Z
PRODUCT_ID = "HQ079_0001_P14.TIF"
RELEASE_ID = 0018
REVISION_ID = 0000
/* QUALITY DATA ELEMENTS */
DATA_QUALITY_ID = 1
DATA_QUALITY_DESC = "Data calculated based on original SPICE kernels"
/* TIME DATA ELEMENTS */
SPACECRAFT_CLOCK_START_COUNT = "1/0672967945.00344"
SPACECRAFT_CLOCK_STOP_COUNT = "1/0672970565.20281"
START_TIME = 2024-08-28T23:34:24.091Z
STOP_TIME = 2024-08-28T23:44:43.262Z
/* ORBITAL DATA ELEMENTS */
ASCENDING_NODE_LONGITUDE = 91.17
MAXIMUM_RESOLUTION = 0.1266
FOOTPRINT_POINT_LATITUDE = (-68.6538,-68.8034,-68.9164,-68.9785, -69.0524,-69.0892,-69.093,-69.0918, -69.1721,-69.9692,-70.4981,-71.0364, -71.8137,-72.3301,-72.8469,-73.3605, -74.1344,-74.6326,-75.1371,-75.6373, -76.1325,-76.8722,-77.361,-77.8465, -78.33,-78.8103,-79.2906,-79.7631, -80.2343,-80.7011,-81.1657,-81.6272, -82.0852,-82.5402,-82.991,-83.4385, -84.323,-84.9712,-85.8185,-86.6323, -87.3936,-87.9006,-88.4776,-88.4912, -88.2154,-87.7906,-87.1199,-86.9406, -86.936,-87.3699,-87.3946,-87.2032, -86.8718,-86.4981,-85.8016,-85.2403, -84.4155,-83.7176,-83.0029,-82.4374, -82.3562,-82.3273,-82.6564,-82.909, -83.0991,-83.1286,-83.066,-82.8285, -82.6095,-82.2349,-81.6471,-80.9473, -80.481,-79.8123,-79.0967,-78.5332, -78.1463,-77.7498,-77.3447,-76.9321, -76.5118,-76.0844,-75.6503,-75.2097, -74.7632,-74.3105,-73.8522,-73.3854, -72.9169,-72.4429,-71.9622,-71.4783, -70.9889,-70.4944,-69.995,-69.4905, -68.9818,-68.7266,-68.6538)
FOOTPRINT_POINT_LONGITUDE = (246.096,243.697,241.423,239.849, 237.262,234.95,231.459,231.313,231.15, 230.952,230.81,230.644,230.42,230.26, 230.086,229.904,229.597,229.407,229.187 ,228.958,228.721,228.331,228.053, 227.756,227.437,227.094,226.717,226.325 ,225.893,225.429,224.918,224.356, 223.737,223.048,222.282,221.416,219.298 ,217.285,213.658,208.34,199.895,189.85, 160.805,128.344,108.315,94.8598,83.8935 ,81.9291,81.8819,61.0817,40.4015, 26.5175,15.0239,7.03226,357.769,352.862 ,347.892,344.779,342.292,340.689, 340.478,340.397,334.812,328.671,320.341 ,311.643,306.407,297.96,293.132,287.167 ,280.476,274.716,271.665,268.026,264.83 ,262.694,261.384,260.149,258.987, 257.898,256.872,255.908,255.0,254.144, 253.338,252.576,251.857,251.167,250.527 ,249.92,249.34,248.795,248.276,247.782, 247.313,246.865,246.44,246.237,246.096)
ORBIT_NUMBER = 26079
ORBITAL_ECCENTRICITY = 0.574
ORBITAL_INCLINATION = 87.08
ORBITAL_SEMIMAJOR_AXIS = 8860.87
PERIAPSIS_ALTITUDE = 380.42
PERIAPSIS_ARGUMENT_ANGLE = 174.93
PERIAPSIS_TIME = 2024-08-28T23:12:53.000Z
SPACECRAFT_ORIENTATION = (0.0,-1.0,0.0)
^MEX_ORIENTATION_DESC = "MEX_ORIENTATION_DESC.TXT"
SPACECRAFT_POINTING_MODE = NADIR
^MEX_POINTING_DESC = "MEX_POINTING_DESC.TXT"
RIGHT_ASCENSION = -1e+32
DECLINATION = -1e+32
OFFSET_ANGLE = -1e+32
SPACECRAFT_SOLAR_DISTANCE = 2.18532e+08
TARGET_NAME = MARS
/* CAMERA DATA ELEMENTS */
DETECTOR_TEMPERATURE = 20.4095
FOCAL_PLANE_TEMPERATURE = 8.9911
INST_CMPRS_NAME = "DISCRETE COSINE TRANSFORMATION (DCT)"
INST_CMPRS_RATIO = 8.69146
INST_CMPRS_QUALITY = 0
INST_CMPRS_QUANTZ_TBL_ID = 0
INSTRUMENT_TEMPERATURE = 14.9042
LENS_TEMPERATURE = 9.195
MACROPIXEL_SIZE = 2
MISSING_FRAMES = 0
PIXEL_SUBSAMPLING_FLAG = N
SIGNAL_CHAIN_ID = 3
/* RADIOMETRIC DATA ELEMENTS */
BANDWIDTH = 174.0
CENTER_FILTER_WAVELENGTH = 675.0
RADIANCE_OFFSET = 1.98421
RADIANCE_SCALING_FACTOR = 0.0212839
REFLECTANCE_SCALING_FACTOR = 0.000546736
MEX:REFLECTANCE_OFFSET = 0.0509699
/* IMAGE OBJECT DEFINITIONS */
OBJECT = IMAGE
  INTERCHANGE_FORMAT = BINARY
  LINES = 12729
  LINE_SAMPLES = 14089
  SAMPLE_TYPE = UNSIGNED_INTEGER
  SAMPLE_BITS = 8
  BANDS = 1
  BAND_STORAGE_TYPE = BAND_SEQUENTIAL
  MAXIMUM = 255
  MEAN = 75.5724
  MINIMUM = 1
  STANDARD_DEVIATION = 49.7935
END_OBJECT = IMAGE
/* MAP OBJECT DEFINITIONS */
OBJECT = IMAGE_MAP_PROJECTION
  ^DATA_SET_MAP_PROJECTION_CATALOG= "DSMAP.CAT"
  A_AXIS_RADIUS = 3396.0
  B_AXIS_RADIUS = 3396.0
  C_AXIS_RADIUS = 3396.0
  CENTER_LATITUDE = -90.0
  CENTER_LONGITUDE = 0.0
  COORDINATE_SYSTEM_NAME = PLANETOGRAPHIC
  COORDINATE_SYSTEM_TYPE = "BODY-FIXED ROTATING"
  EASTERNMOST_LONGITUDE = 360.0
  FIRST_STANDARD_PARALLEL = "N/A"
  LINE_FIRST_PIXEL = 1
  LINE_LAST_PIXEL = 12729
  LINE_PROJECTION_OFFSET = 4745.75
  MAP_PROJECTION_ROTATION = 0.0
  MAP_PROJECTION_TYPE = STEREOGRAPHIC
  MAP_RESOLUTION = 592.713803866667
  MAP_SCALE = 0.1
  MAXIMUM_LATITUDE = -68.6538
  MINIMUM_LATITUDE = -90.0
  POSITIVE_LONGITUDE_DIRECTION = EAST
  REFERENCE_LATITUDE = "N/A"
  REFERENCE_LONGITUDE = "N/A"
  SAMPLE_FIRST_PIXEL = 1
  SAMPLE_LAST_PIXEL = 14089
  SAMPLE_PROJECTION_OFFSET = 11850.25
  SECOND_STANDARD_PARALLEL = "N/A"
  WESTERNMOST_LONGITUDE = 0.0
END_OBJECT = IMAGE_MAP_PROJECTION
END
