PDS_VERSION_ID = PDS3
/* FILE DATA ELEMENTS */
RECORD_TYPE = UNDEFINED
/* POINTERS TO DATA OBJECTS */
^IMAGE = ("HQ075_0001_BL4.TIF")
/* IDENTIFICATION DATA ELEMENTS */
DATA_SET_ID = "MEX-M-HRSC-4-REFDR-MAPPROJECT-EXT9-V4.0"
DATA_SET_NAME = "MARS EXPRESS HRSC MAP PROJECTED REFDR EXTENSION9 V4.0"
DETECTOR_ID = MEX_HRSC_BLUE
EVENT_TYPE = "MARS-REGIONAL-VARIABLE-Gl-Ot"
INSTRUMENT_HOST_ID = MEX
INSTRUMENT_HOST_NAME = "MARS EXPRESS"
INSTRUMENT_ID = HRSC
INSTRUMENT_NAME = "HIGH RESOLUTION STEREO CAMERA"
MISSION_NAME = "MARS EXPRESS"
MISSION_PHASE_NAME = ME_Phase_50
PROCESSING_LEVEL_ID = 4
PRODUCT_CREATION_TIME = 2025-01-28T19:40:01.000Z
PRODUCT_ID = "HQ075_0001_BL4.TIF"
RELEASE_ID = 0018
REVISION_ID = 0000
/* QUALITY DATA ELEMENTS */
DATA_QUALITY_ID = 1
DATA_QUALITY_DESC = "Data calculated based on original SPICE kernels"
/* TIME DATA ELEMENTS */
SPACECRAFT_CLOCK_START_COUNT = "1/0672867366.65070"
SPACECRAFT_CLOCK_STOP_COUNT = "1/0672869954.20130"
START_TIME = 2024-08-27T19:41:43.034Z
STOP_TIME = 2024-08-27T19:58:16.126Z
/* ORBITAL DATA ELEMENTS */
ASCENDING_NODE_LONGITUDE = 91.23
MAXIMUM_RESOLUTION = 0.2941
FOOTPRINT_POINT_LATITUDE = (-68.8668,-69.0898,-69.3104,-69.4465, -69.5307,-69.572,-69.5606,-69.5582, -69.5326,-70.4709,-71.0865,-71.6924, -72.2936,-72.8875,-73.4759,-74.0551, -74.6274,-75.193,-75.752,-76.3035, -76.8492,-77.3873,-77.9192,-78.4431, -78.9608,-79.4719,-79.9763,-80.4738, -80.9645,-81.448,-81.9237,-82.392, -83.3037,-84.1786,-85.0085,-85.7789, -86.4726,-87.0424,-87.428,-87.5541, -87.4024,-87.0255,-86.506,-85.9059, -85.2621,-85.097,-85.0289,-85.7273, -86.041,-86.1272,-86.0391,-85.7728, -85.2346,-84.7563,-84.1355,-83.5444, -82.8269,-82.3608,-81.8838,-81.2983, -80.7003,-80.5996,-80.5665,-80.9045, -81.2029,-81.3925,-81.5965,-81.7319, -81.7975,-81.783,-81.6831,-81.4962, -81.2209,-80.8616,-80.4197,-79.9019, -79.3116,-78.655,-77.9366,-77.5559, -77.1615,-76.7534,-76.3326,-75.8994, -75.4539,-74.9965,-74.5274,-74.0471, -73.5555,-73.0531,-72.5401,-72.0166, -71.4823,-70.9381,-70.3835,-69.8188, -69.2443,-68.953,-68.8668)
FOOTPRINT_POINT_LONGITUDE = (296.317,293.743,290.472,287.65,284.97, 282.268,278.699,278.529,278.377,278.018 ,277.762,277.483,277.201,276.904, 276.598,276.265,275.911,275.538,275.143 ,274.718,274.27,273.785,273.267,272.703 ,272.097,271.442,270.731,269.955, 269.108,268.176,267.143,265.998,263.285 ,259.822,255.275,249.12,240.622,228.683 ,212.542,193.292,174.579,159.569,148.65 ,140.86,135.214,134.046,133.59,119.584, 106.436,95.2733,82.4808,70.8157,58.6816 ,51.8451,45.4765,40.9284,36.6679, 34.3984,32.3899,30.2603,28.3882,28.0986 ,27.9995,24.222,20.0798,16.7096,11.9075 ,6.76708,1.39133,355.857,350.274, 344.764,339.433,334.372,329.643,325.281 ,321.301,317.696,314.448,312.95,311.53, 310.187,308.916,307.712,306.574,305.496 ,304.476,303.511,302.597,301.732, 300.911,300.134,299.397,298.698,298.035 ,297.405,296.807,296.52,296.317)
ORBIT_NUMBER = 26075
ORBITAL_ECCENTRICITY = 0.574
ORBITAL_INCLINATION = 87.09
ORBITAL_SEMIMAJOR_AXIS = 8853.81
PERIAPSIS_ALTITUDE = 380.05
PERIAPSIS_ARGUMENT_ANGLE = 175.65
PERIAPSIS_TIME = 2024-08-27T19:16:43.000Z
SPACECRAFT_ORIENTATION = (0.0,-1.0,0.0)
^MEX_ORIENTATION_DESC = "MEX_ORIENTATION_DESC.TXT"
SPACECRAFT_POINTING_MODE = NADIR
^MEX_POINTING_DESC = "MEX_POINTING_DESC.TXT"
RIGHT_ASCENSION = -1e+32
DECLINATION = -1e+32
OFFSET_ANGLE = -1e+32
SPACECRAFT_SOLAR_DISTANCE = 2.18321e+08
TARGET_NAME = MARS
/* CAMERA DATA ELEMENTS */
DETECTOR_TEMPERATURE = 21.0212
FOCAL_PLANE_TEMPERATURE = 8.9911
INST_CMPRS_NAME = "DISCRETE COSINE TRANSFORMATION (DCT)"
INST_CMPRS_RATIO = 23.0871
INST_CMPRS_QUALITY = 0
INST_CMPRS_QUANTZ_TBL_ID = 0
INSTRUMENT_TEMPERATURE = 14.7003
LENS_TEMPERATURE = 9.6028
MACROPIXEL_SIZE = 4
MISSING_FRAMES = 0
PIXEL_SUBSAMPLING_FLAG = N
SIGNAL_CHAIN_ID = 2
/* RADIOMETRIC DATA ELEMENTS */
BANDWIDTH = 76.0
CENTER_FILTER_WAVELENGTH = 444.0
RADIANCE_OFFSET = 0.167843
RADIANCE_SCALING_FACTOR = 0.00795333
REFLECTANCE_SCALING_FACTOR = 0.000389499
MEX:REFLECTANCE_OFFSET = 0.00821977
/* IMAGE OBJECT DEFINITIONS */
OBJECT = IMAGE
  INTERCHANGE_FORMAT = BINARY
  LINES = 3667
  LINE_SAMPLES = 7418
  SAMPLE_TYPE = UNSIGNED_INTEGER
  SAMPLE_BITS = 8
  BANDS = 1
  BAND_STORAGE_TYPE = BAND_SEQUENTIAL
  MAXIMUM = 255
  MEAN = 49.7354
  MINIMUM = 1
  STANDARD_DEVIATION = 46.5211
END_OBJECT = IMAGE
/* MAP OBJECT DEFINITIONS */
OBJECT = IMAGE_MAP_PROJECTION
  ^DATA_SET_MAP_PROJECTION_CATALOG= "DSMAP.CAT"
  A_AXIS_RADIUS = 3396.0
  B_AXIS_RADIUS = 3396.0
  C_AXIS_RADIUS = 3396.0
  CENTER_LATITUDE = -90.0
  CENTER_LONGITUDE = 0.0
  COORDINATE_SYSTEM_NAME = PLANETOGRAPHIC
  COORDINATE_SYSTEM_TYPE = "BODY-FIXED ROTATING"
  EASTERNMOST_LONGITUDE = 360.0
  FIRST_STANDARD_PARALLEL = "N/A"
  LINE_FIRST_PIXEL = 1
  LINE_LAST_PIXEL = 3667
  LINE_PROJECTION_OFFSET = 2777.875
  MAP_PROJECTION_ROTATION = 0.0
  MAP_PROJECTION_TYPE = STEREOGRAPHIC
  MAP_RESOLUTION = 296.356901933333
  MAP_SCALE = 0.2
  MAXIMUM_LATITUDE = -68.8668
  MINIMUM_LATITUDE = -90.0
  POSITIVE_LONGITUDE_DIRECTION = EAST
  REFERENCE_LATITUDE = "N/A"
  REFERENCE_LONGITUDE = "N/A"
  SAMPLE_FIRST_PIXEL = 1
  SAMPLE_LAST_PIXEL = 7418
  SAMPLE_PROJECTION_OFFSET = 6061.125
  SECOND_STANDARD_PARALLEL = "N/A"
  WESTERNMOST_LONGITUDE = 0.0
END_OBJECT = IMAGE_MAP_PROJECTION
END
