PDS_VERSION_ID = PDS3
/* FILE DATA ELEMENTS */
RECORD_TYPE = UNDEFINED
/* POINTERS TO DATA OBJECTS */
^IMAGE = ("HQ063_0000_RE4.TIF")
/* IDENTIFICATION DATA ELEMENTS */
DATA_SET_ID = "MEX-M-HRSC-4-REFDR-MAPPROJECT-EXT9-V4.0"
DATA_SET_NAME = "MARS EXPRESS HRSC MAP PROJECTED REFDR EXTENSION9 V4.0"
DETECTOR_ID = MEX_HRSC_RED
EVENT_TYPE = "MARS-TERMINATOR-CALIBRATION-Tc"
INSTRUMENT_HOST_ID = MEX
INSTRUMENT_HOST_NAME = "MARS EXPRESS"
INSTRUMENT_ID = HRSC
INSTRUMENT_NAME = "HIGH RESOLUTION STEREO CAMERA"
MISSION_NAME = "MARS EXPRESS"
MISSION_PHASE_NAME = ME_Phase_50
PROCESSING_LEVEL_ID = 4
PRODUCT_CREATION_TIME = 2025-01-28T19:40:01.000Z
PRODUCT_ID = "HQ063_0000_RE4.TIF"
RELEASE_ID = 0018
REVISION_ID = 0000
/* QUALITY DATA ELEMENTS */
DATA_QUALITY_ID = 1
DATA_QUALITY_DESC = "Data calculated based on original SPICE kernels"
/* TIME DATA ELEMENTS */
SPACECRAFT_CLOCK_START_COUNT = "1/0672574966.65084"
SPACECRAFT_CLOCK_STOP_COUNT = "1/0672575369.64886"
START_TIME = 2024-08-24T10:27:04.460Z
STOP_TIME = 2024-08-24T10:30:18.467Z
/* ORBITAL DATA ELEMENTS */
ASCENDING_NODE_LONGITUDE = 91.45
MAXIMUM_RESOLUTION = 0.8236
FOOTPRINT_POINT_LATITUDE = (-73.6927,-74.1076,-79.4428,-82.962, -84.6057,-83.8451,-83.7764,-79.5454, -76.1698,-74.274,-70.7655,-69.7383, -66.9055,-61.612,-58.878,-57.8199, -57.4507,-55.9158,-55.9798,-55.2128, -54.3665,-52.1993,-50.538,-48.984, -46.9082,-44.4249,-41.7769,-37.2282, -31.7445,-27.6946,-24.7482,-19.9627, -15.7173,-10.8138,-7.74746,-4.32976, -1.54194,1.11825,4.2816,7.87714,10.052, 14.1604,16.5147,15.8007,19.1104,22.2798 ,26.9853,26.6811,27.7262,26.9344, 28.3054,28.9361,33.9558,38.1137,39.3107 ,43.1868,44.3882,47.2188,47.7565, 52.3772,57.1525,58.2888,57.1273,54.4219 ,49.8373,45.9482,40.4087,34.7477, 29.5032,23.9383,20.2618,17.4434,13.4789 ,10.0996,5.80502,1.73437,-2.40445, -5.75036,-8.98238,-13.6289,-16.9203, -20.2581,-22.8744,-26.2769,-31.5869, -34.218,-37.8479,-40.5655,-44.782, -50.2302,-53.708,-57.9199,-60.5189, -63.8273,-67.4171,-69.2913,-71.6103, -72.8568,-73.5952,-73.6927)
FOOTPRINT_POINT_LONGITUDE = (131.693,134.261,147.576,165.263, 192.328,222.27,252.808,272.269,267.221, 279.24,275.007,282.519,278.418,280.562, 285.205,279.707,285.52,281.205,286.938, 280.537,285.553,279.503,272.329,268.186 ,264.162,260.709,257.957,254.574,252.25 ,251.362,251.019,251.024,251.602, 252.858,253.981,255.632,257.31,259.231, 262.03,266.176,269.517,274.595,277.886, 274.606,276.09,272.501,274.122,270.289, 273.144,269.613,272.541,269.447,266.919 ,267.463,264.046,264.615,260.392, 261.805,256.879,253.318,245.719,243.811 ,240.473,237.254,232.851,229.84,226.325 ,223.379,221.05,218.875,217.562,216.609 ,215.326,214.276,212.98,211.779,210.568 ,209.585,208.625,207.213,206.177, 205.087,204.197,202.981,200.92,199.804, 198.135,196.769,194.388,190.686,187.797 ,183.478,180.172,174.884,166.909, 161.115,150.792,142.001,133.521, 131.693)
ORBIT_NUMBER = 26063
ORBITAL_ECCENTRICITY = 0.574
ORBITAL_INCLINATION = 87.1
ORBITAL_SEMIMAJOR_AXIS = 8854.31
PERIAPSIS_ALTITUDE = 378.81
PERIAPSIS_ARGUMENT_ANGLE = 177.69
PERIAPSIS_TIME = 2024-08-24T07:27:43.000Z
SPACECRAFT_ORIENTATION = (0.0,-1.0,0.0)
^MEX_ORIENTATION_DESC = "MEX_ORIENTATION_DESC.TXT"
SPACECRAFT_POINTING_MODE = FIXED
^MEX_POINTING_DESC = "MEX_POINTING_DESC.TXT"
RIGHT_ASCENSION = -1e+32
DECLINATION = -1e+32
OFFSET_ANGLE = -1e+32
SPACECRAFT_SOLAR_DISTANCE = 2.17692e+08
TARGET_NAME = MARS
/* CAMERA DATA ELEMENTS */
DETECTOR_TEMPERATURE = 18.5744
FOCAL_PLANE_TEMPERATURE = 8.7872
INST_CMPRS_NAME = "DISCRETE COSINE TRANSFORMATION (DCT)"
INST_CMPRS_RATIO = 12.5139
INST_CMPRS_QUALITY = 0
INST_CMPRS_QUANTZ_TBL_ID = 0
INSTRUMENT_TEMPERATURE = 10.6223
LENS_TEMPERATURE = 8.7872
MACROPIXEL_SIZE = 2
MISSING_FRAMES = 0
PIXEL_SUBSAMPLING_FLAG = N
SIGNAL_CHAIN_ID = 3
/* RADIOMETRIC DATA ELEMENTS */
BANDWIDTH = 48.0
CENTER_FILTER_WAVELENGTH = 748.0
RADIANCE_OFFSET = 0.0
RADIANCE_SCALING_FACTOR = 0.0129117
REFLECTANCE_SCALING_FACTOR = 0.00139664
MEX:REFLECTANCE_OFFSET = 0.0
/* IMAGE OBJECT DEFINITIONS */
OBJECT = IMAGE
  INTERCHANGE_FORMAT = BINARY
  LINES = 7964
  LINE_SAMPLES = 4924
  SAMPLE_TYPE = UNSIGNED_INTEGER
  SAMPLE_BITS = 8
  BANDS = 1
  BAND_STORAGE_TYPE = BAND_SEQUENTIAL
  MAXIMUM = 255
  MEAN = 129.83
  MINIMUM = 17
  STANDARD_DEVIATION = 67.8377
END_OBJECT = IMAGE
/* MAP OBJECT DEFINITIONS */
OBJECT = IMAGE_MAP_PROJECTION
  ^DATA_SET_MAP_PROJECTION_CATALOG= "DSMAP.CAT"
  A_AXIS_RADIUS = 3396.0
  B_AXIS_RADIUS = 3396.0
  C_AXIS_RADIUS = 3396.0
  CENTER_LATITUDE = -16.5062
  CENTER_LONGITUDE = 226.598
  COORDINATE_SYSTEM_NAME = PLANETOGRAPHIC
  COORDINATE_SYSTEM_TYPE = "BODY-FIXED ROTATING"
  EASTERNMOST_LONGITUDE = 286.938
  FIRST_STANDARD_PARALLEL = "N/A"
  LINE_FIRST_PIXEL = 1
  LINE_LAST_PIXEL = 7964
  LINE_PROJECTION_OFFSET = 4045.25
  MAP_PROJECTION_ROTATION = 0.0
  MAP_PROJECTION_TYPE = ORTHOGRAPHIC
  MAP_RESOLUTION = 74.08922548333329
  MAP_SCALE = 0.8
  MAXIMUM_LATITUDE = 58.2888
  MINIMUM_LATITUDE = -84.6057
  POSITIVE_LONGITUDE_DIRECTION = EAST
  REFERENCE_LATITUDE = "N/A"
  REFERENCE_LONGITUDE = "N/A"
  SAMPLE_FIRST_PIXEL = 1
  SAMPLE_LAST_PIXEL = 4924
  SAMPLE_PROJECTION_OFFSET = 1603.75
  SECOND_STANDARD_PARALLEL = "N/A"
  WESTERNMOST_LONGITUDE = 131.693
END_OBJECT = IMAGE_MAP_PROJECTION
END
