PDS_VERSION_ID = PDS3
/* FILE DATA ELEMENTS */
RECORD_TYPE = UNDEFINED
/* POINTERS TO DATA OBJECTS */
^IMAGE = ("HQ062_0000_S24.TIF")
/* IDENTIFICATION DATA ELEMENTS */
DATA_SET_ID = "MEX-M-HRSC-4-REFDR-MAPPROJECT-EXT9-V4.0"
DATA_SET_NAME = "MARS EXPRESS HRSC MAP PROJECTED REFDR EXTENSION9 V4.0"
DETECTOR_ID = MEX_HRSC_S2
EVENT_TYPE = "MARS-LOCAL-SYSTEMTEST-Tc-Ot-Sh"
INSTRUMENT_HOST_ID = MEX
INSTRUMENT_HOST_NAME = "MARS EXPRESS"
INSTRUMENT_ID = HRSC
INSTRUMENT_NAME = "HIGH RESOLUTION STEREO CAMERA"
MISSION_NAME = "MARS EXPRESS"
MISSION_PHASE_NAME = ME_Phase_50
PROCESSING_LEVEL_ID = 4
PRODUCT_CREATION_TIME = 2025-01-28T19:40:01.000Z
PRODUCT_ID = "HQ062_0000_S24.TIF"
RELEASE_ID = 0018
REVISION_ID = 0000
/* QUALITY DATA ELEMENTS */
DATA_QUALITY_ID = 1
DATA_QUALITY_DESC = "Data calculated based on original SPICE kernels"
/* TIME DATA ELEMENTS */
SPACECRAFT_CLOCK_START_COUNT = "1/0672539337.00333"
SPACECRAFT_CLOCK_STOP_COUNT = "1/0672539527.32013"
START_TIME = 2024-08-24T00:30:58.595Z
STOP_TIME = 2024-08-24T00:32:55.960Z
/* ORBITAL DATA ELEMENTS */
ASCENDING_NODE_LONGITUDE = 91.46
MAXIMUM_RESOLUTION = 0.0341
FOOTPRINT_POINT_LATITUDE = (-4.24099,-4.23916,-4.23733,-4.23421, -4.23121,-4.22782,-4.22332,-4.22307, -4.19827,-4.34034,-4.48221,-4.69494, -4.83691,-4.97846,-5.12008,-5.26201, -5.40366,-5.54501,-5.68652,-5.82824, -5.96939,-6.25119,-6.53227,-6.81214, -7.09152,-7.3004,-7.64814,-7.99549, -8.21416,-8.42773,-8.57003,-8.71244, -8.8546,-8.99729,-9.13965,-9.3528, -9.56628,-9.7109,-9.92859,-10.0738, -10.2923,-10.437,-10.5814,-10.7256, -10.9406,-11.0855,-11.2342,-11.3079, -11.3456,-11.3487,-11.3533,-11.3572, -11.3611,-11.3645,-11.3653,-11.3654, -11.3649,-11.2179,-10.9992,-10.8559, -10.6398,-10.4959,-10.3517,-10.2089, -9.92641,-9.71525,-9.5742,-9.30154, -9.16072,-9.0192,-8.87551,-8.7316, -8.58095,-8.43777,-8.29571,-8.08715, -7.93985,-7.79708,-7.65116,-7.50751, -7.36614,-7.22229,-7.07799,-6.79691, -6.51721,-6.23568,-6.09444,-5.95189, -5.80921,-5.66808,-5.38667,-5.24571, -5.1042,-4.96145,-4.74856,-4.60664, -4.46488,-4.32294,-4.25185,-4.24099)
FOOTPRINT_POINT_LONGITUDE = (173.908,173.677,173.488,173.217,173.0, 172.784,172.526,172.513,172.501,172.498 ,172.495,172.491,172.488,172.485, 172.482,172.479,172.476,172.473,172.47, 172.467,172.464,172.458,172.451,172.444 ,172.438,172.432,172.423,172.414,172.41 ,172.405,172.401,172.397,172.394,172.39 ,172.387,172.381,172.376,172.372, 172.366,172.362,172.357,172.353,172.349 ,172.345,172.338,172.334,172.331, 172.329,172.327,172.556,172.847,173.106 ,173.366,173.671,173.884,173.9,173.905, 173.905,173.904,173.903,173.902,173.902 ,173.901,173.901,173.898,173.895, 173.894,173.891,173.89,173.89,173.891, 173.891,173.894,173.894,173.894,173.892 ,173.894,173.895,173.897,173.899,173.9, 173.901,173.903,173.904,173.904,173.905 ,173.906,173.907,173.908,173.908, 173.909,173.91,173.91,173.911,173.913, 173.913,173.914,173.915,173.915, 173.908)
ORBIT_NUMBER = 26062
ORBITAL_ECCENTRICITY = 0.573
ORBITAL_INCLINATION = 87.09
ORBITAL_SEMIMAJOR_AXIS = 8844.44
PERIAPSIS_ALTITUDE = 379.59
PERIAPSIS_ARGUMENT_ANGLE = 177.86
PERIAPSIS_TIME = 2024-08-24T00:28:42.000Z
SPACECRAFT_ORIENTATION = (0.0,-1.0,0.0)
^MEX_ORIENTATION_DESC = "MEX_ORIENTATION_DESC.TXT"
SPACECRAFT_POINTING_MODE = NADIR
^MEX_POINTING_DESC = "MEX_POINTING_DESC.TXT"
RIGHT_ASCENSION = -1e+32
DECLINATION = -1e+32
OFFSET_ANGLE = -1e+32
SPACECRAFT_SOLAR_DISTANCE = 2.1764e+08
TARGET_NAME = MARS
/* CAMERA DATA ELEMENTS */
DETECTOR_TEMPERATURE = 18.3705
FOCAL_PLANE_TEMPERATURE = 8.5833
INST_CMPRS_NAME = "DISCRETE COSINE TRANSFORMATION (DCT)"
INST_CMPRS_RATIO = 7.9355
INST_CMPRS_QUALITY = 0
INST_CMPRS_QUANTZ_TBL_ID = 0
INSTRUMENT_TEMPERATURE = 10.8262
LENS_TEMPERATURE = 8.5833
MACROPIXEL_SIZE = 2
MISSING_FRAMES = 0
PIXEL_SUBSAMPLING_FLAG = N
SIGNAL_CHAIN_ID = 1
/* RADIOMETRIC DATA ELEMENTS */
BANDWIDTH = 178.0
CENTER_FILTER_WAVELENGTH = 679.0
RADIANCE_OFFSET = 0.931237
RADIANCE_SCALING_FACTOR = 0.00322645
REFLECTANCE_SCALING_FACTOR = 8.09347e-05
MEX:REFLECTANCE_OFFSET = 0.0233599
/* IMAGE OBJECT DEFINITIONS */
OBJECT = IMAGE
  INTERCHANGE_FORMAT = BINARY
  LINES = 16989
  LINE_SAMPLES = 3677
  SAMPLE_TYPE = UNSIGNED_INTEGER
  SAMPLE_BITS = 8
  BANDS = 1
  BAND_STORAGE_TYPE = BAND_SEQUENTIAL
  MAXIMUM = 255
  MEAN = 113.982
  MINIMUM = 1
  STANDARD_DEVIATION = 47.0445
END_OBJECT = IMAGE
/* MAP OBJECT DEFINITIONS */
OBJECT = IMAGE_MAP_PROJECTION
  ^DATA_SET_MAP_PROJECTION_CATALOG= "DSMAP.CAT"
  A_AXIS_RADIUS = 3396.0
  B_AXIS_RADIUS = 3396.0
  C_AXIS_RADIUS = 3396.0
  CENTER_LATITUDE = 0.0
  CENTER_LONGITUDE = 173.0
  COORDINATE_SYSTEM_NAME = PLANETOGRAPHIC
  COORDINATE_SYSTEM_TYPE = "BODY-FIXED ROTATING"
  EASTERNMOST_LONGITUDE = 173.915
  FIRST_STANDARD_PARALLEL = "N/A"
  LINE_FIRST_PIXEL = 1
  LINE_LAST_PIXEL = 16989
  LINE_PROJECTION_OFFSET = -10034.75
  MAP_PROJECTION_ROTATION = 0.0
  MAP_PROJECTION_TYPE = SINUSOIDAL
  MAP_RESOLUTION = 2370.85521546667
  MAP_SCALE = 0.025
  MAXIMUM_LATITUDE = -4.19827
  MINIMUM_LATITUDE = -11.3654
  POSITIVE_LONGITUDE_DIRECTION = EAST
  REFERENCE_LATITUDE = "N/A"
  REFERENCE_LONGITUDE = "N/A"
  SAMPLE_FIRST_PIXEL = 1
  SAMPLE_LAST_PIXEL = 3677
  SAMPLE_PROJECTION_OFFSET = 1512.75
  SECOND_STANDARD_PARALLEL = "N/A"
  WESTERNMOST_LONGITUDE = 172.327
END_OBJECT = IMAGE_MAP_PROJECTION
END
