PDS_VERSION_ID = PDS3
/* FILE DATA ELEMENTS */
RECORD_TYPE = UNDEFINED
/* POINTERS TO DATA OBJECTS */
^IMAGE = ("HQ062_0000_ND4.TIF")
/* IDENTIFICATION DATA ELEMENTS */
DATA_SET_ID = "MEX-M-HRSC-4-REFDR-MAPPROJECT-EXT9-V4.0"
DATA_SET_NAME = "MARS EXPRESS HRSC MAP PROJECTED REFDR EXTENSION9 V4.0"
DETECTOR_ID = MEX_HRSC_NADIR
EVENT_TYPE = "MARS-LOCAL-SYSTEMTEST-Tc-Ot-Sh"
INSTRUMENT_HOST_ID = MEX
INSTRUMENT_HOST_NAME = "MARS EXPRESS"
INSTRUMENT_ID = HRSC
INSTRUMENT_NAME = "HIGH RESOLUTION STEREO CAMERA"
MISSION_NAME = "MARS EXPRESS"
MISSION_PHASE_NAME = ME_Phase_50
PROCESSING_LEVEL_ID = 4
PRODUCT_CREATION_TIME = 2025-01-28T19:40:01.000Z
PRODUCT_ID = "HQ062_0000_ND4.TIF"
RELEASE_ID = 0018
REVISION_ID = 0000
/* QUALITY DATA ELEMENTS */
DATA_QUALITY_ID = 1
DATA_QUALITY_DESC = "Data calculated based on original SPICE kernels"
/* TIME DATA ELEMENTS */
SPACECRAFT_CLOCK_START_COUNT = "1/0672539337.00333"
SPACECRAFT_CLOCK_STOP_COUNT = "1/0672539527.32013"
START_TIME = 2024-08-24T00:30:22.345Z
STOP_TIME = 2024-08-24T00:32:15.349Z
/* ORBITAL DATA ELEMENTS */
ASCENDING_NODE_LONGITUDE = 91.46
MAXIMUM_RESOLUTION = 0.0157
FOOTPRINT_POINT_LATITUDE = (-4.25202,-4.24661,-4.24407,-4.24078, -4.23702,-4.23482,-4.23464,-4.23418, -4.44909,-4.59232,-4.73554,-4.87871, -5.02184,-5.16496,-5.30803,-5.45108, -5.59409,-5.73705,-5.87999,-6.02289, -6.16574,-6.30855,-6.45131,-6.59403, -6.73671,-6.87935,-7.02195,-7.1645, -7.30697,-7.44942,-7.59185,-7.73425, -8.01882,-8.3744,-8.65858,-8.94256, -9.22636,-9.50997,-9.79333,-10.0765, -10.3595,-10.5057,-10.7234,-10.8684, -11.0134,-11.1583,-11.3032,-11.3756, -11.3801,-11.384,-11.3861,-11.3894, -11.3933,-11.3953,-11.3975,-11.3977, -11.3975,-11.2527,-11.1078,-10.9629, -10.8179,-10.6728,-10.5277,-10.2399, -10.0278,-9.74479,-9.46152,-9.17806, -8.89423,-8.61,-8.32578,-8.04142,-7.899 ,-7.75656,-7.61414,-7.47165,-7.3291, -7.18655,-7.04395,-6.90133,-6.75869, -6.61601,-6.47329,-6.33052,-6.18771, -6.04484,-5.90192,-5.75898,-5.616, -5.47301,-5.32998,-5.18692,-5.04381, -4.90065,-4.75747,-4.61426,-4.47102, -4.32775,-4.2561,-4.25202)
FOOTPRINT_POINT_LONGITUDE = (173.89,173.447,173.246,172.991,172.71, 172.549,172.535,172.522,172.517,172.515 ,172.512,172.509,172.507,172.504, 172.501,172.499,172.496,172.493,172.49, 172.488,172.485,172.482,172.479,172.476 ,172.473,172.47,172.467,172.464,172.46, 172.457,172.454,172.451,172.444,172.437 ,172.43,172.424,172.417,172.411,172.404 ,172.398,172.391,172.387,172.382, 172.378,172.374,172.371,172.368,172.366 ,172.366,172.648,172.811,173.078, 173.419,173.612,173.849,173.864,173.871 ,173.871,173.871,173.871,173.87,173.87, 173.87,173.87,173.868,173.866,173.864, 173.862,173.863,173.867,173.867,173.867 ,173.87,173.872,173.873,173.875,173.877 ,173.878,173.879,173.88,173.881,173.881 ,173.882,173.883,173.883,173.884, 173.886,173.887,173.888,173.889,173.89, 173.89,173.891,173.892,173.894,173.895, 173.896,173.897,173.897,173.89)
ORBIT_NUMBER = 26062
ORBITAL_ECCENTRICITY = 0.573
ORBITAL_INCLINATION = 87.09
ORBITAL_SEMIMAJOR_AXIS = 8844.44
PERIAPSIS_ALTITUDE = 379.59
PERIAPSIS_ARGUMENT_ANGLE = 177.86
PERIAPSIS_TIME = 2024-08-24T00:28:42.000Z
SPACECRAFT_ORIENTATION = (0.0,-1.0,0.0)
^MEX_ORIENTATION_DESC = "MEX_ORIENTATION_DESC.TXT"
SPACECRAFT_POINTING_MODE = NADIR
^MEX_POINTING_DESC = "MEX_POINTING_DESC.TXT"
RIGHT_ASCENSION = -1e+32
DECLINATION = -1e+32
OFFSET_ANGLE = -1e+32
SPACECRAFT_SOLAR_DISTANCE = 2.1764e+08
TARGET_NAME = MARS
/* CAMERA DATA ELEMENTS */
DETECTOR_TEMPERATURE = 17.7588
FOCAL_PLANE_TEMPERATURE = 8.5833
INST_CMPRS_NAME = "DISCRETE COSINE TRANSFORMATION (DCT)"
INST_CMPRS_RATIO = 4.95559
INST_CMPRS_QUALITY = 0
INST_CMPRS_QUANTZ_TBL_ID = 0
INSTRUMENT_TEMPERATURE = 10.8262
LENS_TEMPERATURE = 8.5833
MACROPIXEL_SIZE = 1
MISSING_FRAMES = 0
MISSING_FRAMES = 1
PIXEL_SUBSAMPLING_FLAG = N
SIGNAL_CHAIN_ID = 0
/* RADIOMETRIC DATA ELEMENTS */
BANDWIDTH = 177.0
CENTER_FILTER_WAVELENGTH = 677.5
RADIANCE_OFFSET = 0.755057
RADIANCE_SCALING_FACTOR = 0.0030643
REFLECTANCE_SCALING_FACTOR = 7.71071e-05
MEX:REFLECTANCE_OFFSET = 0.0189995
/* IMAGE OBJECT DEFINITIONS */
OBJECT = IMAGE
  INTERCHANGE_FORMAT = BINARY
  LINES = 33978
  LINE_SAMPLES = 7354
  SAMPLE_TYPE = UNSIGNED_INTEGER
  SAMPLE_BITS = 8
  BANDS = 1
  BAND_STORAGE_TYPE = BAND_SEQUENTIAL
  MAXIMUM = 254
  MEAN = 112.119
  MINIMUM = 1
  STANDARD_DEVIATION = 44.7737
END_OBJECT = IMAGE
/* MAP OBJECT DEFINITIONS */
OBJECT = IMAGE_MAP_PROJECTION
  ^DATA_SET_MAP_PROJECTION_CATALOG= "DSMAP.CAT"
  A_AXIS_RADIUS = 3396.0
  B_AXIS_RADIUS = 3396.0
  C_AXIS_RADIUS = 3396.0
  CENTER_LATITUDE = 0.0
  CENTER_LONGITUDE = 173.0
  COORDINATE_SYSTEM_NAME = PLANETOGRAPHIC
  COORDINATE_SYSTEM_TYPE = "BODY-FIXED ROTATING"
  EASTERNMOST_LONGITUDE = 173.897
  FIRST_STANDARD_PARALLEL = "N/A"
  LINE_FIRST_PIXEL = 1
  LINE_LAST_PIXEL = 33978
  LINE_PROJECTION_OFFSET = -20069.0
  MAP_PROJECTION_ROTATION = 0.0
  MAP_PROJECTION_TYPE = SINUSOIDAL
  MAP_RESOLUTION = 4741.71043093333
  MAP_SCALE = 0.0125
  MAXIMUM_LATITUDE = -4.23418
  MINIMUM_LATITUDE = -11.3977
  POSITIVE_LONGITUDE_DIRECTION = EAST
  REFERENCE_LATITUDE = "N/A"
  REFERENCE_LONGITUDE = "N/A"
  SAMPLE_FIRST_PIXEL = 1
  SAMPLE_LAST_PIXEL = 7354
  SAMPLE_PROJECTION_OFFSET = 3026.0
  SECOND_STANDARD_PARALLEL = "N/A"
  WESTERNMOST_LONGITUDE = 172.366
END_OBJECT = IMAGE_MAP_PROJECTION
END
