PDS_VERSION_ID = PDS3
/* FILE DATA ELEMENTS */
RECORD_TYPE = UNDEFINED
/* POINTERS TO DATA OBJECTS */
^IMAGE = ("HQ032_0000_GR4.TIF")
/* IDENTIFICATION DATA ELEMENTS */
DATA_SET_ID = "MEX-M-HRSC-4-REFDR-MAPPROJECT-EXT9-V4.0"
DATA_SET_NAME = "MARS EXPRESS HRSC MAP PROJECTED REFDR EXTENSION9 V4.0"
DETECTOR_ID = MEX_HRSC_GREEN
EVENT_TYPE = "MARS-TERMINATOR-CALIBRATION-Tc"
INSTRUMENT_HOST_ID = MEX
INSTRUMENT_HOST_NAME = "MARS EXPRESS"
INSTRUMENT_ID = HRSC
INSTRUMENT_NAME = "HIGH RESOLUTION STEREO CAMERA"
MISSION_NAME = "MARS EXPRESS"
MISSION_PHASE_NAME = ME_Phase_50
PROCESSING_LEVEL_ID = 4
PRODUCT_CREATION_TIME = 2025-01-28T19:40:01.000Z
PRODUCT_ID = "HQ032_0000_GR4.TIF"
RELEASE_ID = 0018
REVISION_ID = 0000
/* QUALITY DATA ELEMENTS */
DATA_QUALITY_ID = 1
DATA_QUALITY_DESC = "Data calculated based on original SPICE kernels"
/* TIME DATA ELEMENTS */
SPACECRAFT_CLOCK_START_COUNT = "1/0671777031.64184"
SPACECRAFT_CLOCK_STOP_COUNT = "1/0671777453.63831"
START_TIME = 2024-08-15T04:46:03.203Z
STOP_TIME = 2024-08-15T04:49:37.239Z
/* ORBITAL DATA ELEMENTS */
ASCENDING_NODE_LONGITUDE = 91.99
MAXIMUM_RESOLUTION = 0.715
FOOTPRINT_POINT_LATITUDE = (-43.6259,-43.8717,-43.3342,-44.2, -44.3378,-44.5093,-44.4626,-46.1407, -43.7301,-44.1627,-41.7661,-43.8558, -41.1412,-43.7109,-39.8111,-42.6124, -38.4796,-39.8496,-37.3363,-39.1119, -35.6948,-37.7659,-34.9924,-36.3678, -32.8509,-30.2446,-27.0411,-21.9888, -17.7421,-14.2506,-11.2269,-7.03103, -4.2778,0.234395,3.71264,6.66141, 10.6876,13.5769,16.6131,20.6171,23.2573 ,24.8667,26.9835,27.9067,28.642,28.3413 ,27.7913,29.4189,29.7922,31.8183, 31.6375,34.0776,34.7551,38.0783,41.5059 ,44.5786,47.7199,50.7746,53.4441, 56.7912,60.0851,62.7563,66.5777,68.1366 ,70.122,71.9578,72.5451,72.5578,71.8889 ,69.7856,67.3783,64.8003,62.4345, 59.7367,57.5582,53.4323,49.5614,45.8884 ,43.1276,39.6983,37.0782,33.6751, 28.8863,24.5056,19.3234,15.911,12.3825, 8.33713,4.27868,1.53676,-2.65587, -8.06198,-12.0652,-15.571,-20.722, -23.6474,-27.9132,-33.6067,-39.1937, -43.6259)
FOOTPRINT_POINT_LONGITUDE = (188.912,188.811,189.88,195.102,199.369 ,205.924,209.775,214.039,218.081, 224.769,226.844,229.343,230.875,232.636 ,233.82,235.874,237.093,241.483,239.917 ,243.065,243.539,246.421,245.481, 249.176,248.692,247.002,245.374,243.554 ,242.609,242.173,242.038,242.141, 242.516,243.462,244.569,245.723,247.764 ,249.63,252.036,256.216,259.95,262.888, 268.22,271.999,277.935,285.27,288.607, 292.773,296.546,293.586,297.385,294.522 ,298.771,298.997,298.966,302.83,306.136 ,307.197,307.061,310.56,316.52,319.469, 325.301,328.975,321.194,307.718,298.346 ,284.223,273.748,259.325,250.027, 243.206,238.483,234.216,231.374,227.008 ,223.751,221.179,219.493,217.626, 216.337,214.806,212.865,211.258,209.51, 208.426,207.347,206.149,204.976,204.193 ,203.001,201.46,200.299,199.259,197.673 ,196.73,195.284,193.182,190.85,188.912)
ORBIT_NUMBER = 26032
ORBITAL_ECCENTRICITY = 0.574
ORBITAL_INCLINATION = 87.07
ORBITAL_SEMIMAJOR_AXIS = 8848.56
PERIAPSIS_ALTITUDE = 377.08
PERIAPSIS_ARGUMENT_ANGLE = 182.99
PERIAPSIS_TIME = 2024-08-15T06:56:26.000Z
SPACECRAFT_ORIENTATION = (0.0,-1.0,0.0)
^MEX_ORIENTATION_DESC = "MEX_ORIENTATION_DESC.TXT"
SPACECRAFT_POINTING_MODE = FIXED
^MEX_POINTING_DESC = "MEX_POINTING_DESC.TXT"
RIGHT_ASCENSION = -1e+32
DECLINATION = -1e+32
OFFSET_ANGLE = -1e+32
SPACECRAFT_SOLAR_DISTANCE = 2.16117e+08
TARGET_NAME = MARS
/* CAMERA DATA ELEMENTS */
DETECTOR_TEMPERATURE = 17.5549
FOCAL_PLANE_TEMPERATURE = 8.5833
INST_CMPRS_NAME = "DISCRETE COSINE TRANSFORMATION (DCT)"
INST_CMPRS_RATIO = 14.3624
INST_CMPRS_QUALITY = 0
INST_CMPRS_QUANTZ_TBL_ID = 0
INSTRUMENT_TEMPERATURE = 10.6223
LENS_TEMPERATURE = 8.7872
MACROPIXEL_SIZE = 2
MISSING_FRAMES = 0
PIXEL_SUBSAMPLING_FLAG = N
SIGNAL_CHAIN_ID = 2
/* RADIOMETRIC DATA ELEMENTS */
BANDWIDTH = 88.0
CENTER_FILTER_WAVELENGTH = 538.0
RADIANCE_OFFSET = 0.0
RADIANCE_SCALING_FACTOR = 0.00815419
REFLECTANCE_SCALING_FACTOR = 0.000327856
MEX:REFLECTANCE_OFFSET = 0.0
/* IMAGE OBJECT DEFINITIONS */
OBJECT = IMAGE
  INTERCHANGE_FORMAT = BINARY
  LINES = 7542
  LINE_SAMPLES = 5579
  SAMPLE_TYPE = UNSIGNED_INTEGER
  SAMPLE_BITS = 8
  BANDS = 1
  BAND_STORAGE_TYPE = BAND_SEQUENTIAL
  MAXIMUM = 255
  MEAN = 202.997
  MINIMUM = 1
  STANDARD_DEVIATION = 76.1019
END_OBJECT = IMAGE
/* MAP OBJECT DEFINITIONS */
OBJECT = IMAGE_MAP_PROJECTION
  ^DATA_SET_MAP_PROJECTION_CATALOG= "DSMAP.CAT"
  A_AXIS_RADIUS = 3396.0
  B_AXIS_RADIUS = 3396.0
  C_AXIS_RADIUS = 3396.0
  CENTER_LATITUDE = 21.4077
  CENTER_LONGITUDE = 228.533
  COORDINATE_SYSTEM_NAME = PLANETOGRAPHIC
  COORDINATE_SYSTEM_TYPE = "BODY-FIXED ROTATING"
  EASTERNMOST_LONGITUDE = 328.975
  FIRST_STANDARD_PARALLEL = "N/A"
  LINE_FIRST_PIXEL = 1
  LINE_LAST_PIXEL = 7542
  LINE_PROJECTION_OFFSET = 3753.75
  MAP_PROJECTION_ROTATION = 0.0
  MAP_PROJECTION_TYPE = ORTHOGRAPHIC
  MAP_RESOLUTION = 74.08922548333329
  MAP_SCALE = 0.8
  MAXIMUM_LATITUDE = 72.5578
  MINIMUM_LATITUDE = -46.1407
  POSITIVE_LONGITUDE_DIRECTION = EAST
  REFERENCE_LATITUDE = "N/A"
  REFERENCE_LONGITUDE = "N/A"
  SAMPLE_FIRST_PIXEL = 1
  SAMPLE_LAST_PIXEL = 5579
  SAMPLE_PROJECTION_OFFSET = 2071.75
  SECOND_STANDARD_PARALLEL = "N/A"
  WESTERNMOST_LONGITUDE = 188.811
END_OBJECT = IMAGE_MAP_PROJECTION
END
