PDS_VERSION_ID = PDS3
/* FILE DATA ELEMENTS */
RECORD_TYPE = UNDEFINED
/* POINTERS TO DATA OBJECTS */
^IMAGE = ("HQ016_0000_BL4.TIF")
/* IDENTIFICATION DATA ELEMENTS */
DATA_SET_ID = "MEX-M-HRSC-4-REFDR-MAPPROJECT-EXT9-V4.0"
DATA_SET_NAME = "MARS EXPRESS HRSC MAP PROJECTED REFDR EXTENSION9 V4.0"
DETECTOR_ID = MEX_HRSC_BLUE
EVENT_TYPE = "MARS-TERMINATOR-CALIBRATION-Tc"
INSTRUMENT_HOST_ID = MEX
INSTRUMENT_HOST_NAME = "MARS EXPRESS"
INSTRUMENT_ID = HRSC
INSTRUMENT_NAME = "HIGH RESOLUTION STEREO CAMERA"
MISSION_NAME = "MARS EXPRESS"
MISSION_PHASE_NAME = ME_Phase_50
PROCESSING_LEVEL_ID = 4
PRODUCT_CREATION_TIME = 2025-01-28T19:40:01.000Z
PRODUCT_ID = "HQ016_0000_BL4.TIF"
RELEASE_ID = 0018
REVISION_ID = 0000
/* QUALITY DATA ELEMENTS */
DATA_QUALITY_ID = 1
DATA_QUALITY_DESC = "Data calculated based on original SPICE kernels"
/* TIME DATA ELEMENTS */
SPACECRAFT_CLOCK_START_COUNT = "1/0671374938.65134"
SPACECRAFT_CLOCK_STOP_COUNT = "1/0671375362.61361"
START_TIME = 2024-08-10T13:05:12.198Z
STOP_TIME = 2024-08-10T13:08:49.106Z
/* ORBITAL DATA ELEMENTS */
ASCENDING_NODE_LONGITUDE = 92.26
MAXIMUM_RESOLUTION = 0.6995
FOOTPRINT_POINT_LATITUDE = (-38.7333,-38.9355,-38.638,-39.148, -39.2447,-40.9588,-39.4939,-40.5281, -38.7704,-38.1214,-40.8769,-37.4224, -40.516,-36.5487,-38.328,-35.4825, -37.9575,-35.3184,-36.6531,-33.681, -35.905,-33.179,-34.0337,-31.1322, -33.3031,-30.2306,-25.3862,-22.3352, -18.2549,-15.5744,-11.2758,-7.40201, -3.16576,0.778569,6.76683,9.69617, 12.3822,15.2824,19.3441,21.821,23.3044, 24.8759,26.0163,26.3097,26.266,25.4765, 24.0553,22.7344,26.0898,30.6139,30.572, 33.6714,33.3248,35.7184,35.8628,38.6941 ,41.2431,44.3622,47.8273,52.454,54.7593 ,57.603,61.6491,62.4617,63.3437,66.5626 ,68.4986,69.2389,69.4354,68.9743, 67.9172,66.5709,63.5328,60.3831,57.5615 ,54.525,51.5764,49.0611,45.2134,40.0369 ,33.9633,31.4738,28.383,22.8421,20.2037 ,17.6694,14.099,8.5587,3.17036,-1.07715 ,-5.90781,-11.1091,-16.5634,-21.0837, -24.0894,-28.0416,-31.6794,-34.4992, -36.0162,-38.7333)
FOOTPRINT_POINT_LONGITUDE = (22.6883,22.6202,23.6438,28.5387, 34.0408,38.2209,41.9276,45.2725,49.6096 ,54.0348,55.0877,56.436,57.713,61.4568, 64.5788,65.2038,67.6828,66.556,70.1314, 70.2448,72.9386,71.508,75.1362,75.8782, 78.9062,78.727,77.6481,76.5809,75.5459, 75.1638,74.9069,75.0655,75.6622,76.6145 ,78.9816,80.6208,82.3992,84.7677,89.217 ,92.9905,95.9522,100.277,105.702, 109.073,113.188,118.849,123.709,128.071 ,126.669,128.994,132.218,130.897,134.18 ,131.91,136.304,135.793,139.166,138.526 ,143.729,146.054,151.246,153.821, 160.794,162.705,162.072,150.798,138.737 ,129.4,121.559,108.952,99.3364,91.8428, 81.0538,73.6932,68.7697,64.556,61.1995, 58.7526,55.5589,52.0191,48.6166,47.3948 ,45.9809,43.676,42.662,41.7295,40.4705, 38.6155,36.894,35.5687,34.0795,32.4747, 30.7657,29.3024,28.2956,26.9179,25.5744 ,24.4729,23.8548,22.6883)
ORBIT_NUMBER = 26016
ORBITAL_ECCENTRICITY = 0.574
ORBITAL_INCLINATION = 87.08
ORBITAL_SEMIMAJOR_AXIS = 8845.13
PERIAPSIS_ALTITUDE = 375.5
PERIAPSIS_ARGUMENT_ANGLE = 185.71
PERIAPSIS_TIME = 2024-08-10T15:10:44.000Z
SPACECRAFT_ORIENTATION = (0.0,-1.0,0.0)
^MEX_ORIENTATION_DESC = "MEX_ORIENTATION_DESC.TXT"
SPACECRAFT_POINTING_MODE = FIXED
^MEX_POINTING_DESC = "MEX_POINTING_DESC.TXT"
RIGHT_ASCENSION = -1e+32
DECLINATION = -1e+32
OFFSET_ANGLE = -1e+32
SPACECRAFT_SOLAR_DISTANCE = 2.15333e+08
TARGET_NAME = MARS
/* CAMERA DATA ELEMENTS */
DETECTOR_TEMPERATURE = 18.1666
FOCAL_PLANE_TEMPERATURE = 8.5833
INST_CMPRS_NAME = "DISCRETE COSINE TRANSFORMATION (DCT)"
INST_CMPRS_RATIO = 9.4554
INST_CMPRS_QUALITY = 0
INST_CMPRS_QUANTZ_TBL_ID = 0
INSTRUMENT_TEMPERATURE = 11.0301
LENS_TEMPERATURE = 9.195
MACROPIXEL_SIZE = 2
MISSING_FRAMES = 0
PIXEL_SUBSAMPLING_FLAG = N
SIGNAL_CHAIN_ID = 2
/* RADIOMETRIC DATA ELEMENTS */
BANDWIDTH = 76.0
CENTER_FILTER_WAVELENGTH = 444.0
RADIANCE_OFFSET = 0.0
RADIANCE_SCALING_FACTOR = 0.00901446
REFLECTANCE_SCALING_FACTOR = 0.000429398
MEX:REFLECTANCE_OFFSET = 0.0
/* IMAGE OBJECT DEFINITIONS */
OBJECT = IMAGE
  INTERCHANGE_FORMAT = BINARY
  LINES = 7264
  LINE_SAMPLES = 5776
  SAMPLE_TYPE = UNSIGNED_INTEGER
  SAMPLE_BITS = 8
  BANDS = 1
  BAND_STORAGE_TYPE = BAND_SEQUENTIAL
  MAXIMUM = 255
  MEAN = 160.502
  MINIMUM = 8
  STANDARD_DEVIATION = 76.8966
END_OBJECT = IMAGE
/* MAP OBJECT DEFINITIONS */
OBJECT = IMAGE_MAP_PROJECTION
  ^DATA_SET_MAP_PROJECTION_CATALOG= "DSMAP.CAT"
  A_AXIS_RADIUS = 3396.0
  B_AXIS_RADIUS = 3396.0
  C_AXIS_RADIUS = 3396.0
  CENTER_LATITUDE = 23.854
  CENTER_LONGITUDE = 63.7083
  COORDINATE_SYSTEM_NAME = PLANETOGRAPHIC
  COORDINATE_SYSTEM_TYPE = "BODY-FIXED ROTATING"
  EASTERNMOST_LONGITUDE = 162.705
  FIRST_STANDARD_PARALLEL = "N/A"
  LINE_FIRST_PIXEL = 1
  LINE_LAST_PIXEL = 7264
  LINE_PROJECTION_OFFSET = 3565.75
  MAP_PROJECTION_ROTATION = 0.0
  MAP_PROJECTION_TYPE = ORTHOGRAPHIC
  MAP_RESOLUTION = 74.08922548333329
  MAP_SCALE = 0.8
  MAXIMUM_LATITUDE = 69.4354
  MINIMUM_LATITUDE = -40.9588
  POSITIVE_LONGITUDE_DIRECTION = EAST
  REFERENCE_LATITUDE = "N/A"
  REFERENCE_LONGITUDE = "N/A"
  SAMPLE_FIRST_PIXEL = 1
  SAMPLE_LAST_PIXEL = 5776
  SAMPLE_PROJECTION_OFFSET = 2232.75
  SECOND_STANDARD_PARALLEL = "N/A"
  WESTERNMOST_LONGITUDE = 22.6202
END_OBJECT = IMAGE_MAP_PROJECTION
END
