PDS_VERSION_ID = PDS3
/* FILE DATA ELEMENTS */
RECORD_TYPE = UNDEFINED
/* POINTERS TO DATA OBJECTS */
^IMAGE = ("HQ011_0000_ND4.TIF")
/* IDENTIFICATION DATA ELEMENTS */
DATA_SET_ID = "MEX-M-HRSC-4-REFDR-MAPPROJECT-EXT9-V4.0"
DATA_SET_NAME = "MARS EXPRESS HRSC MAP PROJECTED REFDR EXTENSION9 V4.0"
DETECTOR_ID = MEX_HRSC_NADIR
EVENT_TYPE = "MARS-TERMINATOR-CALIBRATION-Tc"
INSTRUMENT_HOST_ID = MEX
INSTRUMENT_HOST_NAME = "MARS EXPRESS"
INSTRUMENT_ID = HRSC
INSTRUMENT_NAME = "HIGH RESOLUTION STEREO CAMERA"
MISSION_NAME = "MARS EXPRESS"
MISSION_PHASE_NAME = ME_Phase_50
PROCESSING_LEVEL_ID = 4
PRODUCT_CREATION_TIME = 2025-01-28T19:40:01.000Z
PRODUCT_ID = "HQ011_0000_ND4.TIF"
RELEASE_ID = 0018
REVISION_ID = 0000
/* QUALITY DATA ELEMENTS */
DATA_QUALITY_ID = 1
DATA_QUALITY_DESC = "Data calculated based on original SPICE kernels"
/* TIME DATA ELEMENTS */
SPACECRAFT_CLOCK_START_COUNT = "1/0671267027.64192"
SPACECRAFT_CLOCK_STOP_COUNT = "1/0671267428.59717"
START_TIME = 2024-08-09T07:06:22.114Z
STOP_TIME = 2024-08-09T07:09:34.133Z
/* ORBITAL DATA ELEMENTS */
ASCENDING_NODE_LONGITUDE = 92.36
MAXIMUM_RESOLUTION = 0.4066
FOOTPRINT_POINT_LATITUDE = (-64.0757,-65.3276,-70.5643,-71.8107, -75.3302,-76.2023,-76.5969,-77.8573, -74.2426,-72.9967,-72.5193,-69.5011, -65.6934,-61.615,-58.6025,-56.0374, -53.8019,-49.9059,-46.4883,-43.4233, -40.6146,-38.0211,-35.5584,-33.2127, -30.9881,-28.8404,-24.7427,-20.8606, -17.1208,-13.4798,-9.9017,-6.33708, -2.75358,0.883574,4.61759,6.53705, 8.50245,10.523,12.6129,14.7901,17.0678, 19.5132,22.1485,23.5739,25.0963,26.7518 ,28.6304,30.9943,33.8646,37.4661,40.66, 42.3822,45.3112,48.8425,52.3466,58.9879 ,68.9769,63.6791,58.0909,54.3287, 51.3066,48.7249,46.4255,42.4176,38.9434 ,35.8343,32.99,30.358,27.884,25.5442, 23.313,19.1129,15.1785,11.4423,7.84566, 4.36004,0.942073,-2.4392,-5.80966, -9.19795,-12.6327,-16.1467,-19.7761, -23.5735,-25.5558,-27.609,-29.7552, -31.9969,-34.3477,-36.8615,-39.5681, -42.5249,-44.1343,-45.8548,-47.7235, -49.8151,-52.2704,-55.9234,-62.6756, -64.0757)
FOOTPRINT_POINT_LONGITUDE = (58.6783,66.4845,69.0301,65.8025, 86.8452,105.945,121.738,137.962,143.205 ,150.762,159.98,168.854,162.74,156.0, 152.682,150.528,149.045,147.093,145.86, 145.063,144.542,144.229,144.031,143.93, 143.932,143.993,144.274,144.753,145.385 ,146.169,147.135,148.259,149.562, 151.087,152.9,153.941,155.094,156.378, 157.827,159.489,161.402,163.75,166.635, 168.399,170.475,173.009,176.359,181.666 ,187.035,182.409,185.767,180.875, 180.064,179.512,174.364,170.012,139.233 ,128.493,126.291,125.043,124.13,123.394 ,122.769,121.725,120.854,120.091, 119.401,118.764,118.166,117.596,117.049 ,116.0,114.987,113.988,112.987,111.962, 110.901,109.791,108.615,107.342,105.952 ,104.406,102.654,100.616,99.4532, 98.1655,96.7133,95.073,93.1978,90.9708, 88.2695,84.864,82.7554,80.2534,77.1728, 73.1286,67.1986,55.6921,55.6179, 58.6783)
ORBIT_NUMBER = 26011
ORBITAL_ECCENTRICITY = 0.574
ORBITAL_INCLINATION = 87.08
ORBITAL_SEMIMAJOR_AXIS = 8845.32
PERIAPSIS_ALTITUDE = 375.26
PERIAPSIS_ARGUMENT_ANGLE = 186.56
PERIAPSIS_TIME = 2024-08-09T04:15:10.000Z
SPACECRAFT_ORIENTATION = (0.0,-1.0,0.0)
^MEX_ORIENTATION_DESC = "MEX_ORIENTATION_DESC.TXT"
SPACECRAFT_POINTING_MODE = FIXED
^MEX_POINTING_DESC = "MEX_POINTING_DESC.TXT"
RIGHT_ASCENSION = -1e+32
DECLINATION = -1e+32
OFFSET_ANGLE = -1e+32
SPACECRAFT_SOLAR_DISTANCE = 2.15093e+08
TARGET_NAME = MARS
/* CAMERA DATA ELEMENTS */
DETECTOR_TEMPERATURE = 17.7588
FOCAL_PLANE_TEMPERATURE = 9.195
INST_CMPRS_NAME = "DISCRETE COSINE TRANSFORMATION (DCT)"
INST_CMPRS_RATIO = 7.22679
INST_CMPRS_QUALITY = 0
INST_CMPRS_QUANTZ_TBL_ID = 0
INSTRUMENT_TEMPERATURE = 10.6223
LENS_TEMPERATURE = 9.6028
MACROPIXEL_SIZE = 1
MISSING_FRAMES = 0
PIXEL_SUBSAMPLING_FLAG = N
SIGNAL_CHAIN_ID = 0
/* RADIOMETRIC DATA ELEMENTS */
BANDWIDTH = 177.0
CENTER_FILTER_WAVELENGTH = 677.5
RADIANCE_OFFSET = 0.0
RADIANCE_SCALING_FACTOR = 0.0483099
REFLECTANCE_SCALING_FACTOR = 0.00118754
MEX:REFLECTANCE_OFFSET = 0.0
/* IMAGE OBJECT DEFINITIONS */
OBJECT = IMAGE
  INTERCHANGE_FORMAT = BINARY
  LINES = 16130
  LINE_SAMPLES = 10685
  SAMPLE_TYPE = UNSIGNED_INTEGER
  SAMPLE_BITS = 8
  BANDS = 1
  BAND_STORAGE_TYPE = BAND_SEQUENTIAL
  MAXIMUM = 255
  MEAN = 86.2256
  MINIMUM = 1
  STANDARD_DEVIATION = 60.0042
END_OBJECT = IMAGE
/* MAP OBJECT DEFINITIONS */
OBJECT = IMAGE_MAP_PROJECTION
  ^DATA_SET_MAP_PROJECTION_CATALOG= "DSMAP.CAT"
  A_AXIS_RADIUS = 3396.0
  B_AXIS_RADIUS = 3396.0
  C_AXIS_RADIUS = 3396.0
  CENTER_LATITUDE = -6.70001
  CENTER_LONGITUDE = 127.238
  COORDINATE_SYSTEM_NAME = PLANETOGRAPHIC
  COORDINATE_SYSTEM_TYPE = "BODY-FIXED ROTATING"
  EASTERNMOST_LONGITUDE = 187.035
  FIRST_STANDARD_PARALLEL = "N/A"
  LINE_FIRST_PIXEL = 1
  LINE_LAST_PIXEL = 16130
  LINE_PROJECTION_OFFSET = 8197.0
  MAP_PROJECTION_ROTATION = 0.0
  MAP_PROJECTION_TYPE = ORTHOGRAPHIC
  MAP_RESOLUTION = 148.178450966667
  MAP_SCALE = 0.4
  MAXIMUM_LATITUDE = 68.9769
  MINIMUM_LATITUDE = -77.8573
  POSITIVE_LONGITUDE_DIRECTION = EAST
  REFERENCE_LATITUDE = "N/A"
  REFERENCE_LONGITUDE = "N/A"
  SAMPLE_FIRST_PIXEL = 1
  SAMPLE_LAST_PIXEL = 10685
  SAMPLE_PROJECTION_OFFSET = 4551.0
  SECOND_STANDARD_PARALLEL = "N/A"
  WESTERNMOST_LONGITUDE = 55.6179
END_OBJECT = IMAGE_MAP_PROJECTION
END
