PDS_VERSION_ID = PDS3
/* FILE DATA ELEMENTS */
RECORD_TYPE = UNDEFINED
/* POINTERS TO DATA OBJECTS */
^IMAGE = ("HQ009_0000_BL4.TIF")
/* IDENTIFICATION DATA ELEMENTS */
DATA_SET_ID = "MEX-M-HRSC-4-REFDR-MAPPROJECT-EXT9-V4.0"
DATA_SET_NAME = "MARS EXPRESS HRSC MAP PROJECTED REFDR EXTENSION9 V4.0"
DETECTOR_ID = MEX_HRSC_BLUE
EVENT_TYPE = "MARS-TERMINATOR-CALIBRATION-Tc"
INSTRUMENT_HOST_ID = MEX
INSTRUMENT_HOST_NAME = "MARS EXPRESS"
INSTRUMENT_ID = HRSC
INSTRUMENT_NAME = "HIGH RESOLUTION STEREO CAMERA"
MISSION_NAME = "MARS EXPRESS"
MISSION_PHASE_NAME = ME_Phase_50
PROCESSING_LEVEL_ID = 4
PRODUCT_CREATION_TIME = 2025-01-28T19:40:01.000Z
PRODUCT_ID = "HQ009_0000_BL4.TIF"
RELEASE_ID = 0018
REVISION_ID = 0000
/* QUALITY DATA ELEMENTS */
DATA_QUALITY_ID = 1
DATA_QUALITY_DESC = "Data calculated based on original SPICE kernels"
/* TIME DATA ELEMENTS */
SPACECRAFT_CLOCK_START_COUNT = "1/0671195261.00344"
SPACECRAFT_CLOCK_STOP_COUNT = "1/0671195661.58559"
START_TIME = 2024-08-08T11:10:36.094Z
STOP_TIME = 2024-08-08T11:13:49.056Z
/* ORBITAL DATA ELEMENTS */
ASCENDING_NODE_LONGITUDE = 92.39
MAXIMUM_RESOLUTION = 0.8259
FOOTPRINT_POINT_LATITUDE = (-54.5934,-54.6716,-53.9364,-55.1953, -57.0013,-58.7359,-61.248,-59.8465, -61.3501,-58.962,-60.5089,-57.0298, -59.2193,-56.4137,-56.9961,-54.1518, -56.3829,-53.9975,-51.8612,-53.4842, -50.3643,-50.113,-45.4012,-42.0163, -39.4734,-35.8954,-33.3337,-29.0152, -23.8694,-18.1468,-13.7783,-9.5802, -6.40276,-2.3966,0.835259,4.55935, 6.88633,10.8893,14.0211,16.3153,18.1058 ,20.4433,21.5779,22.5927,22.9973, 23.1985,23.0678,24.7786,29.0799,32.8702 ,33.3707,34.5941,38.1657,41.4703, 44.4517,49.4663,53.163,56.275,59.8772, 62.6261,66.0118,67.7696,73.6166,73.4441 ,70.985,68.8011,65.022,61.7802,58.8999, 56.2854,53.8741,51.4857,47.3665,42.2685 ,38.6677,33.618,28.1833,25.0065,21.0471 ,15.3901,11.1822,6.41531,3.19047, -1.78105,-5.38775,-9.29262,-12.0608, -15.234,-19.327,-22.1334,-27.714, -32.3791,-35.2564,-38.6996,-40.9927, -44.7461,-47.0659,-49.8711,-52.1732, -54.5934)
FOOTPRINT_POINT_LONGITUDE = (14.528,14.4596,13.87,18.568,24.8331, 33.1886,43.1937,49.0758,53.6763,60.727, 66.5803,71.0806,77.3126,75.133,81.8205, 82.1036,85.8878,83.4004,88.1919,92.9219 ,91.2084,96.5511,93.0454,90.1757, 88.5103,86.7106,85.7475,84.6427,83.9634 ,83.9697,84.4534,85.3121,86.2111, 87.7318,89.2775,91.4791,93.0911,96.4482 ,99.7871,102.844,105.771,110.786, 114.176,118.633,121.656,126.088,129.103 ,131.898,129.768,130.493,133.673, 130.338,134.159,132.808,135.231,134.01, 135.914,134.16,135.77,138.072,136.548, 137.73,136.625,119.882,102.81,94.377, 84.7945,79.1052,75.164,72.1968,69.8386, 67.7791,64.716,61.5445,59.5962,57.1576, 54.8015,53.5168,51.984,49.8823,48.3576, 46.6435,45.4759,43.645,42.2795,40.7501, 39.623,38.2779,36.4402,35.1045,32.197, 29.4461,27.559,25.0571,23.2099,19.7935, 17.3742,14.0341,10.8563,14.528)
ORBIT_NUMBER = 26009
ORBITAL_ECCENTRICITY = 0.574
ORBITAL_INCLINATION = 87.09
ORBITAL_SEMIMAJOR_AXIS = 8844.03
PERIAPSIS_ALTITUDE = 374.88
PERIAPSIS_ARGUMENT_ANGLE = 186.91
PERIAPSIS_TIME = 2024-08-08T14:17:03.000Z
SPACECRAFT_ORIENTATION = (0.0,-1.0,0.0)
^MEX_ORIENTATION_DESC = "MEX_ORIENTATION_DESC.TXT"
SPACECRAFT_POINTING_MODE = FIXED
^MEX_POINTING_DESC = "MEX_POINTING_DESC.TXT"
RIGHT_ASCENSION = -1e+32
DECLINATION = -1e+32
OFFSET_ANGLE = -1e+32
SPACECRAFT_SOLAR_DISTANCE = 2.14998e+08
TARGET_NAME = MARS
/* CAMERA DATA ELEMENTS */
DETECTOR_TEMPERATURE = 17.9627
FOCAL_PLANE_TEMPERATURE = 8.7872
INST_CMPRS_NAME = "DISCRETE COSINE TRANSFORMATION (DCT)"
INST_CMPRS_RATIO = 9.11557
INST_CMPRS_QUALITY = 0
INST_CMPRS_QUANTZ_TBL_ID = 0
INSTRUMENT_TEMPERATURE = 10.8262
LENS_TEMPERATURE = 9.3989
MACROPIXEL_SIZE = 2
MISSING_FRAMES = 0
PIXEL_SUBSAMPLING_FLAG = N
SIGNAL_CHAIN_ID = 2
/* RADIOMETRIC DATA ELEMENTS */
BANDWIDTH = 76.0
CENTER_FILTER_WAVELENGTH = 444.0
RADIANCE_OFFSET = 0.0
RADIANCE_SCALING_FACTOR = 0.0103313
REFLECTANCE_SCALING_FACTOR = 0.000490558
MEX:REFLECTANCE_OFFSET = 0.0
/* IMAGE OBJECT DEFINITIONS */
OBJECT = IMAGE
  INTERCHANGE_FORMAT = BINARY
  LINES = 7814
  LINE_SAMPLES = 5775
  SAMPLE_TYPE = UNSIGNED_INTEGER
  SAMPLE_BITS = 8
  BANDS = 1
  BAND_STORAGE_TYPE = BAND_SEQUENTIAL
  MAXIMUM = 255
  MEAN = 122.392
  MINIMUM = 1
  STANDARD_DEVIATION = 67.6215
END_OBJECT = IMAGE
/* MAP OBJECT DEFINITIONS */
OBJECT = IMAGE_MAP_PROJECTION
  ^DATA_SET_MAP_PROJECTION_CATALOG= "DSMAP.CAT"
  A_AXIS_RADIUS = 3396.0
  B_AXIS_RADIUS = 3396.0
  C_AXIS_RADIUS = 3396.0
  CENTER_LATITUDE = 7.91224
  CENTER_LONGITUDE = 67.29179999999999
  COORDINATE_SYSTEM_NAME = PLANETOGRAPHIC
  COORDINATE_SYSTEM_TYPE = "BODY-FIXED ROTATING"
  EASTERNMOST_LONGITUDE = 138.072
  FIRST_STANDARD_PARALLEL = "N/A"
  LINE_FIRST_PIXEL = 1
  LINE_LAST_PIXEL = 7814
  LINE_PROJECTION_OFFSET = 3964.25
  MAP_PROJECTION_ROTATION = 0.0
  MAP_PROJECTION_TYPE = ORTHOGRAPHIC
  MAP_RESOLUTION = 74.08922548333329
  MAP_SCALE = 0.8
  MAXIMUM_LATITUDE = 73.61660000000001
  MINIMUM_LATITUDE = -61.3501
  POSITIVE_LONGITUDE_DIRECTION = EAST
  REFERENCE_LATITUDE = "N/A"
  REFERENCE_LONGITUDE = "N/A"
  SAMPLE_FIRST_PIXEL = 1
  SAMPLE_LAST_PIXEL = 5775
  SAMPLE_PROJECTION_OFFSET = 2217.75
  SECOND_STANDARD_PARALLEL = "N/A"
  WESTERNMOST_LONGITUDE = 10.8563
END_OBJECT = IMAGE_MAP_PROJECTION
END
