PDS_VERSION_ID = PDS3
/* FILE DATA ELEMENTS */
RECORD_TYPE = UNDEFINED
/* POINTERS TO DATA OBJECTS */
^IMAGE = ("HQ000_0001_SR4.TIF")
/* IDENTIFICATION DATA ELEMENTS */
DATA_SET_ID = "MEX-M-HRSC-4-REFDR-MAPPROJECT-EXT9-V4.0"
DATA_SET_NAME = "MARS EXPRESS HRSC MAP PROJECTED REFDR EXTENSION9 V4.0"
DETECTOR_ID = MEX_HRSC_SRC
EVENT_TYPE = "MARS-TERMINATOR-CALIBRATION-Tc"
INSTRUMENT_HOST_ID = MEX
INSTRUMENT_HOST_NAME = "MARS EXPRESS"
INSTRUMENT_ID = HRSC
INSTRUMENT_NAME = "HIGH RESOLUTION STEREO CAMERA"
MISSION_NAME = "MARS EXPRESS"
MISSION_PHASE_NAME = ME_Phase_50
PROCESSING_LEVEL_ID = 4
PRODUCT_CREATION_TIME = 2024-08-22T08:06:08.000Z
PRODUCT_ID = "HQ000_0001_SR4.TIF"
RELEASE_ID = 0017
REVISION_ID = 0000
/* QUALITY DATA ELEMENTS */
DATA_QUALITY_ID = 1
DATA_QUALITY_DESC = "Data calculated based on original SPICE kernels"
/* TIME DATA ELEMENTS */
SPACECRAFT_CLOCK_START_COUNT = "1/0670989773.00372"
SPACECRAFT_CLOCK_STOP_COUNT = "1/0670990117.53263"
IMAGE_TIME = 2024-08-06T02:06:30.704Z
START_TIME = 2024-08-06T02:06:30.446Z
STOP_TIME = 2024-08-06T02:06:30.962Z
/* ORBITAL DATA ELEMENTS */
ASCENDING_NODE_LONGITUDE = 92.55
MAXIMUM_RESOLUTION = 0.102194
FOOTPRINT_POINT_LATITUDE = (38.04,37.9721,37.8822,37.8046,37.7273, 37.679,37.6021,37.5255,37.4379,37.3619, 37.293,37.1972,37.1221,37.0471,36.9953, 36.9208,36.8466,36.8454,36.8425,36.7537 ,36.6946,36.633,36.5743,36.5159,36.4283 ,36.3701,36.3093,36.2514,36.1936, 36.0216,35.9049,35.7912,35.6784,35.535, 35.4231,35.3377,35.2259,35.1154,35.0053 ,34.92,34.7836,34.6749,34.5913,34.4836, 34.3495,34.2405,34.1341,34.0283,34.0019 ,33.9839,34.0537,34.1436,34.2139, 34.2844,34.3735,34.4444,34.5157,34.6037 ,34.6621,34.7339,34.8376,34.91,34.9826, 35.031,35.1122,35.1133,35.116,35.1913, 35.3549,35.4642,35.574,35.6935,35.8043, 35.9156,36.0306,36.1151,36.2278,36.3701 ,36.5145,36.6291,36.6879,36.8033, 36.9155,37.0265,37.0849,37.1436,37.2023 ,37.2612,37.3495,37.4437,37.5033, 37.5629,37.6228,37.6828,37.7772,37.8376 ,37.8982,37.9893,38.0198,38.04)
FOOTPRINT_POINT_LONGITUDE = (188.534,188.622,188.746,188.853, 188.959,189.036,189.143,189.25,189.384, 189.491,189.582,189.717,189.824,189.931 ,189.999,190.106,190.213,190.215, 190.212,190.136,190.085,190.032,189.982 ,189.932,189.857,189.808,189.756, 189.707,189.658,189.513,189.415,189.32, 189.225,189.106,189.013,188.943,188.851 ,188.76,188.669,188.6,188.489,188.4, 188.333,188.246,188.138,188.05,187.965, 187.88,187.859,187.845,187.745,187.611, 187.507,187.402,187.274,187.169,187.065 ,186.936,186.851,186.746,186.601, 186.496,186.391,186.311,186.207,186.206 ,186.208,186.266,186.392,186.476, 186.561,186.653,186.739,186.826,186.916 ,186.982,187.071,187.183,187.297, 187.388,187.435,187.527,187.618,187.707 ,187.754,187.802,187.849,187.897, 187.969,188.045,188.093,188.142,188.191 ,188.24,188.317,188.367,188.417,188.492 ,188.517,188.534)
ORBIT_NUMBER = 26000
ORBITAL_ECCENTRICITY = 0.574
ORBITAL_INCLINATION = 87.07
ORBITAL_SEMIMAJOR_AXIS = 8850.95
PERIAPSIS_ALTITUDE = 373.82
PERIAPSIS_ARGUMENT_ANGLE = 188.47
PERIAPSIS_TIME = 2024-08-05T23:25:18.000Z
SPACECRAFT_ORIENTATION = (0.0,-1.0,0.0)
^MEX_ORIENTATION_DESC = "MEX_ORIENTATION_DESC.TXT"
SPACECRAFT_POINTING_MODE = FIXED
^MEX_POINTING_DESC = "MEX_POINTING_DESC.TXT"
RIGHT_ASCENSION = -1e+32
DECLINATION = -1e+32
OFFSET_ANGLE = -1e+32
SPACECRAFT_SOLAR_DISTANCE = 2.14573e+08
TARGET_NAME = MARS
/* CAMERA DATA ELEMENTS */
BUFFER_MODE_ID = BUFFER_8
EXPOSURE_DURATION = 516.096
INST_CMPRS_NAME = NONE
INST_CMPRS_RATIO = 1.0
INST_CMPRS_QUALITY = -2147483648
INST_CMPRS_QUANTZ_TBL_ID = -2147483648
INSTRUMENT_TEMPERATURE = 10.8222
MISSING_FRAMES = 0
START_BIT = 0
/* RADIOMETRIC DATA ELEMENTS */
BANDWIDTH = 250.0
CENTER_FILTER_WAVELENGTH = 600.0
RADIANCE_OFFSET = -9.99e+31
RADIANCE_SCALING_FACTOR = -9.99e+31
REFLECTANCE_SCALING_FACTOR = -9.99e+31
MEX:REFLECTANCE_OFFSET = -9.99e+31
/* IMAGE OBJECT DEFINITIONS */
OBJECT = IMAGE
  INTERCHANGE_FORMAT = BINARY
  LINES = 3072
  LINE_SAMPLES = 2451
  SAMPLE_TYPE = UNSIGNED_INTEGER
  SAMPLE_BITS = 8
  BANDS = 1
  BAND_STORAGE_TYPE = BAND_SEQUENTIAL
  MAXIMUM = 255
  MEAN = 253.44
  MINIMUM = 1
  STANDARD_DEVIATION = 18.6271
END_OBJECT = IMAGE
/* MAP OBJECT DEFINITIONS */
OBJECT = IMAGE_MAP_PROJECTION
  ^DATA_SET_MAP_PROJECTION_CATALOG= "DSMAP.CAT"
  A_AXIS_RADIUS = 3396.19
  B_AXIS_RADIUS = 3396.19
  C_AXIS_RADIUS = 3396.19
  CENTER_LATITUDE = 35.9487
  CENTER_LONGITUDE = 188.144
  COORDINATE_SYSTEM_NAME = PLANETOGRAPHIC
  COORDINATE_SYSTEM_TYPE = "BODY-FIXED ROTATING"
  EASTERNMOST_LONGITUDE = 190.215
  FIRST_STANDARD_PARALLEL = "N/A"
  LINE_FIRST_PIXEL = 1
  LINE_LAST_PIXEL = 3072
  LINE_PROJECTION_OFFSET = 1938.0
  MAP_PROJECTION_ROTATION = 0.0
  MAP_PROJECTION_TYPE = ORTHOGRAPHIC
  MAP_RESOLUTION = 740.9337064023611
  MAP_SCALE = 0.08
  MAXIMUM_LATITUDE = 38.04
  MINIMUM_LATITUDE = 33.9839
  POSITIVE_LONGITUDE_DIRECTION = EAST
  REFERENCE_LATITUDE = "N/A"
  REFERENCE_LONGITUDE = "N/A"
  SAMPLE_FIRST_PIXEL = 1
  SAMPLE_LAST_PIXEL = 2451
  SAMPLE_PROJECTION_OFFSET = 1131.0
  SECOND_STANDARD_PARALLEL = "N/A"
  WESTERNMOST_LONGITUDE = 186.206
END_OBJECT = IMAGE_MAP_PROJECTION
END
