PDS_VERSION_ID = PDS3
/* FILE DATA ELEMENTS */
RECORD_TYPE = UNDEFINED
/* POINTERS TO DATA OBJECTS */
^IMAGE = ("HP995_0000_GR4.TIF")
/* IDENTIFICATION DATA ELEMENTS */
DATA_SET_ID = "MEX-M-HRSC-4-REFDR-MAPPROJECT-EXT9-V4.0"
DATA_SET_NAME = "MARS EXPRESS HRSC MAP PROJECTED REFDR EXTENSION9 V4.0"
DETECTOR_ID = MEX_HRSC_GREEN
EVENT_TYPE = "MARS-TERMINATOR-CALIBRATION-Tc"
INSTRUMENT_HOST_ID = MEX
INSTRUMENT_HOST_NAME = "MARS EXPRESS"
INSTRUMENT_ID = HRSC
INSTRUMENT_NAME = "HIGH RESOLUTION STEREO CAMERA"
MISSION_NAME = "MARS EXPRESS"
MISSION_PHASE_NAME = ME_Phase_50
PROCESSING_LEVEL_ID = 4
PRODUCT_CREATION_TIME = 2024-08-22T08:06:08.000Z
PRODUCT_ID = "HP995_0000_GR4.TIF"
RELEASE_ID = 0017
REVISION_ID = 0000
/* QUALITY DATA ELEMENTS */
DATA_QUALITY_ID = 1
DATA_QUALITY_DESC = "Data calculated based on original SPICE kernels"
/* TIME DATA ELEMENTS */
SPACECRAFT_CLOCK_START_COUNT = "1/0670863945.00348"
SPACECRAFT_CLOCK_STOP_COUNT = "1/0670864349.63056"
START_TIME = 2024-08-04T15:07:57.044Z
STOP_TIME = 2024-08-04T15:11:13.048Z
/* ORBITAL DATA ELEMENTS */
ASCENDING_NODE_LONGITUDE = 92.63
MAXIMUM_RESOLUTION = 0.7912
FOOTPRINT_POINT_LATITUDE = (-60.1825,-60.6841,-62.5768,-65.1091, -68.5005,-72.3872,-73.427,-73.1492, -76.7169,-78.8824,-77.095,-77.582, -77.7748,-76.7534,-72.7583,-69.5222, -66.4253,-62.7086,-59.5223,-56.9124, -52.6326,-48.9318,-45.7128,-42.7945, -40.1032,-35.1869,-30.7262,-26.5801, -22.6471,-18.8688,-15.1819,-11.556, -7.95083,-4.32595,-0.639718,3.15309, 7.122,10.2683,13.6251,16.0443,18.6546, 21.5743,23.2423,25.132,27.7002,31.4445, 35.7707,37.8283,40.3273,42.995,46.0171, 49.175,53.7771,56.4615,55.3036,54.6675, 55.1153,56.9097,59.2699,62.2143,64.6833 ,65.4377,65.8027,59.1871,54.5067, 51.0817,48.2492,43.6047,39.7386,36.3672 ,33.3397,30.5624,27.9804,25.5547, 21.0605,16.9217,13.0394,9.34485,5.7891, 2.33521,-1.0498,-4.40005,-7.7465, -11.1014,-14.5351,-18.0015,-21.5962, -25.3558,-29.3725,-33.6849,-36.0047, -38.4594,-41.0929,-43.9667,-47.1748, -50.9598,-53.0866,-55.6267,-59.5065, -60.1825)
FOOTPRINT_POINT_LONGITUDE = (251.021,259.929,267.045,271.924, 274.924,273.533,271.77,264.167,286.383, 304.908,321.061,336.32,351.553,362.078, 358.043,365.628,370.934,362.949,357.633 ,354.486,350.834,348.587,347.194, 346.259,345.629,344.921,344.707,344.825 ,345.18,345.745,346.47,347.381,348.493, 349.824,351.421,353.339,355.727,357.944 ,360.697,363.016,365.88,369.707,372.318 ,375.766,381.947,381.384,381.303, 379.524,379.12,377.847,376.203,372.253, 367.999,370.647,366.482,360.593,356.2, 350.076,345.414,342.859,342.495,342.263 ,342.285,332.402,329.69,328.02,326.784, 324.963,323.596,322.481,321.527,320.682 ,319.915,319.208,317.916,316.735,315.62 ,314.543,313.481,312.415,311.326,310.2, 308.999,307.759,306.359,304.884,303.204 ,301.267,298.938,296.086,294.358, 292.351,289.947,286.955,283.021,277.213 ,273.156,267.085,252.198,251.021)
ORBIT_NUMBER = 25995
ORBITAL_ECCENTRICITY = 0.574
ORBITAL_INCLINATION = 87.09
ORBITAL_SEMIMAJOR_AXIS = 8842.49
PERIAPSIS_ALTITUDE = 373.85
PERIAPSIS_ARGUMENT_ANGLE = 189.31
PERIAPSIS_TIME = 2024-08-04T12:29:58.000Z
SPACECRAFT_ORIENTATION = (0.0,-1.0,0.0)
^MEX_ORIENTATION_DESC = "MEX_ORIENTATION_DESC.TXT"
SPACECRAFT_POINTING_MODE = FIXED
^MEX_POINTING_DESC = "MEX_POINTING_DESC.TXT"
RIGHT_ASCENSION = -1e+32
DECLINATION = -1e+32
OFFSET_ANGLE = -1e+32
SPACECRAFT_SOLAR_DISTANCE = 2.1434e+08
TARGET_NAME = MARS
/* CAMERA DATA ELEMENTS */
DETECTOR_TEMPERATURE = 17.7588
FOCAL_PLANE_TEMPERATURE = 8.7872
INST_CMPRS_NAME = "DISCRETE COSINE TRANSFORMATION (DCT)"
INST_CMPRS_RATIO = 9.66336
INST_CMPRS_QUALITY = 0
INST_CMPRS_QUANTZ_TBL_ID = 0
INSTRUMENT_TEMPERATURE = 10.8262
LENS_TEMPERATURE = 9.3989
MACROPIXEL_SIZE = 2
MISSING_FRAMES = 0
PIXEL_SUBSAMPLING_FLAG = N
SIGNAL_CHAIN_ID = 2
/* RADIOMETRIC DATA ELEMENTS */
BANDWIDTH = 88.0
CENTER_FILTER_WAVELENGTH = 538.0
RADIANCE_OFFSET = 0.0
RADIANCE_SCALING_FACTOR = 0.0140883
REFLECTANCE_SCALING_FACTOR = 0.000557346
MEX:REFLECTANCE_OFFSET = 0.0
/* IMAGE OBJECT DEFINITIONS */
OBJECT = IMAGE
  INTERCHANGE_FORMAT = BINARY
  LINES = 8034
  LINE_SAMPLES = 5315
  SAMPLE_TYPE = UNSIGNED_INTEGER
  SAMPLE_BITS = 8
  BANDS = 1
  BAND_STORAGE_TYPE = BAND_SEQUENTIAL
  MAXIMUM = 255
  MEAN = 141.753
  MINIMUM = 1
  STANDARD_DEVIATION = 63.9926
END_OBJECT = IMAGE
/* MAP OBJECT DEFINITIONS */
OBJECT = IMAGE_MAP_PROJECTION
  ^DATA_SET_MAP_PROJECTION_CATALOG= "DSMAP.CAT"
  A_AXIS_RADIUS = 3396.0
  B_AXIS_RADIUS = 3396.0
  C_AXIS_RADIUS = 3396.0
  CENTER_LATITUDE = -8.720459999999999
  CENTER_LONGITUDE = 326.975
  COORDINATE_SYSTEM_NAME = PLANETOGRAPHIC
  COORDINATE_SYSTEM_TYPE = "BODY-FIXED ROTATING"
  EASTERNMOST_LONGITUDE = 21.947
  FIRST_STANDARD_PARALLEL = "N/A"
  LINE_FIRST_PIXEL = 1
  LINE_LAST_PIXEL = 8034
  LINE_PROJECTION_OFFSET = 4086.25
  MAP_PROJECTION_ROTATION = 0.0
  MAP_PROJECTION_TYPE = ORTHOGRAPHIC
  MAP_RESOLUTION = 74.08922548333329
  MAP_SCALE = 0.8
  MAXIMUM_LATITUDE = 65.8027
  MINIMUM_LATITUDE = -78.8824
  POSITIVE_LONGITUDE_DIRECTION = EAST
  REFERENCE_LATITUDE = "N/A"
  REFERENCE_LONGITUDE = "N/A"
  SAMPLE_FIRST_PIXEL = 1
  SAMPLE_LAST_PIXEL = 5315
  SAMPLE_PROJECTION_OFFSET = 2090.75
  SECOND_STANDARD_PARALLEL = "N/A"
  WESTERNMOST_LONGITUDE = -108.979
END_OBJECT = IMAGE_MAP_PROJECTION
END
