PDS_VERSION_ID = PDS3
/* FILE DATA ELEMENTS */
RECORD_TYPE = UNDEFINED
/* POINTERS TO DATA OBJECTS */
^IMAGE = ("HP986_0000_ND4.TIF")
/* IDENTIFICATION DATA ELEMENTS */
DATA_SET_ID = "MEX-M-HRSC-4-REFDR-MAPPROJECT-EXT9-V4.0"
DATA_SET_NAME = "MARS EXPRESS HRSC MAP PROJECTED REFDR EXTENSION9 V4.0"
DETECTOR_ID = MEX_HRSC_NADIR
EVENT_TYPE = "MARS-REGIONAL-MAPPING-Gl-Pf"
INSTRUMENT_HOST_ID = MEX
INSTRUMENT_HOST_NAME = "MARS EXPRESS"
INSTRUMENT_ID = HRSC
INSTRUMENT_NAME = "HIGH RESOLUTION STEREO CAMERA"
MISSION_NAME = "MARS EXPRESS"
MISSION_PHASE_NAME = ME_Phase_50
PROCESSING_LEVEL_ID = 4
PRODUCT_CREATION_TIME = 2024-08-22T08:06:08.000Z
PRODUCT_ID = "HP986_0000_ND4.TIF"
RELEASE_ID = 0017
REVISION_ID = 0000
/* QUALITY DATA ELEMENTS */
DATA_QUALITY_ID = 1
DATA_QUALITY_DESC = "Data calculated based on original SPICE kernels"
/* TIME DATA ELEMENTS */
SPACECRAFT_CLOCK_START_COUNT = "1/0670629233.00349"
SPACECRAFT_CLOCK_STOP_COUNT = "1/0670630787.08819"
START_TIME = 2024-08-01T21:57:16.505Z
STOP_TIME = 2024-08-01T22:05:53.497Z
/* ORBITAL DATA ELEMENTS */
ASCENDING_NODE_LONGITUDE = 92.79
MAXIMUM_RESOLUTION = 0.0525
FOOTPRINT_POINT_LATITUDE = (-72.6261,-72.7313,-72.8966,-72.9857, -73.1052,-73.1812,-73.2449,-73.2907, -73.2916,-73.2907,-73.7166,-74.14, -74.5608,-74.9791,-75.395,-75.8084, -76.2193,-76.6277,-77.0337,-77.4374, -77.8384,-78.2371,-78.6335,-79.0275, -79.419,-79.8083,-80.1952,-80.5797, -80.962,-81.3419,-81.7196,-82.0949, -82.4679,-82.8386,-83.3935,-84.1211, -84.84,-85.5491,-86.2484,-86.9364, -87.6111,-88.2663,-88.8823,-89.3626, -89.3322,-88.842,-88.2505,-88.0984, -88.0828,-88.2195,-88.1911,-87.8893, -87.4817,-87.1058,-86.5754,-85.9474, -85.36,-84.9601,-84.0098,-83.3171, -83.2472,-83.2131,-83.4017,-83.5333, -83.6015,-83.6078,-83.5452,-83.4118, -83.2103,-82.9449,-82.6193,-82.2395, -81.8098,-81.3368,-80.8223,-80.2747, -79.9895,-79.6953,-79.3943,-79.0866, -78.7729,-78.4522,-78.1257,-77.7934, -77.4557,-77.1126,-76.7645,-76.4115, -76.054,-75.6909,-75.3237,-74.9519, -74.576,-74.1958,-73.8115,-73.4231, -72.8331,-72.6344,-72.6261)
FOOTPRINT_POINT_LONGITUDE = (28.4599,27.1503,24.7936,23.3004, 20.8847,18.9021,16.5928,13.3258,13.1696 ,12.9697,12.904,12.8361,12.7654,12.6922 ,12.6164,12.537,12.4548,12.3702,12.2819 ,12.1944,12.087,11.9781,11.8672,11.752, 11.626,11.4902,11.3508,11.1995,11.0366, 10.8667,10.6803,10.4806,10.2564,10.0068 ,9.60012,8.9507,8.1951,7.16674,5.80324, 3.82481,0.758463,355.411,344.094, 312.283,251.649,223.345,213.003,211.434 ,211.289,193.88,177.714,156.173,143.755 ,136.763,130.149,124.898,121.405, 119.531,116.131,114.287,114.123,114.041 ,108.96,103.552,97.9002,92.1112,86.3025 ,80.6026,75.1242,69.9514,65.1451, 60.7304,56.7177,53.0846,49.7983,46.8565 ,45.4943,44.2145,42.9988,41.8459, 40.7487,39.713,38.73,37.7975,36.9107, 36.0686,35.2671,34.5037,33.7745,33.0882 ,32.4309,31.805,31.2069,30.636,30.0916, 29.571,28.8326,28.5979,28.4599)
ORBIT_NUMBER = 25986
ORBITAL_ECCENTRICITY = 0.574
ORBITAL_INCLINATION = 87.07
ORBITAL_SEMIMAJOR_AXIS = 8848.32
PERIAPSIS_ALTITUDE = 373.15
PERIAPSIS_ARGUMENT_ANGLE = 190.86
PERIAPSIS_TIME = 2024-08-01T21:38:19.000Z
SPACECRAFT_ORIENTATION = (0.0,-1.0,0.0)
^MEX_ORIENTATION_DESC = "MEX_ORIENTATION_DESC.TXT"
SPACECRAFT_POINTING_MODE = NADIR
^MEX_POINTING_DESC = "MEX_POINTING_DESC.TXT"
RIGHT_ASCENSION = -1e+32
DECLINATION = -1e+32
OFFSET_ANGLE = -1e+32
SPACECRAFT_SOLAR_DISTANCE = 2.13928e+08
TARGET_NAME = MARS
/* CAMERA DATA ELEMENTS */
DETECTOR_TEMPERATURE = 17.7588
FOCAL_PLANE_TEMPERATURE = 9.195
INST_CMPRS_NAME = "DISCRETE COSINE TRANSFORMATION (DCT)"
INST_CMPRS_RATIO = 6.52141
INST_CMPRS_QUALITY = 0
INST_CMPRS_QUANTZ_TBL_ID = 0
INSTRUMENT_TEMPERATURE = 11.0301
LENS_TEMPERATURE = 8.9911
MACROPIXEL_SIZE = 1
MISSING_FRAMES = 1
PIXEL_SUBSAMPLING_FLAG = N
SIGNAL_CHAIN_ID = 0
/* RADIOMETRIC DATA ELEMENTS */
BANDWIDTH = 177.0
CENTER_FILTER_WAVELENGTH = 677.5
RADIANCE_OFFSET = 1.42272
RADIANCE_SCALING_FACTOR = 0.0419346
REFLECTANCE_SCALING_FACTOR = 0.00101953
MEX:REFLECTANCE_OFFSET = 0.0345895
/* IMAGE OBJECT DEFINITIONS */
OBJECT = IMAGE
  INTERCHANGE_FORMAT = BINARY
  LINES = 22699
  LINE_SAMPLES = 14764
  SAMPLE_TYPE = UNSIGNED_INTEGER
  SAMPLE_BITS = 8
  BANDS = 1
  BAND_STORAGE_TYPE = BAND_SEQUENTIAL
  MAXIMUM = 255
  MEAN = 47.6042
  MINIMUM = 1
  STANDARD_DEVIATION = 41.8312
END_OBJECT = IMAGE
/* MAP OBJECT DEFINITIONS */
OBJECT = IMAGE_MAP_PROJECTION
  ^DATA_SET_MAP_PROJECTION_CATALOG= "DSMAP.CAT"
  A_AXIS_RADIUS = 3396.0
  B_AXIS_RADIUS = 3396.0
  C_AXIS_RADIUS = 3396.0
  CENTER_LATITUDE = -82.64700000000001
  CENTER_LONGITUDE = 33.4899
  COORDINATE_SYSTEM_NAME = PLANETOGRAPHIC
  COORDINATE_SYSTEM_TYPE = "BODY-FIXED ROTATING"
  EASTERNMOST_LONGITUDE = 360.0
  FIRST_STANDARD_PARALLEL = "N/A"
  LINE_FIRST_PIXEL = 1
  LINE_LAST_PIXEL = 22699
  LINE_PROJECTION_OFFSET = 11758.0
  MAP_PROJECTION_ROTATION = 0.0
  MAP_PROJECTION_TYPE = ORTHOGRAPHIC
  MAP_RESOLUTION = 1185.42760773333
  MAP_SCALE = 0.05
  MAXIMUM_LATITUDE = -72.62609999999999
  MINIMUM_LATITUDE = -90.0
  POSITIVE_LONGITUDE_DIRECTION = EAST
  REFERENCE_LATITUDE = "N/A"
  REFERENCE_LONGITUDE = "N/A"
  SAMPLE_FIRST_PIXEL = 1
  SAMPLE_LAST_PIXEL = 14764
  SAMPLE_PROJECTION_OFFSET = 6845.0
  SECOND_STANDARD_PARALLEL = "N/A"
  WESTERNMOST_LONGITUDE = 0.0
END_OBJECT = IMAGE_MAP_PROJECTION
END
