PDS_VERSION_ID = PDS3
/* FILE DATA ELEMENTS */
RECORD_TYPE = UNDEFINED
/* POINTERS TO DATA OBJECTS */
^IMAGE = ("HP980_0000_P24.TIF")
/* IDENTIFICATION DATA ELEMENTS */
DATA_SET_ID = "MEX-M-HRSC-4-REFDR-MAPPROJECT-EXT9-V4.0"
DATA_SET_NAME = "MARS EXPRESS HRSC MAP PROJECTED REFDR EXTENSION9 V4.0"
DETECTOR_ID = MEX_HRSC_P2
EVENT_TYPE = "MARS-REGIONAL-MAPPING-Gl"
INSTRUMENT_HOST_ID = MEX
INSTRUMENT_HOST_NAME = "MARS EXPRESS"
INSTRUMENT_ID = HRSC
INSTRUMENT_NAME = "HIGH RESOLUTION STEREO CAMERA"
MISSION_NAME = "MARS EXPRESS"
MISSION_PHASE_NAME = ME_Phase_50
PROCESSING_LEVEL_ID = 4
PRODUCT_CREATION_TIME = 2024-08-22T08:06:08.000Z
PRODUCT_ID = "HP980_0000_P24.TIF"
RELEASE_ID = 0017
REVISION_ID = 0000
/* QUALITY DATA ELEMENTS */
DATA_QUALITY_ID = 1
DATA_QUALITY_DESC = "Data calculated based on original SPICE kernels"
/* TIME DATA ELEMENTS */
SPACECRAFT_CLOCK_START_COUNT = "1/0670478375.64171"
SPACECRAFT_CLOCK_STOP_COUNT = "1/0670479950.40692"
START_TIME = 2024-07-31T04:05:29.424Z
STOP_TIME = 2024-07-31T04:18:14.351Z
/* ORBITAL DATA ELEMENTS */
ASCENDING_NODE_LONGITUDE = 92.89
MAXIMUM_RESOLUTION = 0.1267
FOOTPRINT_POINT_LATITUDE = (-73.5293,-73.7309,-73.8519,-73.9623, -74.0618,-74.1505,-74.228,-74.3489, -74.3922,-74.424,-74.4442,-74.4527, -74.4526,-74.365,-74.8543,-75.3373, -75.8151,-76.2869,-76.7544,-77.2157, -77.6726,-78.1242,-78.5706,-79.0131, -79.4446,-79.8732,-80.3026,-80.7247, -81.1401,-81.5496,-82.3559,-83.1405, -83.8993,-84.459,-85.1759,-85.8614, -86.3575,-86.8302,-87.4008,-87.8792, -88.2024,-88.305,-88.2179,-87.9209, -87.4986,-87.0115,-86.4925,-86.0935, -85.9591,-85.9411,-86.1975,-86.4868, -86.6518,-86.7303,-86.6019,-86.3341, -86.054,-85.7813,-85.3485,-84.727, -84.3598,-83.9806,-83.3462,-82.9382, -82.2687,-82.1838,-82.1534,-82.3872, -82.5915,-82.7611,-82.8904,-82.9736, -83.0055,-82.9809,-82.8978,-82.7535, -82.5438,-82.2746,-81.9457,-81.5601, -81.1199,-80.6285,-79.9418,-79.3497, -78.8803,-78.3811,-78.0409,-77.681, -77.3251,-76.763,-76.3831,-75.9933, -75.5928,-75.1828,-74.7647,-74.339, -73.6834,-73.4546,-73.5293)
FOOTPRINT_POINT_LONGITUDE = (283.416,281.322,279.903,278.465,277.01 ,275.536,274.047,271.031,269.507, 267.972,266.428,264.49,264.295,264.085, 263.901,263.705,263.497,263.277,263.044 ,262.795,262.53,262.248,261.946,261.625 ,261.267,260.886,260.489,260.054, 259.577,259.055,257.868,256.426,254.636 ,253.016,250.298,246.712,243.216, 238.712,230.399,218.143,200.645,184.41, 162.725,145.647,133.851,125.872,120.322 ,117.22,116.323,116.208,110.471,101.168 ,92.1509,77.5722,63.2703,51.9694, 44.6883,39.3881,33.0728,26.5507,23.5171 ,20.7906,17.1753,15.2144,12.5094,12.208 ,12.1065,8.49464,4.5924,0.386455, 355.904,351.167,346.235,341.17,336.075, 331.027,326.083,321.358,316.888,312.712 ,308.844,305.289,301.267,298.386, 296.403,294.554,293.399,292.294,291.249 ,289.771,288.846,287.964,287.125, 286.325,285.564,284.838,283.814,283.49, 283.416)
ORBIT_NUMBER = 25980
ORBITAL_ECCENTRICITY = 0.575
ORBITAL_INCLINATION = 87.09
ORBITAL_SEMIMAJOR_AXIS = 8854.74
PERIAPSIS_ALTITUDE = 372.15
PERIAPSIS_ARGUMENT_ANGLE = 191.91
PERIAPSIS_TIME = 2024-07-31T03:44:02.000Z
SPACECRAFT_ORIENTATION = (0.0,-1.0,0.0)
^MEX_ORIENTATION_DESC = "MEX_ORIENTATION_DESC.TXT"
SPACECRAFT_POINTING_MODE = NADIR
^MEX_POINTING_DESC = "MEX_POINTING_DESC.TXT"
RIGHT_ASCENSION = -1e+32
DECLINATION = -1e+32
OFFSET_ANGLE = -1e+32
SPACECRAFT_SOLAR_DISTANCE = 2.13657e+08
TARGET_NAME = MARS
/* CAMERA DATA ELEMENTS */
DETECTOR_TEMPERATURE = 18.5744
FOCAL_PLANE_TEMPERATURE = 8.7872
INST_CMPRS_NAME = "DISCRETE COSINE TRANSFORMATION (DCT)"
INST_CMPRS_RATIO = 8.76959
INST_CMPRS_QUALITY = 0
INST_CMPRS_QUANTZ_TBL_ID = 0
INSTRUMENT_TEMPERATURE = 10.6223
LENS_TEMPERATURE = 8.9911
MACROPIXEL_SIZE = 2
MISSING_FRAMES = 0
PIXEL_SUBSAMPLING_FLAG = N
SIGNAL_CHAIN_ID = 3
/* RADIOMETRIC DATA ELEMENTS */
BANDWIDTH = 177.0
CENTER_FILTER_WAVELENGTH = 676.5
RADIANCE_OFFSET = 1.58997
RADIANCE_SCALING_FACTOR = 0.032046
REFLECTANCE_SCALING_FACTOR = 0.000775661
MEX:REFLECTANCE_OFFSET = 0.0384847
/* IMAGE OBJECT DEFINITIONS */
OBJECT = IMAGE
  INTERCHANGE_FORMAT = BINARY
  LINES = 11417
  LINE_SAMPLES = 8108
  SAMPLE_TYPE = UNSIGNED_INTEGER
  SAMPLE_BITS = 8
  BANDS = 1
  BAND_STORAGE_TYPE = BAND_SEQUENTIAL
  MAXIMUM = 255
  MEAN = 106.786
  MINIMUM = 1
  STANDARD_DEVIATION = 83.3784
END_OBJECT = IMAGE
/* MAP OBJECT DEFINITIONS */
OBJECT = IMAGE_MAP_PROJECTION
  ^DATA_SET_MAP_PROJECTION_CATALOG= "DSMAP.CAT"
  A_AXIS_RADIUS = 3396.0
  B_AXIS_RADIUS = 3396.0
  C_AXIS_RADIUS = 3396.0
  CENTER_LATITUDE = -83.75749999999999
  CENTER_LONGITUDE = 290.523
  COORDINATE_SYSTEM_NAME = PLANETOGRAPHIC
  COORDINATE_SYSTEM_TYPE = "BODY-FIXED ROTATING"
  EASTERNMOST_LONGITUDE = 360.0
  FIRST_STANDARD_PARALLEL = "N/A"
  LINE_FIRST_PIXEL = 1
  LINE_LAST_PIXEL = 11417
  LINE_PROJECTION_OFFSET = 5887.25
  MAP_PROJECTION_ROTATION = 0.0
  MAP_PROJECTION_TYPE = ORTHOGRAPHIC
  MAP_RESOLUTION = 592.713803866667
  MAP_SCALE = 0.1
  MAXIMUM_LATITUDE = -73.4546
  MINIMUM_LATITUDE = -90.0
  POSITIVE_LONGITUDE_DIRECTION = EAST
  REFERENCE_LATITUDE = "N/A"
  REFERENCE_LONGITUDE = "N/A"
  SAMPLE_FIRST_PIXEL = 1
  SAMPLE_LAST_PIXEL = 8108
  SAMPLE_PROJECTION_OFFSET = 3828.25
  SECOND_STANDARD_PARALLEL = "N/A"
  WESTERNMOST_LONGITUDE = 0.0
END_OBJECT = IMAGE_MAP_PROJECTION
END
