PDS_VERSION_ID = PDS3
/* FILE DATA ELEMENTS */
RECORD_TYPE = UNDEFINED
/* POINTERS TO DATA OBJECTS */
^IMAGE = ("HP980_0000_IR4.TIF")
/* IDENTIFICATION DATA ELEMENTS */
DATA_SET_ID = "MEX-M-HRSC-4-REFDR-MAPPROJECT-EXT9-V4.0"
DATA_SET_NAME = "MARS EXPRESS HRSC MAP PROJECTED REFDR EXTENSION9 V4.0"
DETECTOR_ID = MEX_HRSC_IR
EVENT_TYPE = "MARS-REGIONAL-MAPPING-Gl"
INSTRUMENT_HOST_ID = MEX
INSTRUMENT_HOST_NAME = "MARS EXPRESS"
INSTRUMENT_ID = HRSC
INSTRUMENT_NAME = "HIGH RESOLUTION STEREO CAMERA"
MISSION_NAME = "MARS EXPRESS"
MISSION_PHASE_NAME = ME_Phase_50
PROCESSING_LEVEL_ID = 4
PRODUCT_CREATION_TIME = 2024-08-22T08:06:08.000Z
PRODUCT_ID = "HP980_0000_IR4.TIF"
RELEASE_ID = 0017
REVISION_ID = 0000
/* QUALITY DATA ELEMENTS */
DATA_QUALITY_ID = 1
DATA_QUALITY_DESC = "Data calculated based on original SPICE kernels"
/* TIME DATA ELEMENTS */
SPACECRAFT_CLOCK_START_COUNT = "1/0670478375.64171"
SPACECRAFT_CLOCK_STOP_COUNT = "1/0670479950.40692"
START_TIME = 2024-07-31T04:00:48.292Z
STOP_TIME = 2024-07-31T04:07:28.337Z
/* ORBITAL DATA ELEMENTS */
ASCENDING_NODE_LONGITUDE = 92.89
MAXIMUM_RESOLUTION = 0.1916
FOOTPRINT_POINT_LATITUDE = (-73.6404,-73.8432,-73.9497,-74.0379, -74.096,-74.1504,-74.1919,-74.1932, -74.2932,-74.9008,-75.3044,-75.7067, -76.1075,-76.5061,-77.1015,-77.5001, -77.8919,-78.479,-78.8722,-79.2627, -79.8447,-80.421,-80.8058,-81.187, -81.569,-81.9487,-82.5165,-82.8934, -83.269,-83.6434,-84.0165,-84.389, -84.7603,-85.3162,-85.6793,-86.0455, -86.5904,-87.3148,-88.0336,-88.5854, -89.2893,-89.9582,-89.3018,-88.6053, -87.9125,-87.2253,-87.0539,-86.9516, -86.9486,-86.8734,-86.7145,-86.5156, -86.1694,-85.8767,-85.514,-85.0346, -84.5251,-84.1874,-83.7889,-83.4382, -83.386,-83.3698,-83.7826,-84.0449, -84.2789,-84.3686,-84.3823,-84.3221, -84.2184,-84.1182,-83.8649,-83.5378, -83.1454,-82.9282,-82.6989,-82.4556, -82.0731,-81.667,-81.3852,-80.9487, -80.495,-80.184,-79.867,-79.3854, -79.0554,-78.7228,-78.3789,-78.0403, -77.6868,-77.1628,-76.6192,-76.2578, -75.7127,-75.1581,-74.7817,-74.4073, -74.0281,-73.8385,-73.6404)
FOOTPRINT_POINT_LONGITUDE = (281.085,277.869,275.778,273.665, 271.935,269.79,267.084,266.948,266.79, 266.757,266.733,266.709,266.686,266.662 ,266.627,266.598,266.576,266.541,266.51 ,266.481,266.439,266.4,266.368,266.341, 266.308,266.275,266.222,266.185,266.146 ,266.104,266.059,266.009,265.954, 265.855,265.807,265.731,265.608,265.369 ,264.993,264.453,262.816,181.952, 89.5274,87.787,87.1852,86.8566,86.7975, 86.7646,77.241,68.9507,60.3121,53.4621, 45.4143,40.4865,35.775,31.0058,27.1157, 25.0214,22.9377,21.2792,21.0691,20.9858 ,14.3989,8.49241,0.2819,353.425,348.081 ,340.956,335.751,332.266,325.931, 320.107,314.859,312.465,310.227,308.088 ,305.166,302.492,300.848,298.58,296.511 ,295.234,294.034,292.393,291.364, 290.406,289.469,288.629,287.788,286.667 ,285.591,284.939,284.033,283.185, 282.645,282.144,281.662,281.432, 281.085)
ORBIT_NUMBER = 25980
ORBITAL_ECCENTRICITY = 0.575
ORBITAL_INCLINATION = 87.09
ORBITAL_SEMIMAJOR_AXIS = 8854.74
PERIAPSIS_ALTITUDE = 372.15
PERIAPSIS_ARGUMENT_ANGLE = 191.91
PERIAPSIS_TIME = 2024-07-31T03:44:02.000Z
SPACECRAFT_ORIENTATION = (0.0,-1.0,0.0)
^MEX_ORIENTATION_DESC = "MEX_ORIENTATION_DESC.TXT"
SPACECRAFT_POINTING_MODE = NADIR
^MEX_POINTING_DESC = "MEX_POINTING_DESC.TXT"
RIGHT_ASCENSION = -1e+32
DECLINATION = -1e+32
OFFSET_ANGLE = -1e+32
SPACECRAFT_SOLAR_DISTANCE = 2.13657e+08
TARGET_NAME = MARS
/* CAMERA DATA ELEMENTS */
DETECTOR_TEMPERATURE = 17.1471
FOCAL_PLANE_TEMPERATURE = 8.7872
INST_CMPRS_NAME = "DISCRETE COSINE TRANSFORMATION (DCT)"
INST_CMPRS_RATIO = 7.8616
INST_CMPRS_QUALITY = 0
INST_CMPRS_QUANTZ_TBL_ID = 0
INSTRUMENT_TEMPERATURE = 10.6223
LENS_TEMPERATURE = 8.9911
MACROPIXEL_SIZE = 4
MISSING_FRAMES = 1
PIXEL_SUBSAMPLING_FLAG = N
SIGNAL_CHAIN_ID = 2
/* RADIOMETRIC DATA ELEMENTS */
BANDWIDTH = 81.0
CENTER_FILTER_WAVELENGTH = 955.5
RADIANCE_OFFSET = 0.394852
RADIANCE_SCALING_FACTOR = 0.00983714
REFLECTANCE_SCALING_FACTOR = 0.000968815
MEX:REFLECTANCE_OFFSET = 0.0388872
/* IMAGE OBJECT DEFINITIONS */
OBJECT = IMAGE
  INTERCHANGE_FORMAT = BINARY
  LINES = 5709
  LINE_SAMPLES = 4054
  SAMPLE_TYPE = UNSIGNED_INTEGER
  SAMPLE_BITS = 8
  BANDS = 1
  BAND_STORAGE_TYPE = BAND_SEQUENTIAL
  MAXIMUM = 255
  MEAN = 100.833
  MINIMUM = 1
  STANDARD_DEVIATION = 73.5767
END_OBJECT = IMAGE
/* MAP OBJECT DEFINITIONS */
OBJECT = IMAGE_MAP_PROJECTION
  ^DATA_SET_MAP_PROJECTION_CATALOG= "DSMAP.CAT"
  A_AXIS_RADIUS = 3396.0
  B_AXIS_RADIUS = 3396.0
  C_AXIS_RADIUS = 3396.0
  CENTER_LATITUDE = -83.75749999999999
  CENTER_LONGITUDE = 290.523
  COORDINATE_SYSTEM_NAME = PLANETOGRAPHIC
  COORDINATE_SYSTEM_TYPE = "BODY-FIXED ROTATING"
  EASTERNMOST_LONGITUDE = 360.0
  FIRST_STANDARD_PARALLEL = "N/A"
  LINE_FIRST_PIXEL = 1
  LINE_LAST_PIXEL = 5709
  LINE_PROJECTION_OFFSET = 2943.375
  MAP_PROJECTION_ROTATION = 0.0
  MAP_PROJECTION_TYPE = ORTHOGRAPHIC
  MAP_RESOLUTION = 296.356901933333
  MAP_SCALE = 0.2
  MAXIMUM_LATITUDE = -73.6404
  MINIMUM_LATITUDE = -90.0
  POSITIVE_LONGITUDE_DIRECTION = EAST
  REFERENCE_LATITUDE = "N/A"
  REFERENCE_LONGITUDE = "N/A"
  SAMPLE_FIRST_PIXEL = 1
  SAMPLE_LAST_PIXEL = 4054
  SAMPLE_PROJECTION_OFFSET = 1913.875
  SECOND_STANDARD_PARALLEL = "N/A"
  WESTERNMOST_LONGITUDE = 0.0
END_OBJECT = IMAGE_MAP_PROJECTION
END
