PDS_VERSION_ID = PDS3
/* FILE DATA ELEMENTS */
RECORD_TYPE = UNDEFINED
/* POINTERS TO DATA OBJECTS */
^IMAGE = ("HP975_0000_S24.TIF")
/* IDENTIFICATION DATA ELEMENTS */
DATA_SET_ID = "MEX-M-HRSC-4-REFDR-MAPPROJECT-EXT9-V4.0"
DATA_SET_NAME = "MARS EXPRESS HRSC MAP PROJECTED REFDR EXTENSION9 V4.0"
DETECTOR_ID = MEX_HRSC_S2
EVENT_TYPE = "MARS-REGIONAL-MAPPING-Gl-Pf"
INSTRUMENT_HOST_ID = MEX
INSTRUMENT_HOST_NAME = "MARS EXPRESS"
INSTRUMENT_ID = HRSC
INSTRUMENT_NAME = "HIGH RESOLUTION STEREO CAMERA"
MISSION_NAME = "MARS EXPRESS"
MISSION_PHASE_NAME = ME_Phase_50
PROCESSING_LEVEL_ID = 4
PRODUCT_CREATION_TIME = 2024-08-22T08:06:08.000Z
PRODUCT_ID = "HP975_0000_S24.TIF"
RELEASE_ID = 0017
REVISION_ID = 0000
/* QUALITY DATA ELEMENTS */
DATA_QUALITY_ID = 1
DATA_QUALITY_DESC = "Data calculated based on original SPICE kernels"
/* TIME DATA ELEMENTS */
SPACECRAFT_CLOCK_START_COUNT = "1/0670352597.00420"
SPACECRAFT_CLOCK_STOP_COUNT = "1/0670354094.19223"
START_TIME = 2024-07-29T17:10:14.133Z
STOP_TIME = 2024-07-29T17:29:02.282Z
/* ORBITAL DATA ELEMENTS */
ASCENDING_NODE_LONGITUDE = 92.98
MAXIMUM_RESOLUTION = 0.1336
FOOTPRINT_POINT_LATITUDE = (-71.4689,-71.7335,-71.9387,-72.1005, -72.2177,-72.2899,-72.3153,-72.3146, -72.1797,-73.1365,-73.7608,-74.371, -74.9685,-75.5474,-76.12,-76.674, -77.2224,-78.0291,-78.5486,-79.0571, -79.553,-80.0309,-80.5037,-80.9652, -81.4174,-81.857,-82.285,-82.6979, -83.4847,-84.2134,-84.882,-85.4706, -85.958,-86.2563,-86.5821,-86.6715, -86.6139,-86.4307,-86.1513,-85.8015, -85.5082,-85.0885,-84.6481,-84.5356, -84.5319,-84.9514,-85.4627,-85.8545, -86.2266,-86.5736,-86.8881,-87.3251, -87.5179,-87.5844,-87.5123,-87.3686, -87.1533,-86.8089,-86.4887,-85.949, -85.2686,-84.862,-84.4462,-84.0184, -83.5849,-83.1455,-82.5885,-82.476, -82.4355,-82.635,-82.6821,-82.6714, -82.6225,-82.5303,-82.3907,-82.2001, -81.9523,-81.5599,-81.1779,-80.6033, -80.0709,-79.4747,-78.8193,-78.4693, -78.1041,-77.7257,-77.1221,-76.4841, -76.0468,-75.5836,-75.1071,-74.6162, -74.108,-73.5845,-73.0485,-72.4961, -71.6327,-71.3406,-71.4689)
FOOTPRINT_POINT_LONGITUDE = (72.043,69.3086,66.6734,63.9853,61.2561 ,58.4916,54.8219,54.6464,54.4567, 54.0208,53.7062,53.3664,53.0005,52.5994 ,52.1735,51.7059,51.2079,50.3894, 49.7799,49.1178,48.395,47.5981,46.7352, 45.79,44.7546,43.6137,42.3552,40.9606, 37.6982,33.655,28.6072,22.2953,14.5014, 7.55695,354.176,342.639,331.425,321.368 ,312.83,305.968,301.627,297.032,293.345 ,292.525,292.499,289.939,286.05,282.346 ,277.956,272.717,266.443,252.376, 239.919,228.968,212.454,202.383,193.583 ,184.455,178.495,171.497,165.281, 162.413,159.882,157.795,155.913,154.22, 152.325,151.968,151.842,143.451,137.178 ,133.375,129.344,125.155,120.882, 116.593,112.323,107.123,103.136,98.3887 ,94.8475,91.5527,88.5171,87.0933,85.73, 84.4284,82.574,80.8449,79.7641,78.726, 77.7387,76.7993,75.9045,75.0533,74.2445 ,73.475,72.3908,72.0477,72.043)
ORBIT_NUMBER = 25975
ORBITAL_ECCENTRICITY = 0.574
ORBITAL_INCLINATION = 87.09
ORBITAL_SEMIMAJOR_AXIS = 8849.09
PERIAPSIS_ALTITUDE = 371.66
PERIAPSIS_ARGUMENT_ANGLE = 192.77
PERIAPSIS_TIME = 2024-07-29T16:48:40.000Z
SPACECRAFT_ORIENTATION = (0.0,-1.0,0.0)
^MEX_ORIENTATION_DESC = "MEX_ORIENTATION_DESC.TXT"
SPACECRAFT_POINTING_MODE = NADIR
^MEX_POINTING_DESC = "MEX_POINTING_DESC.TXT"
RIGHT_ASCENSION = -1e+32
DECLINATION = -1e+32
OFFSET_ANGLE = -1e+32
SPACECRAFT_SOLAR_DISTANCE = 2.13435e+08
TARGET_NAME = MARS
/* CAMERA DATA ELEMENTS */
DETECTOR_TEMPERATURE = 18.9822
FOCAL_PLANE_TEMPERATURE = 8.9911
INST_CMPRS_NAME = "DISCRETE COSINE TRANSFORMATION (DCT)"
INST_CMPRS_RATIO = 14.7087
INST_CMPRS_QUALITY = 0
INST_CMPRS_QUANTZ_TBL_ID = 0
INSTRUMENT_TEMPERATURE = 10.6223
LENS_TEMPERATURE = 9.195
MACROPIXEL_SIZE = 2
MISSING_FRAMES = 0
PIXEL_SUBSAMPLING_FLAG = N
SIGNAL_CHAIN_ID = 1
/* RADIOMETRIC DATA ELEMENTS */
BANDWIDTH = 178.0
CENTER_FILTER_WAVELENGTH = 679.0
RADIANCE_OFFSET = 0.0881266
RADIANCE_SCALING_FACTOR = 0.0449273
REFLECTANCE_SCALING_FACTOR = 0.00108386
MEX:REFLECTANCE_OFFSET = 0.00212604
/* IMAGE OBJECT DEFINITIONS */
OBJECT = IMAGE
  INTERCHANGE_FORMAT = BINARY
  LINES = 12342
  LINE_SAMPLES = 7606
  SAMPLE_TYPE = UNSIGNED_INTEGER
  SAMPLE_BITS = 8
  BANDS = 1
  BAND_STORAGE_TYPE = BAND_SEQUENTIAL
  MAXIMUM = 255
  MEAN = 93.443
  MINIMUM = 1
  STANDARD_DEVIATION = 53.7261
END_OBJECT = IMAGE
/* MAP OBJECT DEFINITIONS */
OBJECT = IMAGE_MAP_PROJECTION
  ^DATA_SET_MAP_PROJECTION_CATALOG= "DSMAP.CAT"
  A_AXIS_RADIUS = 3396.0
  B_AXIS_RADIUS = 3396.0
  C_AXIS_RADIUS = 3396.0
  CENTER_LATITUDE = -82.61020000000001
  CENTER_LONGITUDE = 76.8181
  COORDINATE_SYSTEM_NAME = PLANETOGRAPHIC
  COORDINATE_SYSTEM_TYPE = "BODY-FIXED ROTATING"
  EASTERNMOST_LONGITUDE = 360.0
  FIRST_STANDARD_PARALLEL = "N/A"
  LINE_FIRST_PIXEL = 1
  LINE_LAST_PIXEL = 12342
  LINE_PROJECTION_OFFSET = 6442.25
  MAP_PROJECTION_ROTATION = 0.0
  MAP_PROJECTION_TYPE = ORTHOGRAPHIC
  MAP_RESOLUTION = 592.713803866667
  MAP_SCALE = 0.1
  MAXIMUM_LATITUDE = -71.34059999999999
  MINIMUM_LATITUDE = -90.0
  POSITIVE_LONGITUDE_DIRECTION = EAST
  REFERENCE_LATITUDE = "N/A"
  REFERENCE_LONGITUDE = "N/A"
  SAMPLE_FIRST_PIXEL = 1
  SAMPLE_LAST_PIXEL = 7606
  SAMPLE_PROJECTION_OFFSET = 3523.25
  SECOND_STANDARD_PARALLEL = "N/A"
  WESTERNMOST_LONGITUDE = 0.0
END_OBJECT = IMAGE_MAP_PROJECTION
END
