PDS_VERSION_ID = PDS3
/* FILE DATA ELEMENTS */
RECORD_TYPE = UNDEFINED
/* POINTERS TO DATA OBJECTS */
^IMAGE = ("HP975_0000_BL4.TIF")
/* IDENTIFICATION DATA ELEMENTS */
DATA_SET_ID = "MEX-M-HRSC-4-REFDR-MAPPROJECT-EXT9-V4.0"
DATA_SET_NAME = "MARS EXPRESS HRSC MAP PROJECTED REFDR EXTENSION9 V4.0"
DETECTOR_ID = MEX_HRSC_BLUE
EVENT_TYPE = "MARS-REGIONAL-MAPPING-Gl-Pf"
INSTRUMENT_HOST_ID = MEX
INSTRUMENT_HOST_NAME = "MARS EXPRESS"
INSTRUMENT_ID = HRSC
INSTRUMENT_NAME = "HIGH RESOLUTION STEREO CAMERA"
MISSION_NAME = "MARS EXPRESS"
MISSION_PHASE_NAME = ME_Phase_50
PROCESSING_LEVEL_ID = 4
PRODUCT_CREATION_TIME = 2024-08-22T08:06:08.000Z
PRODUCT_ID = "HP975_0000_BL4.TIF"
RELEASE_ID = 0017
REVISION_ID = 0000
/* QUALITY DATA ELEMENTS */
DATA_QUALITY_ID = 1
DATA_QUALITY_DESC = "Data calculated based on original SPICE kernels"
/* TIME DATA ELEMENTS */
SPACECRAFT_CLOCK_START_COUNT = "1/0670352597.00420"
SPACECRAFT_CLOCK_STOP_COUNT = "1/0670354094.19223"
START_TIME = 2024-07-29T17:06:53.506Z
STOP_TIME = 2024-07-29T17:16:46.436Z
/* ORBITAL DATA ELEMENTS */
ASCENDING_NODE_LONGITUDE = 92.98
MAXIMUM_RESOLUTION = 0.2003
FOOTPRINT_POINT_LATITUDE = (-71.572,-71.7056,-71.807,-71.9232, -71.9958,-72.0732,-72.1282,-72.1651, -72.166,-72.147,-72.873,-73.3527, -73.8295,-74.302,-74.7719,-75.2377, -75.7002,-76.1592,-76.6149,-77.0675, -77.517,-77.9632,-78.4052,-78.8456, -79.2806,-79.7141,-80.1442,-80.5712, -80.9952,-81.416,-81.8339,-82.2486, -82.6609,-83.476,-84.2785,-85.0687, -85.8461,-86.6103,-87.359,-88.0865, -88.7756,-89.3363,-89.335,-88.7913, -88.1413,-87.473,-87.3054,-87.2749, -87.38,-87.4026,-87.2944,-86.9934, -86.6817,-86.4108,-85.9591,-85.4679, -85.0658,-84.5294,-83.9141,-83.4099, -83.0255,-82.9609,-82.9399,-83.2085, -83.4192,-83.5608,-83.6373,-83.6312, -83.5417,-83.3697,-83.1176,-82.7907, -82.3949,-81.9376,-81.4235,-80.8583, -80.2503,-79.6041,-79.2678,-78.9225, -78.5695,-78.2093,-77.8408,-77.4676, -77.0847,-76.6956,-76.3033,-75.9021, -75.4945,-75.0816,-74.6632,-74.2391, -73.8096,-73.3746,-72.9352,-72.4898, -71.8133,-71.5842,-71.572)
FOOTPRINT_POINT_LONGITUDE = (70.7323,68.9967,67.4938,65.4681,63.934 ,61.8737,59.7958,57.176,57.0447,56.898, 56.8022,56.735,56.6688,56.594,56.5208, 56.44,56.3554,56.2656,56.1716,56.0737, 55.9711,55.8627,55.7399,55.6231,55.4784 ,55.3394,55.1876,55.0247,54.8498, 54.6596,54.4541,54.228,53.9887,53.423, 52.7104,51.7881,50.5421,48.7731,46.0396 ,41.262,31.0715,0.936104,295.251, 265.681,255.648,250.88,250.06,249.923, 239.844,230.713,215.867,201.839,193.583 ,188.406,182.016,176.942,173.71,170.252 ,167.128,165.04,163.663,163.447,163.368 ,158.347,152.856,146.94,140.779,134.433 ,128.084,121.899,116.015,110.533, 105.509,100.962,96.8835,93.2495,90.0161 ,87.1408,85.8249,84.5857,83.416,82.3106 ,81.2698,80.2797,79.3521,78.474,77.6336 ,76.8454,76.1003,75.392,74.7197,74.0819 ,73.4762,72.9007,72.3513,71.8307, 71.0934,70.8624,70.7323)
ORBIT_NUMBER = 25975
ORBITAL_ECCENTRICITY = 0.574
ORBITAL_INCLINATION = 87.09
ORBITAL_SEMIMAJOR_AXIS = 8849.09
PERIAPSIS_ALTITUDE = 371.66
PERIAPSIS_ARGUMENT_ANGLE = 192.77
PERIAPSIS_TIME = 2024-07-29T16:48:40.000Z
SPACECRAFT_ORIENTATION = (0.0,-1.0,0.0)
^MEX_ORIENTATION_DESC = "MEX_ORIENTATION_DESC.TXT"
SPACECRAFT_POINTING_MODE = NADIR
^MEX_POINTING_DESC = "MEX_POINTING_DESC.TXT"
RIGHT_ASCENSION = -1e+32
DECLINATION = -1e+32
OFFSET_ANGLE = -1e+32
SPACECRAFT_SOLAR_DISTANCE = 2.13435e+08
TARGET_NAME = MARS
/* CAMERA DATA ELEMENTS */
DETECTOR_TEMPERATURE = 17.9627
FOCAL_PLANE_TEMPERATURE = 8.9911
INST_CMPRS_NAME = "DISCRETE COSINE TRANSFORMATION (DCT)"
INST_CMPRS_RATIO = 32.8789
INST_CMPRS_QUALITY = 0
INST_CMPRS_QUANTZ_TBL_ID = 0
INSTRUMENT_TEMPERATURE = 10.6223
LENS_TEMPERATURE = 9.195
MACROPIXEL_SIZE = 4
MISSING_FRAMES = 0
PIXEL_SUBSAMPLING_FLAG = N
SIGNAL_CHAIN_ID = 2
/* RADIOMETRIC DATA ELEMENTS */
BANDWIDTH = 76.0
CENTER_FILTER_WAVELENGTH = 444.0
RADIANCE_OFFSET = 0.281467
RADIANCE_SCALING_FACTOR = 0.0170398
REFLECTANCE_SCALING_FACTOR = 0.00079755
MEX:REFLECTANCE_OFFSET = 0.0131741
/* IMAGE OBJECT DEFINITIONS */
OBJECT = IMAGE
  INTERCHANGE_FORMAT = BINARY
  LINES = 6171
  LINE_SAMPLES = 3803
  SAMPLE_TYPE = UNSIGNED_INTEGER
  SAMPLE_BITS = 8
  BANDS = 1
  BAND_STORAGE_TYPE = BAND_SEQUENTIAL
  MAXIMUM = 255
  MEAN = 14.1843
  MINIMUM = 1
  STANDARD_DEVIATION = 29.0212
END_OBJECT = IMAGE
/* MAP OBJECT DEFINITIONS */
OBJECT = IMAGE_MAP_PROJECTION
  ^DATA_SET_MAP_PROJECTION_CATALOG= "DSMAP.CAT"
  A_AXIS_RADIUS = 3396.0
  B_AXIS_RADIUS = 3396.0
  C_AXIS_RADIUS = 3396.0
  CENTER_LATITUDE = -82.61020000000001
  CENTER_LONGITUDE = 76.8181
  COORDINATE_SYSTEM_NAME = PLANETOGRAPHIC
  COORDINATE_SYSTEM_TYPE = "BODY-FIXED ROTATING"
  EASTERNMOST_LONGITUDE = 360.0
  FIRST_STANDARD_PARALLEL = "N/A"
  LINE_FIRST_PIXEL = 1
  LINE_LAST_PIXEL = 6171
  LINE_PROJECTION_OFFSET = 3220.875
  MAP_PROJECTION_ROTATION = 0.0
  MAP_PROJECTION_TYPE = ORTHOGRAPHIC
  MAP_RESOLUTION = 296.356901933333
  MAP_SCALE = 0.2
  MAXIMUM_LATITUDE = -71.572
  MINIMUM_LATITUDE = -90.0
  POSITIVE_LONGITUDE_DIRECTION = EAST
  REFERENCE_LATITUDE = "N/A"
  REFERENCE_LONGITUDE = "N/A"
  SAMPLE_FIRST_PIXEL = 1
  SAMPLE_LAST_PIXEL = 3803
  SAMPLE_PROJECTION_OFFSET = 1761.375
  SECOND_STANDARD_PARALLEL = "N/A"
  WESTERNMOST_LONGITUDE = 0.0
END_OBJECT = IMAGE_MAP_PROJECTION
END
