PDS_VERSION_ID = PDS3
/* FILE DATA ELEMENTS */
RECORD_TYPE = UNDEFINED
/* POINTERS TO DATA OBJECTS */
^IMAGE = ("HP971_0000_S24.TIF")
/* IDENTIFICATION DATA ELEMENTS */
DATA_SET_ID = "MEX-M-HRSC-4-REFDR-MAPPROJECT-EXT9-V4.0"
DATA_SET_NAME = "MARS EXPRESS HRSC MAP PROJECTED REFDR EXTENSION9 V4.0"
DETECTOR_ID = MEX_HRSC_S2
EVENT_TYPE = "MARS-REGIONAL-MAPPING-Gl-Pf"
INSTRUMENT_HOST_ID = MEX
INSTRUMENT_HOST_NAME = "MARS EXPRESS"
INSTRUMENT_ID = HRSC
INSTRUMENT_NAME = "HIGH RESOLUTION STEREO CAMERA"
MISSION_NAME = "MARS EXPRESS"
MISSION_PHASE_NAME = ME_Phase_50
PROCESSING_LEVEL_ID = 4
PRODUCT_CREATION_TIME = 2024-08-22T08:06:08.000Z
PRODUCT_ID = "HP971_0000_S24.TIF"
RELEASE_ID = 0017
REVISION_ID = 0000
/* QUALITY DATA ELEMENTS */
DATA_QUALITY_ID = 1
DATA_QUALITY_DESC = "Data calculated based on original SPICE kernels"
/* TIME DATA ELEMENTS */
SPACECRAFT_CLOCK_START_COUNT = "1/0670251982.65089"
SPACECRAFT_CLOCK_STOP_COUNT = "1/0670253226.29261"
START_TIME = 2024-07-28T13:12:49.500Z
STOP_TIME = 2024-07-28T13:27:54.412Z
/* ORBITAL DATA ELEMENTS */
ASCENDING_NODE_LONGITUDE = 93.05
MAXIMUM_RESOLUTION = 0.125
FOOTPRINT_POINT_LATITUDE = (-70.2533,-70.4763,-70.6498,-70.7876, -70.8887,-70.9531,-70.9812,-70.9809, -70.8618,-71.6621,-72.1982,-72.7376, -73.2532,-74.0095,-74.7545,-75.2424, -75.7179,-76.1735,-76.6375,-77.0881, -77.5256,-77.963,-78.3926,-78.8152, -79.2307,-79.64,-80.2379,-80.6348, -81.378,-82.1017,-82.7976,-83.4644, -84.0865,-84.6679,-85.1993,-85.6823, -86.1004,-86.4409,-86.6911,-86.8357, -86.8797,-86.8154,-86.7846,-86.7487, -87.1566,-87.6677,-88.1749,-88.5747, -88.9743,-89.361,-89.7431,-89.5989, -89.2373,-88.4507,-88.0505,-87.549, -87.148,-86.4425,-85.9387,-85.4332, -85.0284,-84.6224,-84.2153,-83.8074, -83.3984,-82.8855,-82.7826,-82.7455, -82.7165,-82.6583,-82.5676,-82.4409, -82.2752,-82.1171,-81.8821,-81.6068, -81.2825,-81.0161,-80.6254,-80.1843, -79.8209,-79.3102,-78.4439,-77.8333, -76.993,-76.4527,-76.0845,-75.7056, -75.3168,-74.9167,-74.5054,-74.091, -73.4435,-72.7824,-72.087,-71.604, -71.1165,-70.6195,-70.3709,-70.2533)
FOOTPRINT_POINT_LONGITUDE = (119.23,116.808,114.488,112.131,109.746 ,107.335,104.138,103.985,103.823, 103.519,103.314,103.11,102.877,102.5, 102.096,101.807,101.494,101.147,100.797 ,100.416,100.003,99.5712,99.109,98.6144 ,98.0842,97.5162,96.5795,95.9035, 94.3468,92.537,90.4028,87.8636,84.8093, 81.1226,76.6564,71.2291,64.6734,56.881, 47.8901,38.052,27.7545,17.9005,15.5623, 13.2995,13.6881,14.5338,16.0125,18.3545 ,21.9701,30.5258,78.7411,150.67,169.203 ,178.155,179.588,180.86,181.715,182.399 ,182.796,183.004,183.128,183.193, 183.226,183.24,183.231,183.195,183.185, 183.18,179.75,176.217,172.607,168.947, 165.273,162.475,158.908,155.442,152.061 ,149.644,146.563,143.619,141.515, 138.894,135.249,133.064,130.532,129.125 ,128.237,127.384,126.565,125.779, 125.024,124.303,123.272,122.306,121.396 ,120.821,120.269,119.741,119.485, 119.23)
ORBIT_NUMBER = 25971
ORBITAL_ECCENTRICITY = 0.574
ORBITAL_INCLINATION = 87.08
ORBITAL_SEMIMAJOR_AXIS = 8848.58
PERIAPSIS_ALTITUDE = 371.77
PERIAPSIS_ARGUMENT_ANGLE = 193.42
PERIAPSIS_TIME = 2024-07-28T12:52:22.000Z
SPACECRAFT_ORIENTATION = (0.0,-1.0,0.0)
^MEX_ORIENTATION_DESC = "MEX_ORIENTATION_DESC.TXT"
SPACECRAFT_POINTING_MODE = NADIR
^MEX_POINTING_DESC = "MEX_POINTING_DESC.TXT"
RIGHT_ASCENSION = -1e+32
DECLINATION = -1e+32
OFFSET_ANGLE = -1e+32
SPACECRAFT_SOLAR_DISTANCE = 2.13259e+08
TARGET_NAME = MARS
/* CAMERA DATA ELEMENTS */
DETECTOR_TEMPERATURE = 18.7783
FOCAL_PLANE_TEMPERATURE = 8.5833
INST_CMPRS_NAME = "DISCRETE COSINE TRANSFORMATION (DCT)"
INST_CMPRS_RATIO = 14.1431
INST_CMPRS_QUALITY = 0
INST_CMPRS_QUANTZ_TBL_ID = 0
INSTRUMENT_TEMPERATURE = 10.8262
LENS_TEMPERATURE = 9.195
MACROPIXEL_SIZE = 2
MISSING_FRAMES = 0
PIXEL_SUBSAMPLING_FLAG = N
SIGNAL_CHAIN_ID = 1
/* RADIOMETRIC DATA ELEMENTS */
BANDWIDTH = 178.0
CENTER_FILTER_WAVELENGTH = 679.0
RADIANCE_OFFSET = 1.86201
RADIANCE_SCALING_FACTOR = 0.036012
REFLECTANCE_SCALING_FACTOR = 0.000867353
MEX:REFLECTANCE_OFFSET = 0.0448466
/* IMAGE OBJECT DEFINITIONS */
OBJECT = IMAGE
  INTERCHANGE_FORMAT = BINARY
  LINES = 11474
  LINE_SAMPLES = 6164
  SAMPLE_TYPE = UNSIGNED_INTEGER
  SAMPLE_BITS = 8
  BANDS = 1
  BAND_STORAGE_TYPE = BAND_SEQUENTIAL
  MAXIMUM = 255
  MEAN = 46.5375
  MINIMUM = 1
  STANDARD_DEVIATION = 21.258
END_OBJECT = IMAGE
/* MAP OBJECT DEFINITIONS */
OBJECT = IMAGE_MAP_PROJECTION
  ^DATA_SET_MAP_PROJECTION_CATALOG= "DSMAP.CAT"
  A_AXIS_RADIUS = 3396.0
  B_AXIS_RADIUS = 3396.0
  C_AXIS_RADIUS = 3396.0
  CENTER_LATITUDE = -80.4781
  CENTER_LONGITUDE = 120.356
  COORDINATE_SYSTEM_NAME = PLANETOGRAPHIC
  COORDINATE_SYSTEM_TYPE = "BODY-FIXED ROTATING"
  EASTERNMOST_LONGITUDE = 183.24
  FIRST_STANDARD_PARALLEL = "N/A"
  LINE_FIRST_PIXEL = 1
  LINE_LAST_PIXEL = 11474
  LINE_PROJECTION_OFFSET = 5987.75
  MAP_PROJECTION_ROTATION = 0.0
  MAP_PROJECTION_TYPE = ORTHOGRAPHIC
  MAP_RESOLUTION = 592.713803866667
  MAP_SCALE = 0.1
  MAXIMUM_LATITUDE = -70.2533
  MINIMUM_LATITUDE = -89.7431
  POSITIVE_LONGITUDE_DIRECTION = EAST
  REFERENCE_LATITUDE = "N/A"
  REFERENCE_LONGITUDE = "N/A"
  SAMPLE_FIRST_PIXEL = 1
  SAMPLE_LAST_PIXEL = 6164
  SAMPLE_PROJECTION_OFFSET = 2781.75
  SECOND_STANDARD_PARALLEL = "N/A"
  WESTERNMOST_LONGITUDE = 13.2995
END_OBJECT = IMAGE_MAP_PROJECTION
END
