PDS_VERSION_ID = PDS3
/* FILE DATA ELEMENTS */
RECORD_TYPE = UNDEFINED
/* POINTERS TO DATA OBJECTS */
^IMAGE = ("HP954_0003_SR4.TIF")
/* IDENTIFICATION DATA ELEMENTS */
DATA_SET_ID = "MEX-M-HRSC-4-REFDR-MAPPROJECT-EXT9-V4.0"
DATA_SET_NAME = "MARS EXPRESS HRSC MAP PROJECTED REFDR EXTENSION9 V4.0"
DETECTOR_ID = MEX_HRSC_SRC
EVENT_TYPE = "MARS-TERMINATOR-CALIBRATION-Tc"
INSTRUMENT_HOST_ID = MEX
INSTRUMENT_HOST_NAME = "MARS EXPRESS"
INSTRUMENT_ID = HRSC
INSTRUMENT_NAME = "HIGH RESOLUTION STEREO CAMERA"
MISSION_NAME = "MARS EXPRESS"
MISSION_PHASE_NAME = ME_Phase_50
PROCESSING_LEVEL_ID = 4
PRODUCT_CREATION_TIME = 2024-08-22T08:06:08.000Z
PRODUCT_ID = "HP954_0003_SR4.TIF"
RELEASE_ID = 0017
REVISION_ID = 0000
/* QUALITY DATA ELEMENTS */
DATA_QUALITY_ID = 1
DATA_QUALITY_DESC = "Data calculated based on original SPICE kernels"
/* TIME DATA ELEMENTS */
SPACECRAFT_CLOCK_START_COUNT = "1/0669832541.00344"
SPACECRAFT_CLOCK_STOP_COUNT = "1/0669832956.63687"
IMAGE_TIME = 2024-07-23T16:40:00.978Z
START_TIME = 2024-07-23T16:40:00.968Z
STOP_TIME = 2024-07-23T16:40:00.988Z
/* ORBITAL DATA ELEMENTS */
ASCENDING_NODE_LONGITUDE = 93.35
MAXIMUM_RESOLUTION = 0.089079
FOOTPRINT_POINT_LATITUDE = (7.49314,7.45083,7.42667,7.4025,7.37835 ,7.35419,7.33005,7.30368,7.25616, 7.23203,7.20791,7.18379,7.15968,7.13557 ,7.11147,7.06522,7.04113,7.01705, 6.99297,6.95057,6.92651,6.8804,6.85634, 6.8323,6.78422,6.73616,6.73541,6.73407, 6.64073,6.58742,6.53412,6.48084,6.42758 ,6.37433,6.32109,6.25438,6.20118, 6.14799,6.09483,6.04167,5.98853,5.90864 ,5.85554,5.80246,5.74939,5.69633, 5.64329,5.57696,5.51082,5.45782,5.40484 ,5.3916,5.38365,5.43147,5.47931,5.51671 ,5.56457,5.61245,5.6425,5.6904,5.7199, 5.76783,5.81577,5.86374,5.90073,5.92472 ,5.94873,5.98024,6.00425,6.02826, 6.05228,6.09352,6.13633,6.13708,6.13841 ,6.19153,6.24467,6.3246,6.37777,6.43096 ,6.48417,6.53739,6.59063,6.65758, 6.71085,6.76414,6.81744,6.8841,6.93744, 7.00416,7.05754,7.11093,7.16434,7.21777 ,7.27121,7.33813,7.39162,7.47187, 7.48511,7.49314)
FOOTPRINT_POINT_LONGITUDE = (187.279,187.353,187.395,187.438,187.48 ,187.522,187.565,187.611,187.694, 187.737,187.779,187.821,187.863,187.906 ,187.948,188.028,188.071,188.113, 188.155,188.229,188.271,188.353,188.395 ,188.438,188.522,188.606,188.608, 188.607,188.554,188.524,188.494,188.464 ,188.434,188.404,188.374,188.336, 188.306,188.276,188.246,188.216,188.186 ,188.141,188.111,188.081,188.052, 188.022,187.992,187.954,187.917,187.887 ,187.857,187.85,187.845,187.761,187.677 ,187.611,187.527,187.443,187.39,187.306 ,187.253,187.169,187.085,187.001, 186.936,186.894,186.852,186.796,186.754 ,186.712,186.67,186.597,186.522,186.521 ,186.521,186.551,186.581,186.625, 186.655,186.685,186.715,186.744,186.774 ,186.811,186.841,186.871,186.901, 186.938,186.968,187.005,187.035,187.065 ,187.095,187.125,187.155,187.192, 187.222,187.267,187.274,187.279)
ORBIT_NUMBER = 25954
ORBITAL_ECCENTRICITY = 0.574
ORBITAL_INCLINATION = 87.08
ORBITAL_SEMIMAJOR_AXIS = 8846.55
PERIAPSIS_ALTITUDE = 370.27
PERIAPSIS_ARGUMENT_ANGLE = 196.36
PERIAPSIS_TIME = 2024-07-23T14:07:55.000Z
SPACECRAFT_ORIENTATION = (0.0,-1.0,0.0)
^MEX_ORIENTATION_DESC = "MEX_ORIENTATION_DESC.TXT"
SPACECRAFT_POINTING_MODE = FIXED
^MEX_POINTING_DESC = "MEX_POINTING_DESC.TXT"
RIGHT_ASCENSION = -1e+32
DECLINATION = -1e+32
OFFSET_ANGLE = -1e+32
SPACECRAFT_SOLAR_DISTANCE = 2.12531e+08
TARGET_NAME = MARS
/* CAMERA DATA ELEMENTS */
BUFFER_MODE_ID = BUFFER_8
EXPOSURE_DURATION = 20.16
INST_CMPRS_NAME = NONE
INST_CMPRS_RATIO = 1.0
INST_CMPRS_QUALITY = -2147483648
INST_CMPRS_QUANTZ_TBL_ID = -2147483648
INSTRUMENT_TEMPERATURE = 12.2079
MISSING_FRAMES = 0
START_BIT = 0
/* RADIOMETRIC DATA ELEMENTS */
BANDWIDTH = 250.0
CENTER_FILTER_WAVELENGTH = 600.0
RADIANCE_OFFSET = -9.99e+31
RADIANCE_SCALING_FACTOR = -9.99e+31
REFLECTANCE_SCALING_FACTOR = -9.99e+31
MEX:REFLECTANCE_OFFSET = -9.99e+31
/* IMAGE OBJECT DEFINITIONS */
OBJECT = IMAGE
  INTERCHANGE_FORMAT = BINARY
  LINES = 1604
  LINE_SAMPLES = 1577
  SAMPLE_TYPE = UNSIGNED_INTEGER
  SAMPLE_BITS = 8
  BANDS = 1
  BAND_STORAGE_TYPE = BAND_SEQUENTIAL
  MAXIMUM = 255
  MEAN = 245.636
  MINIMUM = 1
  STANDARD_DEVIATION = 15.7549
END_OBJECT = IMAGE
/* MAP OBJECT DEFINITIONS */
OBJECT = IMAGE_MAP_PROJECTION
  ^DATA_SET_MAP_PROJECTION_CATALOG= "DSMAP.CAT"
  A_AXIS_RADIUS = 3396.19
  B_AXIS_RADIUS = 3396.19
  C_AXIS_RADIUS = 3396.19
  CENTER_LATITUDE = 6.43602
  CENTER_LONGITUDE = 187.563
  COORDINATE_SYSTEM_NAME = PLANETOGRAPHIC
  COORDINATE_SYSTEM_TYPE = "BODY-FIXED ROTATING"
  EASTERNMOST_LONGITUDE = 188.608
  FIRST_STANDARD_PARALLEL = "N/A"
  LINE_FIRST_PIXEL = 1
  LINE_LAST_PIXEL = 1604
  LINE_PROJECTION_OFFSET = 858.0
  MAP_PROJECTION_ROTATION = 0.0
  MAP_PROJECTION_TYPE = ORTHOGRAPHIC
  MAP_RESOLUTION = 740.9337064023611
  MAP_SCALE = 0.08
  MAXIMUM_LATITUDE = 7.49314
  MINIMUM_LATITUDE = 5.38365
  POSITIVE_LONGITUDE_DIRECTION = EAST
  REFERENCE_LATITUDE = "N/A"
  REFERENCE_LONGITUDE = "N/A"
  SAMPLE_FIRST_PIXEL = 1
  SAMPLE_LAST_PIXEL = 1577
  SAMPLE_PROJECTION_OFFSET = 787.0
  SECOND_STANDARD_PARALLEL = "N/A"
  WESTERNMOST_LONGITUDE = 186.521
END_OBJECT = IMAGE_MAP_PROJECTION
END
