PDS_VERSION_ID = PDS3
/* FILE DATA ELEMENTS */
RECORD_TYPE = UNDEFINED
/* POINTERS TO DATA OBJECTS */
^IMAGE = ("HP944_0001_GR4.TIF")
/* IDENTIFICATION DATA ELEMENTS */
DATA_SET_ID = "MEX-M-HRSC-4-REFDR-MAPPROJECT-EXT9-V4.0"
DATA_SET_NAME = "MARS EXPRESS HRSC MAP PROJECTED REFDR EXTENSION9 V4.0"
DETECTOR_ID = MEX_HRSC_GREEN
EVENT_TYPE = "MARS-TERMINATOR-CALIBRATION-Tc"
INSTRUMENT_HOST_ID = MEX
INSTRUMENT_HOST_NAME = "MARS EXPRESS"
INSTRUMENT_ID = HRSC
INSTRUMENT_NAME = "HIGH RESOLUTION STEREO CAMERA"
MISSION_NAME = "MARS EXPRESS"
MISSION_PHASE_NAME = ME_Phase_50
PROCESSING_LEVEL_ID = 4
PRODUCT_CREATION_TIME = 2024-08-22T08:06:08.000Z
PRODUCT_ID = "HP944_0001_GR4.TIF"
RELEASE_ID = 0017
REVISION_ID = 0000
/* QUALITY DATA ELEMENTS */
DATA_QUALITY_ID = 1
DATA_QUALITY_DESC = "Data calculated based on original SPICE kernels"
/* TIME DATA ELEMENTS */
SPACECRAFT_CLOCK_START_COUNT = "1/0669583013.00348"
SPACECRAFT_CLOCK_STOP_COUNT = "1/0669583266.00733"
START_TIME = 2024-07-20T19:18:29.827Z
STOP_TIME = 2024-07-20T19:21:53.834Z
/* ORBITAL DATA ELEMENTS */
ASCENDING_NODE_LONGITUDE = 93.52
MAXIMUM_RESOLUTION = 0.8257
FOOTPRINT_POINT_LATITUDE = (69.4846,64.2445,61.0616,60.779,54.7215 ,49.7685,46.0514,42.8131,40.2491, 37.7818,35.3444,31.1841,29.0108,27.383, 23.9604,19.6661,19.0854,18.387,16.8864, 15.3389,13.7772,12.2115,10.6457,9.08006 ,5.92622,2.77042,-0.444406,-3.70207, -7.0613,-9.67162,-13.2845,-17.1371, -21.305,-25.9384,-28.4713,-31.2537, -34.3198,-37.8065,-41.9955,-44.4902, -47.4851,-51.4565,-56.7706,-56.1864, -57.3845,-61.7459,-60.3224,-63.2064, -62.1535,-64.139,-60.1955,-60.3369, -59.4077,-57.3801,-55.5435,-53.0651, -50.6352,-50.8403,-50.9453,-42.4812, -38.9077,-36.153,-33.8451,-31.8064, -29.9722,-26.7032,-23.7893,-21.1545, -18.7295,-16.4514,-14.2922,-12.2354, -8.3553,-4.71862,-1.24768,2.10484, 5.36866,8.5785,10.9866,14.1721,17.3787, 20.6516,23.984,26.5742,30.1294,33.8799, 37.8995,40.0395,42.2889,44.6694,47.2007 ,49.9734,53.0066,56.4308,58.3474, 60.4569,62.844,65.6731,69.8129,69.4846)
FOOTPRINT_POINT_LONGITUDE = (188.149,186.788,194.059,195.959, 196.001,197.208,197.298,199.734,195.923 ,195.679,197.181,196.719,199.565, 196.859,196.237,192.598,187.719,184.392 ,179.532,175.849,172.85,170.303,168.074 ,166.094,162.676,159.826,157.368, 155.226,153.359,152.074,150.575,149.296 ,148.237,147.465,147.198,147.089, 147.159,147.521,148.44,149.265,150.608, 153.128,157.278,152.679,146.586,142.844 ,137.168,129.31,123.585,117.973,111.752 ,104.82,96.624,84.7336,77.9415,78.8412, 73.6042,72.1438,71.544,79.4547,83.8994, 86.8825,89.1501,91.0089,92.5811,95.1864 ,97.3332,99.1544,100.745,102.176, 103.484,104.691,106.88,108.846,110.666, 112.386,114.032,115.636,116.835,118.425 ,120.041,121.717,123.466,124.866, 126.863,129.095,131.676,133.154,134.803 ,136.677,138.848,141.48,144.767,149.172 ,152.08,155.786,160.865,168.823,190.852 ,188.149)
ORBIT_NUMBER = 25944
ORBITAL_ECCENTRICITY = 0.574
ORBITAL_INCLINATION = 87.07
ORBITAL_SEMIMAJOR_AXIS = 8838.66
PERIAPSIS_ALTITUDE = 370.77
PERIAPSIS_ARGUMENT_ANGLE = 198.0
PERIAPSIS_TIME = 2024-07-20T16:16:45.000Z
SPACECRAFT_ORIENTATION = (0.0,-1.0,0.0)
^MEX_ORIENTATION_DESC = "MEX_ORIENTATION_DESC.TXT"
SPACECRAFT_POINTING_MODE = FIXED
^MEX_POINTING_DESC = "MEX_POINTING_DESC.TXT"
RIGHT_ASCENSION = -1e+32
DECLINATION = -1e+32
OFFSET_ANGLE = -1e+32
SPACECRAFT_SOLAR_DISTANCE = 2.12118e+08
TARGET_NAME = MARS
/* CAMERA DATA ELEMENTS */
DETECTOR_TEMPERATURE = 18.7783
FOCAL_PLANE_TEMPERATURE = 9.3989
INST_CMPRS_NAME = "DISCRETE COSINE TRANSFORMATION (DCT)"
INST_CMPRS_RATIO = 7.78363
INST_CMPRS_QUALITY = 0
INST_CMPRS_QUANTZ_TBL_ID = 0
INSTRUMENT_TEMPERATURE = 13.6808
LENS_TEMPERATURE = 10.4184
MACROPIXEL_SIZE = 2
PIXEL_SUBSAMPLING_FLAG = N
SIGNAL_CHAIN_ID = 2
/* RADIOMETRIC DATA ELEMENTS */
BANDWIDTH = 88.0
CENTER_FILTER_WAVELENGTH = 538.0
RADIANCE_OFFSET = 0.0
RADIANCE_SCALING_FACTOR = 0.0166614
REFLECTANCE_SCALING_FACTOR = 0.000645545
MEX:REFLECTANCE_OFFSET = 0.0
/* IMAGE OBJECT DEFINITIONS */
OBJECT = IMAGE
  INTERCHANGE_FORMAT = BINARY
  LINES = 7749
  LINE_SAMPLES = 6193
  SAMPLE_TYPE = UNSIGNED_INTEGER
  SAMPLE_BITS = 8
  BANDS = 1
  BAND_STORAGE_TYPE = BAND_SEQUENTIAL
  MAXIMUM = 255
  MEAN = 151.069
  MINIMUM = 16
  STANDARD_DEVIATION = 51.6243
END_OBJECT = IMAGE
/* MAP OBJECT DEFINITIONS */
OBJECT = IMAGE_MAP_PROJECTION
  ^DATA_SET_MAP_PROJECTION_CATALOG= "DSMAP.CAT"
  A_AXIS_RADIUS = 3396.0
  B_AXIS_RADIUS = 3396.0
  C_AXIS_RADIUS = 3396.0
  CENTER_LATITUDE = 4.1192
  CENTER_LONGITUDE = 134.274
  COORDINATE_SYSTEM_NAME = PLANETOGRAPHIC
  COORDINATE_SYSTEM_TYPE = "BODY-FIXED ROTATING"
  EASTERNMOST_LONGITUDE = 199.734
  FIRST_STANDARD_PARALLEL = "N/A"
  LINE_FIRST_PIXEL = 1
  LINE_LAST_PIXEL = 7749
  LINE_PROJECTION_OFFSET = 3897.0
  MAP_PROJECTION_ROTATION = 0.0
  MAP_PROJECTION_TYPE = ORTHOGRAPHIC
  MAP_RESOLUTION = 74.08922548333329
  MAP_SCALE = 0.8
  MAXIMUM_LATITUDE = 69.8129
  MINIMUM_LATITUDE = -64.139
  POSITIVE_LONGITUDE_DIRECTION = EAST
  REFERENCE_LATITUDE = "N/A"
  REFERENCE_LONGITUDE = "N/A"
  SAMPLE_FIRST_PIXEL = 1
  SAMPLE_LAST_PIXEL = 6193
  SAMPLE_PROJECTION_OFFSET = 2546.0
  SECOND_STANDARD_PARALLEL = "N/A"
  WESTERNMOST_LONGITUDE = 71.544
END_OBJECT = IMAGE_MAP_PROJECTION
END
