PDS_VERSION_ID = PDS3
/* FILE DATA ELEMENTS */
RECORD_TYPE = UNDEFINED
/* POINTERS TO DATA OBJECTS */
^IMAGE = ("HP944_0000_BL4.TIF")
/* IDENTIFICATION DATA ELEMENTS */
DATA_SET_ID = "MEX-M-HRSC-4-REFDR-MAPPROJECT-EXT9-V4.0"
DATA_SET_NAME = "MARS EXPRESS HRSC MAP PROJECTED REFDR EXTENSION9 V4.0"
DETECTOR_ID = MEX_HRSC_BLUE
EVENT_TYPE = "MARS-TERMINATOR-CALIBRATION-Tc"
INSTRUMENT_HOST_ID = MEX
INSTRUMENT_HOST_NAME = "MARS EXPRESS"
INSTRUMENT_ID = HRSC
INSTRUMENT_NAME = "HIGH RESOLUTION STEREO CAMERA"
MISSION_NAME = "MARS EXPRESS"
MISSION_PHASE_NAME = ME_Phase_50
PROCESSING_LEVEL_ID = 4
PRODUCT_CREATION_TIME = 2024-08-22T08:06:08.000Z
PRODUCT_ID = "HP944_0000_BL4.TIF"
RELEASE_ID = 0017
REVISION_ID = 0000
/* QUALITY DATA ELEMENTS */
DATA_QUALITY_ID = 1
DATA_QUALITY_DESC = "Data calculated based on original SPICE kernels"
/* TIME DATA ELEMENTS */
SPACECRAFT_CLOCK_START_COUNT = "1/0669580814.65103"
SPACECRAFT_CLOCK_STOP_COUNT = "1/0669581061.00160"
START_TIME = 2024-07-20T18:41:47.825Z
STOP_TIME = 2024-07-20T18:45:08.709Z
/* ORBITAL DATA ELEMENTS */
ASCENDING_NODE_LONGITUDE = 93.52
MAXIMUM_RESOLUTION = 0.7641
FOOTPRINT_POINT_LATITUDE = (-54.1521,-53.8427,-54.8761,-56.4878, -58.5623,-61.2011,-64.7841,-67.3281, -70.252,-72.1731,-71.6464,-71.7932, -73.0376,-72.458,-71.3077,-71.749, -70.8061,-68.5106,-64.0297,-59.6732, -56.4977,-53.8936,-49.4374,-45.7437, -42.5332,-39.5682,-36.8632,-34.3489, -29.7179,-25.4703,-21.5162,-17.7485, -14.1389,-10.6221,-7.16727,-3.73043, -0.286639,3.19875,6.76163,10.4492, 12.3567,14.3222,16.3563,18.4754,20.7032 ,23.0726,25.6343,27.0194,28.501,30.1133 ,31.955,34.4289,36.8776,39.1845,41.4246 ,44.3652,48.036,51.2335,56.9925,70.2797 ,66.3328,60.7454,57.0108,54.0183, 51.4569,49.1835,45.2299,41.7982,38.728, 35.923,33.3209,30.8841,28.5782,26.3834, 22.2506,18.3833,14.7116,11.1819,7.75466 ,4.39621,1.07733,-2.22772,-5.55089, -8.91699,-12.3633,-15.9252,-19.6525, -23.6084,-25.7016,-27.8993,-30.2158, -32.6918,-35.3795,-38.329,-41.6809, -43.5882,-45.7362,-48.2742,-52.0764, -54.1521)
FOOTPRINT_POINT_LONGITUDE = (68.2494,76.9757,84.1153,89.4345, 93.9238,97.8299,100.968,101.768,100.825 ,98.5661,95.5022,112.226,124.469, 134.905,143.088,152.548,159.208,161.735 ,158.338,154.519,152.641,151.504, 150.093,149.368,149.002,148.791,148.733 ,148.779,149.065,149.534,150.161, 150.893,151.762,152.744,153.868,155.115 ,156.539,158.163,160.045,162.28,163.565 ,165.003,166.623,168.476,170.639, 173.233,176.467,178.46,180.832,183.768, 187.775,195.154,197.029,196.316,193.586 ,193.746,195.14,189.316,187.685,155.288 ,142.492,139.133,137.355,136.102,135.12 ,134.303,132.974,131.893,130.967, 130.145,129.398,128.705,128.054,127.434 ,126.264,125.153,124.072,123.002, 121.924,120.823,119.686,118.484,117.198 ,115.815,114.286,112.573,110.603, 108.276,106.926,105.402,103.664,101.629 ,99.1702,96.112,92.0318,89.3309,85.851, 80.922,70.5998,68.2494)
ORBIT_NUMBER = 25944
ORBITAL_ECCENTRICITY = 0.574
ORBITAL_INCLINATION = 87.07
ORBITAL_SEMIMAJOR_AXIS = 8838.66
PERIAPSIS_ALTITUDE = 370.77
PERIAPSIS_ARGUMENT_ANGLE = 198.0
PERIAPSIS_TIME = 2024-07-20T16:16:45.000Z
SPACECRAFT_ORIENTATION = (0.0,-1.0,0.0)
^MEX_ORIENTATION_DESC = "MEX_ORIENTATION_DESC.TXT"
SPACECRAFT_POINTING_MODE = FIXED
^MEX_POINTING_DESC = "MEX_POINTING_DESC.TXT"
RIGHT_ASCENSION = -1e+32
DECLINATION = -1e+32
OFFSET_ANGLE = -1e+32
SPACECRAFT_SOLAR_DISTANCE = 2.12118e+08
TARGET_NAME = MARS
/* CAMERA DATA ELEMENTS */
DETECTOR_TEMPERATURE = 17.5549
FOCAL_PLANE_TEMPERATURE = 8.9911
INST_CMPRS_NAME = "DISCRETE COSINE TRANSFORMATION (DCT)"
INST_CMPRS_RATIO = 9.39478
INST_CMPRS_QUALITY = 0
INST_CMPRS_QUANTZ_TBL_ID = 0
INSTRUMENT_TEMPERATURE = 11.0301
LENS_TEMPERATURE = 9.3989
MACROPIXEL_SIZE = 2
MISSING_FRAMES = 0
PIXEL_SUBSAMPLING_FLAG = N
SIGNAL_CHAIN_ID = 2
/* RADIOMETRIC DATA ELEMENTS */
BANDWIDTH = 76.0
CENTER_FILTER_WAVELENGTH = 444.0
RADIANCE_OFFSET = 0.0
RADIANCE_SCALING_FACTOR = 0.00956797
REFLECTANCE_SCALING_FACTOR = 0.000442373
MEX:REFLECTANCE_OFFSET = 0.0
/* IMAGE OBJECT DEFINITIONS */
OBJECT = IMAGE
  INTERCHANGE_FORMAT = BINARY
  LINES = 8031
  LINE_SAMPLES = 5412
  SAMPLE_TYPE = UNSIGNED_INTEGER
  SAMPLE_BITS = 8
  BANDS = 1
  BAND_STORAGE_TYPE = BAND_SEQUENTIAL
  MAXIMUM = 254
  MEAN = 104.923
  MINIMUM = 1
  STANDARD_DEVIATION = 41.3183
END_OBJECT = IMAGE
/* MAP OBJECT DEFINITIONS */
OBJECT = IMAGE_MAP_PROJECTION
  ^DATA_SET_MAP_PROJECTION_CATALOG= "DSMAP.CAT"
  A_AXIS_RADIUS = 3396.0
  B_AXIS_RADIUS = 3396.0
  C_AXIS_RADIUS = 3396.0
  CENTER_LATITUDE = -3.27211
  CENTER_LONGITUDE = 136.167
  COORDINATE_SYSTEM_NAME = PLANETOGRAPHIC
  COORDINATE_SYSTEM_TYPE = "BODY-FIXED ROTATING"
  EASTERNMOST_LONGITUDE = 197.029
  FIRST_STANDARD_PARALLEL = "N/A"
  LINE_FIRST_PIXEL = 1
  LINE_LAST_PIXEL = 8031
  LINE_PROJECTION_OFFSET = 4071.25
  MAP_PROJECTION_ROTATION = 0.0
  MAP_PROJECTION_TYPE = ORTHOGRAPHIC
  MAP_RESOLUTION = 74.08922548333329
  MAP_SCALE = 0.8
  MAXIMUM_LATITUDE = 70.27970000000001
  MINIMUM_LATITUDE = -73.0376
  POSITIVE_LONGITUDE_DIRECTION = EAST
  REFERENCE_LATITUDE = "N/A"
  REFERENCE_LONGITUDE = "N/A"
  SAMPLE_FIRST_PIXEL = 1
  SAMPLE_LAST_PIXEL = 5412
  SAMPLE_PROJECTION_OFFSET = 2356.75
  SECOND_STANDARD_PARALLEL = "N/A"
  WESTERNMOST_LONGITUDE = 68.24939999999999
END_OBJECT = IMAGE_MAP_PROJECTION
END
