PDS_VERSION_ID = PDS3
/* FILE DATA ELEMENTS */
RECORD_TYPE = UNDEFINED
/* POINTERS TO DATA OBJECTS */
^IMAGE = ("HP934_0000_IR4.TIF")
/* IDENTIFICATION DATA ELEMENTS */
DATA_SET_ID = "MEX-M-HRSC-4-REFDR-MAPPROJECT-EXT9-V4.0"
DATA_SET_NAME = "MARS EXPRESS HRSC MAP PROJECTED REFDR EXTENSION9 V4.0"
DETECTOR_ID = MEX_HRSC_IR
EVENT_TYPE = "MARS-TERMINATOR-CALIBRATION-Tc"
INSTRUMENT_HOST_ID = MEX
INSTRUMENT_HOST_NAME = "MARS EXPRESS"
INSTRUMENT_ID = HRSC
INSTRUMENT_NAME = "HIGH RESOLUTION STEREO CAMERA"
MISSION_NAME = "MARS EXPRESS"
MISSION_PHASE_NAME = ME_Phase_50
PROCESSING_LEVEL_ID = 4
PRODUCT_CREATION_TIME = 2024-08-22T08:06:08.000Z
PRODUCT_ID = "HP934_0000_IR4.TIF"
RELEASE_ID = 0017
REVISION_ID = 0000
/* QUALITY DATA ELEMENTS */
DATA_QUALITY_ID = 1
DATA_QUALITY_DESC = "Data calculated based on original SPICE kernels"
/* TIME DATA ELEMENTS */
SPACECRAFT_CLOCK_START_COUNT = "1/0669332367.64155"
SPACECRAFT_CLOCK_STOP_COUNT = "1/0669332768.60786"
START_TIME = 2024-07-17T21:40:17.683Z
STOP_TIME = 2024-07-17T21:43:29.678Z
/* ORBITAL DATA ELEMENTS */
ASCENDING_NODE_LONGITUDE = 93.69
MAXIMUM_RESOLUTION = 0.8373
FOOTPRINT_POINT_LATITUDE = (-48.6518,-48.7449,-49.893,-51.0744, -53.5499,-54.2736,-57.27,-56.935, -59.2889,-57.458,-57.3662,-60.0732, -56.9312,-59.0445,-56.4187,-57.1941, -54.5588,-56.2841,-53.5331,-55.2175, -52.7039,-55.0387,-50.9385,-47.8821, -43.6519,-37.7726,-33.7127,-29.4221, -25.2704,-22.0383,-16.6487,-10.9758, -5.50701,-2.206,0.63867,4.75908,9.42647 ,12.3403,14.8134,16.1362,17.5626, 18.9403,19.7007,19.7205,19.4971,18.9084 ,23.3749,26.2969,28.3785,29.8743, 30.3514,33.1442,37.7172,40.5653,45.2536 ,48.3597,53.0755,55.8024,60.2492, 62.6523,63.6361,68.1567,67.8293,66.9228 ,65.9417,63.9922,62.1211,58.6515, 55.5002,52.429,49.7396,47.2115,43.9427, 38.7889,36.1412,32.7904,27.9873,23.7026 ,20.0572,16.8266,11.7969,8.79287, 6.25439,3.05956,-0.562104,-4.71401, -7.95377,-10.2884,-14.6215,-17.2224, -20.7362,-23.7252,-27.5376,-30.0959, -34.4101,-37.9805,-42.0135,-44.2261, -45.9186,-48.6518)
FOOTPRINT_POINT_LONGITUDE = (14.8551,14.7493,17.0426,21.7852, 25.0254,31.6461,38.817,45.6873,52.7419, 57.1954,63.1945,69.2272,70.9622,74.4127 ,77.7144,83.3957,84.4004,88.2843, 86.9752,91.5553,89.749,92.4829,89.2068, 87.4015,85.5572,84.1105,83.6607,83.6161 ,83.9371,84.4112,85.642,87.5682,90.0855 ,91.9879,93.8763,97.1794,101.974, 105.842,110.034,112.843,116.648,122.009 ,128.378,132.556,135.461,139.394, 137.972,138.562,141.05,138.494,142.115, 141.932,140.228,141.637,142.326,144.015 ,144.587,147.777,148.23,150.06,149.473, 139.457,131.806,122.479,116.146,107.424 ,101.359,93.084,87.4741,83.0634,79.7928 ,77.0913,74.0075,69.8322,67.9295, 65.6987,62.765,60.3386,58.3764,56.6947, 54.1389,52.6346,51.365,49.7603,47.9201, 45.7601,44.0228,42.7328,40.2334,38.6518 ,36.3972,34.349,31.5216,29.461,25.6056, 21.9416,17.0931,13.9971,12.1784, 14.8551)
ORBIT_NUMBER = 25934
ORBITAL_ECCENTRICITY = 0.574
ORBITAL_INCLINATION = 87.08
ORBITAL_SEMIMAJOR_AXIS = 8841.81
PERIAPSIS_ALTITUDE = 369.2
PERIAPSIS_ARGUMENT_ANGLE = 199.74
PERIAPSIS_TIME = 2024-07-17T18:25:50.000Z
SPACECRAFT_ORIENTATION = (0.0,-1.0,0.0)
^MEX_ORIENTATION_DESC = "MEX_ORIENTATION_DESC.TXT"
SPACECRAFT_POINTING_MODE = FIXED
^MEX_POINTING_DESC = "MEX_POINTING_DESC.TXT"
RIGHT_ASCENSION = -1e+32
DECLINATION = -1e+32
OFFSET_ANGLE = -1e+32
SPACECRAFT_SOLAR_DISTANCE = 2.11718e+08
TARGET_NAME = MARS
/* CAMERA DATA ELEMENTS */
DETECTOR_TEMPERATURE = 17.351
FOCAL_PLANE_TEMPERATURE = 9.195
INST_CMPRS_NAME = "DISCRETE COSINE TRANSFORMATION (DCT)"
INST_CMPRS_RATIO = 7.51398
INST_CMPRS_QUALITY = 0
INST_CMPRS_QUANTZ_TBL_ID = 0
INSTRUMENT_TEMPERATURE = 11.234
LENS_TEMPERATURE = 9.6028
MACROPIXEL_SIZE = 2
MISSING_FRAMES = 0
PIXEL_SUBSAMPLING_FLAG = N
SIGNAL_CHAIN_ID = 3
/* RADIOMETRIC DATA ELEMENTS */
BANDWIDTH = 81.0
CENTER_FILTER_WAVELENGTH = 955.5
RADIANCE_OFFSET = 0.0
RADIANCE_SCALING_FACTOR = 0.012893
REFLECTANCE_SCALING_FACTOR = 0.00124701
MEX:REFLECTANCE_OFFSET = 0.0
/* IMAGE OBJECT DEFINITIONS */
OBJECT = IMAGE
  INTERCHANGE_FORMAT = BINARY
  LINES = 7687
  LINE_SAMPLES = 6417
  SAMPLE_TYPE = UNSIGNED_INTEGER
  SAMPLE_BITS = 8
  BANDS = 1
  BAND_STORAGE_TYPE = BAND_SEQUENTIAL
  MAXIMUM = 255
  MEAN = 120.565
  MINIMUM = 9
  STANDARD_DEVIATION = 57.39
END_OBJECT = IMAGE
/* MAP OBJECT DEFINITIONS */
OBJECT = IMAGE_MAP_PROJECTION
  ^DATA_SET_MAP_PROJECTION_CATALOG= "DSMAP.CAT"
  A_AXIS_RADIUS = 3396.0
  B_AXIS_RADIUS = 3396.0
  C_AXIS_RADIUS = 3396.0
  CENTER_LATITUDE = 9.298080000000001
  CENTER_LONGITUDE = 71.8562
  COORDINATE_SYSTEM_NAME = PLANETOGRAPHIC
  COORDINATE_SYSTEM_TYPE = "BODY-FIXED ROTATING"
  EASTERNMOST_LONGITUDE = 150.06
  FIRST_STANDARD_PARALLEL = "N/A"
  LINE_FIRST_PIXEL = 1
  LINE_LAST_PIXEL = 7687
  LINE_PROJECTION_OFFSET = 3862.25
  MAP_PROJECTION_ROTATION = 0.0
  MAP_PROJECTION_TYPE = ORTHOGRAPHIC
  MAP_RESOLUTION = 74.08922548333329
  MAP_SCALE = 0.8
  MAXIMUM_LATITUDE = 68.1567
  MINIMUM_LATITUDE = -60.0732
  POSITIVE_LONGITUDE_DIRECTION = EAST
  REFERENCE_LATITUDE = "N/A"
  REFERENCE_LONGITUDE = "N/A"
  SAMPLE_FIRST_PIXEL = 1
  SAMPLE_LAST_PIXEL = 6417
  SAMPLE_PROJECTION_OFFSET = 2692.25
  SECOND_STANDARD_PARALLEL = "N/A"
  WESTERNMOST_LONGITUDE = 12.1784
END_OBJECT = IMAGE_MAP_PROJECTION
END
