PDS_VERSION_ID = PDS3
/* FILE DATA ELEMENTS */
RECORD_TYPE = UNDEFINED
/* POINTERS TO DATA OBJECTS */
^IMAGE = ("HP927_0000_BL4.TIF")
/* IDENTIFICATION DATA ELEMENTS */
DATA_SET_ID = "MEX-M-HRSC-4-REFDR-MAPPROJECT-EXT9-V4.0"
DATA_SET_NAME = "MARS EXPRESS HRSC MAP PROJECTED REFDR EXTENSION9 V4.0"
DETECTOR_ID = MEX_HRSC_BLUE
EVENT_TYPE = "MARS-TERMINATOR-CALIBRATION-Tc"
INSTRUMENT_HOST_ID = MEX
INSTRUMENT_HOST_NAME = "MARS EXPRESS"
INSTRUMENT_ID = HRSC
INSTRUMENT_NAME = "HIGH RESOLUTION STEREO CAMERA"
MISSION_NAME = "MARS EXPRESS"
MISSION_PHASE_NAME = ME_Phase_50
PROCESSING_LEVEL_ID = 4
PRODUCT_CREATION_TIME = 2024-08-22T08:06:08.000Z
PRODUCT_ID = "HP927_0000_BL4.TIF"
RELEASE_ID = 0017
REVISION_ID = 0000
/* QUALITY DATA ELEMENTS */
DATA_QUALITY_ID = 1
DATA_QUALITY_DESC = "Data calculated based on original SPICE kernels"
/* TIME DATA ELEMENTS */
SPACECRAFT_CLOCK_START_COUNT = "1/0669148445.00352"
SPACECRAFT_CLOCK_STOP_COUNT = "1/0669148935.00758"
START_TIME = 2024-07-15T18:36:56.661Z
STOP_TIME = 2024-07-15T18:41:45.677Z
/* ORBITAL DATA ELEMENTS */
ASCENDING_NODE_LONGITUDE = 93.81
MAXIMUM_RESOLUTION = 0.4377
FOOTPRINT_POINT_LATITUDE = (-75.8277,-75.7907,-75.798,-77.2262, -78.495,-78.7322,-78.5293,-81.3082, -83.5697,-83.7308,-82.9486,-81.0308, -78.813,-73.6134,-70.068,-66.0229, -62.9238,-59.3918,-56.9165,-52.2385, -48.8371,-46.2412,-42.7126,-39.9096, -37.5574,-34.3191,-31.4565,-27.3101, -23.7858,-21.2173,-18.1755,-14.4513, -12.2201,-9.7702,-5.64879,-2.91206, 1.74206,5.22256,9.53126,12.2835,17.0823 ,21.4809,24.6911,26.9695,30.6942, 32.3128,32.6305,34.1596,34.7293,34.9583 ,35.037,35.0733,34.3009,34.7413,31.5346 ,28.4317,24.7175,20.6428,17.4211,15.109 ,9.7401,4.66928,1.44003,-1.17154, -4.15333,-7.63787,-10.5358,-13.0168, -15.5321,-19.6348,-22.2549,-25.7484, -28.078,-31.1973,-34.0344,-37.203, -39.5731,-42.5671,-44.9698,-47.4604, -50.9403,-55.0128,-57.48,-60.363, -62.7334,-65.7758,-67.1268,-68.934, -70.1805,-70.5731,-70.3869,-69.5539, -68.6724,-67.6628,-70.6424,-71.5461, -73.7501,-74.582,-75.8277)
FOOTPRINT_POINT_LONGITUDE = (296.143,296.013,297.029,288.66,270.928 ,247.735,229.751,217.374,189.331, 163.119,144.582,127.282,117.52,106.687, 102.946,100.216,98.7802,97.5976,96.9682 ,96.1436,95.7331,95.5324,95.3487, 95.2711,95.2506,95.2834,95.3665,95.5654 ,95.7985,96.0099,96.3094,96.7369, 97.0245,97.3672,98.0121,98.4861,99.3815 ,100.15,101.194,101.932,103.363,104.864 ,106.097,107.047,108.776,103.674, 100.084,95.4893,93.6306,91.548,86.8457, 83.6642,79.9159,75.3047,74.7534,75.1486 ,75.5692,75.8993,76.1053,76.2175, 76.3849,76.4192,76.3786,76.3062,76.1925 ,75.9972,75.7818,75.5622,75.299,74.7818 ,74.3729,73.7464,73.2404,72.4819, 71.6887,70.654,69.7607,68.4586,67.2484, 65.7976,63.3751,59.7444,56.9788,52.889, 48.5488,40.9027,36.1794,27.3287,16.509, 8.71484,355.404,345.901,339.819,327.962 ,324.49,316.587,312.585,304.986, 296.143)
ORBIT_NUMBER = 25927
ORBITAL_ECCENTRICITY = 0.574
ORBITAL_INCLINATION = 87.09
ORBITAL_SEMIMAJOR_AXIS = 8841.51
PERIAPSIS_ALTITUDE = 368.71
PERIAPSIS_ARGUMENT_ANGLE = 200.94
PERIAPSIS_TIME = 2024-07-15T17:32:14.000Z
SPACECRAFT_ORIENTATION = (0.0,-1.0,0.0)
^MEX_ORIENTATION_DESC = "MEX_ORIENTATION_DESC.TXT"
SPACECRAFT_POINTING_MODE = FIXED
^MEX_POINTING_DESC = "MEX_POINTING_DESC.TXT"
RIGHT_ASCENSION = -1e+32
DECLINATION = -1e+32
OFFSET_ANGLE = -1e+32
SPACECRAFT_SOLAR_DISTANCE = 2.11445e+08
TARGET_NAME = MARS
/* CAMERA DATA ELEMENTS */
DETECTOR_TEMPERATURE = 18.1666
FOCAL_PLANE_TEMPERATURE = 9.3989
INST_CMPRS_NAME = "DISCRETE COSINE TRANSFORMATION (DCT)"
INST_CMPRS_RATIO = 10.0224
INST_CMPRS_QUALITY = 0
INST_CMPRS_QUANTZ_TBL_ID = 0
INSTRUMENT_TEMPERATURE = 11.0301
LENS_TEMPERATURE = 9.8067
MACROPIXEL_SIZE = 2
MISSING_FRAMES = 0
MISSING_FRAMES = 1
PIXEL_SUBSAMPLING_FLAG = N
SIGNAL_CHAIN_ID = 2
/* RADIOMETRIC DATA ELEMENTS */
BANDWIDTH = 76.0
CENTER_FILTER_WAVELENGTH = 444.0
RADIANCE_OFFSET = 0.0
RADIANCE_SCALING_FACTOR = 0.015564
REFLECTANCE_SCALING_FACTOR = 0.00071498
MEX:REFLECTANCE_OFFSET = 0.0
/* IMAGE OBJECT DEFINITIONS */
OBJECT = IMAGE
  INTERCHANGE_FORMAT = BINARY
  LINES = 12667
  LINE_SAMPLES = 5370
  SAMPLE_TYPE = UNSIGNED_INTEGER
  SAMPLE_BITS = 8
  BANDS = 1
  BAND_STORAGE_TYPE = BAND_SEQUENTIAL
  MAXIMUM = 255
  MEAN = 66.6231
  MINIMUM = 32
  STANDARD_DEVIATION = 26.3526
END_OBJECT = IMAGE
/* MAP OBJECT DEFINITIONS */
OBJECT = IMAGE_MAP_PROJECTION
  ^DATA_SET_MAP_PROJECTION_CATALOG= "DSMAP.CAT"
  A_AXIS_RADIUS = 3396.0
  B_AXIS_RADIUS = 3396.0
  C_AXIS_RADIUS = 3396.0
  CENTER_LATITUDE = -34.7022
  CENTER_LONGITUDE = 83.66630000000001
  COORDINATE_SYSTEM_NAME = PLANETOGRAPHIC
  COORDINATE_SYSTEM_TYPE = "BODY-FIXED ROTATING"
  EASTERNMOST_LONGITUDE = 360.0
  FIRST_STANDARD_PARALLEL = "N/A"
  LINE_FIRST_PIXEL = 1
  LINE_LAST_PIXEL = 12667
  LINE_PROJECTION_OFFSET = 4798.75
  MAP_PROJECTION_ROTATION = 0.0
  MAP_PROJECTION_TYPE = ORTHOGRAPHIC
  MAP_RESOLUTION = 148.178450966667
  MAP_SCALE = 0.4
  MAXIMUM_LATITUDE = 35.0733
  MINIMUM_LATITUDE = -90.0
  POSITIVE_LONGITUDE_DIRECTION = EAST
  REFERENCE_LATITUDE = "N/A"
  REFERENCE_LONGITUDE = "N/A"
  SAMPLE_FIRST_PIXEL = 1
  SAMPLE_LAST_PIXEL = 5370
  SAMPLE_PROJECTION_OFFSET = 3097.25
  SECOND_STANDARD_PARALLEL = "N/A"
  WESTERNMOST_LONGITUDE = 0.0
END_OBJECT = IMAGE_MAP_PROJECTION
END
