PDS_VERSION_ID = PDS3
/* FILE DATA ELEMENTS */
RECORD_TYPE = UNDEFINED
/* POINTERS TO DATA OBJECTS */
^IMAGE = ("HP919_0008_SR4.TIF")
/* IDENTIFICATION DATA ELEMENTS */
DATA_SET_ID = "MEX-M-HRSC-4-REFDR-MAPPROJECT-EXT9-V4.0"
DATA_SET_NAME = "MARS EXPRESS HRSC MAP PROJECTED REFDR EXTENSION9 V4.0"
DETECTOR_ID = MEX_HRSC_SRC
EVENT_TYPE = "MARS-TERMINATOR-CALIBRATION-Tc"
INSTRUMENT_HOST_ID = MEX
INSTRUMENT_HOST_NAME = "MARS EXPRESS"
INSTRUMENT_ID = HRSC
INSTRUMENT_NAME = "HIGH RESOLUTION STEREO CAMERA"
MISSION_NAME = "MARS EXPRESS"
MISSION_PHASE_NAME = ME_Phase_50
PROCESSING_LEVEL_ID = 4
PRODUCT_CREATION_TIME = 2024-08-22T08:06:08.000Z
PRODUCT_ID = "HP919_0008_SR4.TIF"
RELEASE_ID = 0017
REVISION_ID = 0000
/* QUALITY DATA ELEMENTS */
DATA_QUALITY_ID = 1
DATA_QUALITY_DESC = "Data calculated based on original SPICE kernels"
/* TIME DATA ELEMENTS */
SPACECRAFT_CLOCK_START_COUNT = "1/0668950951.64180"
SPACECRAFT_CLOCK_STOP_COUNT = "1/0668951364.62174"
IMAGE_TIME = 2024-07-13T11:47:08.688Z
START_TIME = 2024-07-13T11:47:08.681Z
STOP_TIME = 2024-07-13T11:47:08.696Z
/* ORBITAL DATA ELEMENTS */
ASCENDING_NODE_LONGITUDE = 93.96
MAXIMUM_RESOLUTION = 0.090403
FOOTPRINT_POINT_LATITUDE = (35.6398,35.5687,35.5281,35.4876, 35.4471,35.4067,35.3386,35.2748,35.2347 ,35.1945,35.1545,35.1145,35.0745, 35.0066,34.9024,34.8231,34.744,34.6628, 34.6143,34.5358,34.4574,34.3813,34.3801 ,34.378,34.25,34.166,34.0822,33.9988, 33.9138,33.8308,33.7481,33.6657,33.561, 33.479,33.3974,33.316,33.2529,33.1719, 33.0701,32.9897,32.9279,32.8479,32.7681 ,32.7252,32.6457,32.6027,32.5236, 32.4447,32.366,32.3212,32.3016,32.2896, 32.3562,32.4309,32.5057,32.5745,32.6391 ,32.7144,32.7899,32.856,32.9318,32.9791 ,33.0552,33.1315,33.1759,33.2525, 33.3175,33.3944,33.4921,33.4933,33.4953 ,33.576,33.6628,33.744,33.8253,33.9073, 33.9896,34.0717,34.154,34.2366,34.3213, 34.3846,34.4678,34.5514,34.6352,34.7232 ,34.8075,34.8922,35.0004,35.0856, 35.1712,35.2569,35.3451,35.3882,35.4314 ,35.4747,35.5398,35.605,35.6268, 35.6398)
FOOTPRINT_POINT_LONGITUDE = (185.011,185.083,185.125,185.166, 185.207,185.248,185.318,185.38,185.421, 185.463,185.504,185.545,185.586,185.655 ,185.759,185.842,185.924,186.009, 186.057,186.139,186.221,186.3,186.301, 186.299,186.188,186.115,186.042,185.969 ,185.896,185.824,185.753,185.681, 185.592,185.521,185.451,185.382,185.328 ,185.259,185.172,185.104,185.052, 184.984,184.916,184.881,184.814,184.778 ,184.711,184.645,184.579,184.543, 184.526,184.516,184.444,184.362,184.28, 184.199,184.136,184.054,183.972,183.898 ,183.816,183.773,183.691,183.608, 183.563,183.481,183.421,183.339,183.234 ,183.233,183.235,183.3,183.369,183.436, 183.502,183.569,183.637,183.704,183.772 ,183.84,183.909,183.961,184.03,184.099, 184.169,184.241,184.312,184.382,184.472 ,184.544,184.615,184.688,184.761, 184.798,184.834,184.871,184.926,184.981 ,185.0,185.011)
ORBIT_NUMBER = 25919
ORBITAL_ECCENTRICITY = 0.574
ORBITAL_INCLINATION = 87.07
ORBITAL_SEMIMAJOR_AXIS = 8838.25
PERIAPSIS_ALTITUDE = 368.66
PERIAPSIS_ARGUMENT_ANGLE = 202.29
PERIAPSIS_TIME = 2024-07-13T09:39:35.000Z
SPACECRAFT_ORIENTATION = (0.0,-1.0,0.0)
^MEX_ORIENTATION_DESC = "MEX_ORIENTATION_DESC.TXT"
SPACECRAFT_POINTING_MODE = FIXED
^MEX_POINTING_DESC = "MEX_POINTING_DESC.TXT"
RIGHT_ASCENSION = -1e+32
DECLINATION = -1e+32
OFFSET_ANGLE = -1e+32
SPACECRAFT_SOLAR_DISTANCE = 2.11141e+08
TARGET_NAME = MARS
/* CAMERA DATA ELEMENTS */
BUFFER_MODE_ID = BUFFER_8
EXPOSURE_DURATION = 15.12
INST_CMPRS_NAME = NONE
INST_CMPRS_RATIO = 1.0
INST_CMPRS_QUALITY = -2147483648
INST_CMPRS_QUANTZ_TBL_ID = -2147483648
INSTRUMENT_TEMPERATURE = 11.3535
MISSING_FRAMES = 0
START_BIT = 0
/* RADIOMETRIC DATA ELEMENTS */
BANDWIDTH = 250.0
CENTER_FILTER_WAVELENGTH = 600.0
RADIANCE_OFFSET = -9.99e+31
RADIANCE_SCALING_FACTOR = -9.99e+31
REFLECTANCE_SCALING_FACTOR = -9.99e+31
MEX:REFLECTANCE_OFFSET = -9.99e+31
/* IMAGE OBJECT DEFINITIONS */
OBJECT = IMAGE
  INTERCHANGE_FORMAT = BINARY
  LINES = 2525
  LINE_SAMPLES = 1928
  SAMPLE_TYPE = UNSIGNED_INTEGER
  SAMPLE_BITS = 8
  BANDS = 1
  BAND_STORAGE_TYPE = BAND_SEQUENTIAL
  MAXIMUM = 255
  MEAN = 249.912
  MINIMUM = 1
  STANDARD_DEVIATION = 21.7745
END_OBJECT = IMAGE
/* MAP OBJECT DEFINITIONS */
OBJECT = IMAGE_MAP_PROJECTION
  ^DATA_SET_MAP_PROJECTION_CATALOG= "DSMAP.CAT"
  A_AXIS_RADIUS = 3396.19
  B_AXIS_RADIUS = 3396.19
  C_AXIS_RADIUS = 3396.19
  CENTER_LATITUDE = 33.928
  CENTER_LONGITUDE = 184.743
  COORDINATE_SYSTEM_NAME = PLANETOGRAPHIC
  COORDINATE_SYSTEM_TYPE = "BODY-FIXED ROTATING"
  EASTERNMOST_LONGITUDE = 186.301
  FIRST_STANDARD_PARALLEL = "N/A"
  LINE_FIRST_PIXEL = 1
  LINE_LAST_PIXEL = 2525
  LINE_PROJECTION_OFFSET = 1600.0
  MAP_PROJECTION_ROTATION = 0.0
  MAP_PROJECTION_TYPE = ORTHOGRAPHIC
  MAP_RESOLUTION = 740.9337064023611
  MAP_SCALE = 0.08
  MAXIMUM_LATITUDE = 35.6398
  MINIMUM_LATITUDE = 32.2896
  POSITIVE_LONGITUDE_DIRECTION = EAST
  REFERENCE_LATITUDE = "N/A"
  REFERENCE_LONGITUDE = "N/A"
  SAMPLE_FIRST_PIXEL = 1
  SAMPLE_LAST_PIXEL = 1928
  SAMPLE_PROJECTION_OFFSET = 914.0
  SECOND_STANDARD_PARALLEL = "N/A"
  WESTERNMOST_LONGITUDE = 183.233
END_OBJECT = IMAGE_MAP_PROJECTION
END
