PDS_VERSION_ID = PDS3
/* FILE DATA ELEMENTS */
RECORD_TYPE = UNDEFINED
/* POINTERS TO DATA OBJECTS */
^IMAGE = ("HP919_0000_RE4.TIF")
/* IDENTIFICATION DATA ELEMENTS */
DATA_SET_ID = "MEX-M-HRSC-4-REFDR-MAPPROJECT-EXT9-V4.0"
DATA_SET_NAME = "MARS EXPRESS HRSC MAP PROJECTED REFDR EXTENSION9 V4.0"
DETECTOR_ID = MEX_HRSC_RED
EVENT_TYPE = "MARS-TERMINATOR-CALIBRATION-Tc"
INSTRUMENT_HOST_ID = MEX
INSTRUMENT_HOST_NAME = "MARS EXPRESS"
INSTRUMENT_ID = HRSC
INSTRUMENT_NAME = "HIGH RESOLUTION STEREO CAMERA"
MISSION_NAME = "MARS EXPRESS"
MISSION_PHASE_NAME = ME_Phase_50
PROCESSING_LEVEL_ID = 4
PRODUCT_CREATION_TIME = 2024-08-22T08:06:08.000Z
PRODUCT_ID = "HP919_0000_RE4.TIF"
RELEASE_ID = 0017
REVISION_ID = 0000
/* QUALITY DATA ELEMENTS */
DATA_QUALITY_ID = 1
DATA_QUALITY_DESC = "Data calculated based on original SPICE kernels"
/* TIME DATA ELEMENTS */
SPACECRAFT_CLOCK_START_COUNT = "1/0668950951.64180"
SPACECRAFT_CLOCK_STOP_COUNT = "1/0668951364.62174"
START_TIME = 2024-07-13T11:46:54.643Z
STOP_TIME = 2024-07-13T11:50:12.627Z
/* ORBITAL DATA ELEMENTS */
ASCENDING_NODE_LONGITUDE = 93.96
MAXIMUM_RESOLUTION = 0.7396
FOOTPRINT_POINT_LATITUDE = (-13.1264,-12.8198,-4.75983,-1.84148, 1.05217,5.63622,10.0842,13.7582,16.1199 ,16.7297,20.9891,22.9014,23.7754, 23.2897,26.6027,27.0976,28.0169,27.5458 ,28.5661,28.016,29.4739,28.9918,30.4704 ,29.9407,31.5994,31.1227,32.1909, 31.6939,34.0047,34.3057,36.1119,36.6105 ,37.8306,37.5152,38.8041,38.4803, 39.8761,39.6033,40.9036,41.2227,42.7028 ,43.7074,45.3111,49.6953,47.873,51.9096 ,50.1024,53.2114,51.4597,54.551,52.6063 ,55.4704,53.5491,56.5202,54.405,57.1833 ,57.035,60.0086,57.708,61.0253,61.114, 65.1311,65.609,69.534,68.0055,71.7336, 68.9859,67.4241,65.1639,65.4949,61.7, 57.9875,57.1538,57.4774,53.3405,48.808, 45.2863,40.7591,37.7183,34.7093,30.4997 ,27.5712,24.7954,21.6143,17.4243, 14.2391,10.5806,8.13929,5.99387,2.79877 ,0.152698,-3.46794,-6.77849,-8.26258, -10.2852,-11.3821,-12.5377,-13.026, -13.0623,-13.1264)
FOOTPRINT_POINT_LONGITUDE = (241.476,239.967,241.248,238.845,240.9, 238.37,240.114,236.832,239.742,236.155, 238.267,234.673,238.677,234.438,237.493 ,233.573,237.376,233.376,237.64,233.044 ,236.917,232.762,236.38,231.927,236.211 ,232.029,236.119,231.669,235.251, 230.829,234.427,230.025,234.292,229.619 ,234.086,229.215,234.032,228.547, 232.856,227.184,231.929,226.045,231.061 ,228.798,223.062,226.587,221.172, 224.859,219.797,224.198,218.677,223.009 ,217.678,222.567,216.765,221.35,213.461 ,218.702,212.817,214.997,206.534,206.12 ,194.344,191.279,181.452,174.814, 163.085,147.741,136.416,127.021,120.36, 114.54,116.231,114.749,124.95,133.69, 139.459,146.049,150.115,153.936,159.048 ,162.521,165.768,169.475,174.403, 178.242,182.799,185.989,188.915,193.557 ,197.732,204.175,211.357,215.179, 221.539,226.015,232.674,237.528,237.983 ,241.476)
ORBIT_NUMBER = 25919
ORBITAL_ECCENTRICITY = 0.574
ORBITAL_INCLINATION = 87.07
ORBITAL_SEMIMAJOR_AXIS = 8838.25
PERIAPSIS_ALTITUDE = 368.66
PERIAPSIS_ARGUMENT_ANGLE = 202.29
PERIAPSIS_TIME = 2024-07-13T09:39:35.000Z
SPACECRAFT_ORIENTATION = (0.0,-1.0,0.0)
^MEX_ORIENTATION_DESC = "MEX_ORIENTATION_DESC.TXT"
SPACECRAFT_POINTING_MODE = FIXED
^MEX_POINTING_DESC = "MEX_POINTING_DESC.TXT"
RIGHT_ASCENSION = -1e+32
DECLINATION = -1e+32
OFFSET_ANGLE = -1e+32
SPACECRAFT_SOLAR_DISTANCE = 2.11141e+08
TARGET_NAME = MARS
/* CAMERA DATA ELEMENTS */
DETECTOR_TEMPERATURE = 18.3705
FOCAL_PLANE_TEMPERATURE = 9.195
INST_CMPRS_NAME = "DISCRETE COSINE TRANSFORMATION (DCT)"
INST_CMPRS_RATIO = 18.1992
INST_CMPRS_QUALITY = 0
INST_CMPRS_QUANTZ_TBL_ID = 0
INSTRUMENT_TEMPERATURE = 11.234
LENS_TEMPERATURE = 9.6028
MACROPIXEL_SIZE = 2
MISSING_FRAMES = 0
PIXEL_SUBSAMPLING_FLAG = N
SIGNAL_CHAIN_ID = 3
/* RADIOMETRIC DATA ELEMENTS */
BANDWIDTH = 48.0
CENTER_FILTER_WAVELENGTH = 748.0
RADIANCE_OFFSET = 0.0
RADIANCE_SCALING_FACTOR = 0.0161221
REFLECTANCE_SCALING_FACTOR = 0.00164036
MEX:REFLECTANCE_OFFSET = 0.0
/* IMAGE OBJECT DEFINITIONS */
OBJECT = IMAGE
  INTERCHANGE_FORMAT = BINARY
  LINES = 5369
  LINE_SAMPLES = 5747
  SAMPLE_TYPE = UNSIGNED_INTEGER
  SAMPLE_BITS = 8
  BANDS = 1
  BAND_STORAGE_TYPE = BAND_SEQUENTIAL
  MAXIMUM = 255
  MEAN = 121.193
  MINIMUM = 1
  STANDARD_DEVIATION = 79.1603
END_OBJECT = IMAGE
/* MAP OBJECT DEFINITIONS */
OBJECT = IMAGE_MAP_PROJECTION
  ^DATA_SET_MAP_PROJECTION_CATALOG= "DSMAP.CAT"
  A_AXIS_RADIUS = 3396.0
  B_AXIS_RADIUS = 3396.0
  C_AXIS_RADIUS = 3396.0
  CENTER_LATITUDE = 22.9113
  CENTER_LONGITUDE = 189.288
  COORDINATE_SYSTEM_NAME = PLANETOGRAPHIC
  COORDINATE_SYSTEM_TYPE = "BODY-FIXED ROTATING"
  EASTERNMOST_LONGITUDE = 241.476
  FIRST_STANDARD_PARALLEL = "N/A"
  LINE_FIRST_PIXEL = 1
  LINE_LAST_PIXEL = 5369
  LINE_PROJECTION_OFFSET = 3104.25
  MAP_PROJECTION_ROTATION = 0.0
  MAP_PROJECTION_TYPE = ORTHOGRAPHIC
  MAP_RESOLUTION = 74.08922548333329
  MAP_SCALE = 0.8
  MAXIMUM_LATITUDE = 71.7336
  MINIMUM_LATITUDE = -13.1264
  POSITIVE_LONGITUDE_DIRECTION = EAST
  REFERENCE_LATITUDE = "N/A"
  REFERENCE_LONGITUDE = "N/A"
  SAMPLE_FIRST_PIXEL = 1
  SAMPLE_LAST_PIXEL = 5747
  SAMPLE_PROJECTION_OFFSET = 2496.75
  SECOND_STANDARD_PARALLEL = "N/A"
  WESTERNMOST_LONGITUDE = 114.54
END_OBJECT = IMAGE_MAP_PROJECTION
END
