PDS_VERSION_ID = PDS3
/* FILE DATA ELEMENTS */
RECORD_TYPE = UNDEFINED
/* POINTERS TO DATA OBJECTS */
^IMAGE = ("HP907_0000_RE4.TIF")
/* IDENTIFICATION DATA ELEMENTS */
DATA_SET_ID = "MEX-M-HRSC-4-REFDR-MAPPROJECT-EXT9-V4.0"
DATA_SET_NAME = "MARS EXPRESS HRSC MAP PROJECTED REFDR EXTENSION9 V4.0"
DETECTOR_ID = MEX_HRSC_RED
EVENT_TYPE = "MARS-REGIONAL-MAPPING-Gl-Pf"
INSTRUMENT_HOST_ID = MEX
INSTRUMENT_HOST_NAME = "MARS EXPRESS"
INSTRUMENT_ID = HRSC
INSTRUMENT_NAME = "HIGH RESOLUTION STEREO CAMERA"
MISSION_NAME = "MARS EXPRESS"
MISSION_PHASE_NAME = ME_Phase_50
PROCESSING_LEVEL_ID = 4
PRODUCT_CREATION_TIME = 2024-08-22T08:06:08.000Z
PRODUCT_ID = "HP907_0000_RE4.TIF"
RELEASE_ID = 0017
REVISION_ID = 0000
/* QUALITY DATA ELEMENTS */
DATA_QUALITY_ID = 1
DATA_QUALITY_DESC = "Data calculated based on original SPICE kernels"
/* TIME DATA ELEMENTS */
SPACECRAFT_CLOCK_START_COUNT = "1/0668642646.65127"
SPACECRAFT_CLOCK_STOP_COUNT = "1/0668643788.33293"
START_TIME = 2024-07-09T22:09:15.315Z
STOP_TIME = 2024-07-09T22:21:15.661Z
/* ORBITAL DATA ELEMENTS */
ASCENDING_NODE_LONGITUDE = 94.16
MAXIMUM_RESOLUTION = 0.2135
FOOTPRINT_POINT_LATITUDE = (-78.1998,-78.4269,-78.6747,-78.8982, -79.0595,-79.1554,-79.2604,-79.3282, -79.3304,-79.2338,-79.9951,-80.4951, -80.99,-81.48,-81.9631,-82.6747, -83.1496,-83.6152,-84.0728,-84.5233, -84.9745,-85.4193,-85.8598,-86.293, -86.7169,-87.1423,-87.561,-87.9731, -88.3762,-88.7675,-89.1361,-89.4508, -89.5844,-89.4069,-88.7391,-88.0147, -87.2849,-86.5723,-85.8754,-85.1948, -84.5316,-83.7189,-83.0761,-82.4469, -81.8313,-81.2296,-81.0809,-81.0716, -81.2035,-81.2731,-81.3149,-81.3016, -81.2487,-81.1809,-81.06,-80.9207, -80.7285,-80.4399,-80.1725,-79.7991, -79.5086,-79.4682,-79.4546,-79.913, -80.3714,-80.9444,-81.5079,-81.9459, -82.3691,-82.7706,-83.1408,-83.4698, -83.7459,-83.9556,-84.0838,-84.1213, -84.0575,-83.985,-83.885,-83.7621, -83.6128,-83.438,-83.2391,-83.0174, -82.7739,-82.5094,-82.2264,-81.9249, -81.6063,-81.2716,-80.9217,-80.5576, -80.1798,-79.7885,-79.3846,-78.9699, -78.3262,-78.1057,-78.1998)
FOOTPRINT_POINT_LONGITUDE = (185.968,183.565,180.49,177.082,173.97, 171.633,168.163,164.174,163.951,163.67, 163.527,163.418,163.298,163.166,163.014 ,162.739,162.55,162.318,162.04,161.709, 161.347,160.909,160.386,159.73,158.881, 157.837,156.435,154.471,151.534,146.736 ,137.749,117.429,71.7485,30.6639, 5.69763,358.615,355.313,353.555,352.473 ,351.761,351.282,350.843,350.548, 350.325,350.158,350.038,350.012,350.01, 345.493,341.893,336.699,332.548,328.434 ,325.392,321.414,318.028,314.284, 309.823,306.444,302.439,299.814,299.429 ,299.304,297.643,295.773,293.052, 289.861,286.918,283.533,279.629,275.172 ,270.117,264.392,258.036,251.092, 243.833,236.416,232.715,229.066,225.543 ,222.123,218.83,215.682,212.691,209.862 ,207.195,204.693,202.348,200.155, 198.106,196.194,194.411,192.747,191.194 ,189.745,188.393,186.529,185.949, 185.968)
ORBIT_NUMBER = 25907
ORBITAL_ECCENTRICITY = 0.574
ORBITAL_INCLINATION = 87.09
ORBITAL_SEMIMAJOR_AXIS = 8829.77
PERIAPSIS_ALTITUDE = 368.28
PERIAPSIS_ARGUMENT_ANGLE = 204.35
PERIAPSIS_TIME = 2024-07-09T21:50:53.000Z
SPACECRAFT_ORIENTATION = (0.0,-1.0,0.0)
^MEX_ORIENTATION_DESC = "MEX_ORIENTATION_DESC.TXT"
SPACECRAFT_POINTING_MODE = "UNK"
^MEX_POINTING_DESC = "MEX_POINTING_DESC.TXT"
RIGHT_ASCENSION = 1e+32
DECLINATION = 1e+32
OFFSET_ANGLE = 1e+32
SPACECRAFT_SOLAR_DISTANCE = 2.10701e+08
TARGET_NAME = MARS
/* CAMERA DATA ELEMENTS */
DETECTOR_TEMPERATURE = 18.7783
FOCAL_PLANE_TEMPERATURE = 9.3989
INST_CMPRS_NAME = "DISCRETE COSINE TRANSFORMATION (DCT)"
INST_CMPRS_RATIO = 17.4326
INST_CMPRS_QUALITY = 0
INST_CMPRS_QUANTZ_TBL_ID = 0
INSTRUMENT_TEMPERATURE = 11.234
LENS_TEMPERATURE = 9.6028
MACROPIXEL_SIZE = 4
MISSING_FRAMES = 0
PIXEL_SUBSAMPLING_FLAG = N
SIGNAL_CHAIN_ID = 2
/* RADIOMETRIC DATA ELEMENTS */
BANDWIDTH = 48.0
CENTER_FILTER_WAVELENGTH = 748.0
RADIANCE_OFFSET = 0.651064
RADIANCE_SCALING_FACTOR = 0.0156713
REFLECTANCE_SCALING_FACTOR = 0.0015877
MEX:REFLECTANCE_OFFSET = 0.0659611
/* IMAGE OBJECT DEFINITIONS */
OBJECT = IMAGE
  INTERCHANGE_FORMAT = BINARY
  LINES = 2272
  LINE_SAMPLES = 5795
  SAMPLE_TYPE = UNSIGNED_INTEGER
  SAMPLE_BITS = 8
  BANDS = 1
  BAND_STORAGE_TYPE = BAND_SEQUENTIAL
  MAXIMUM = 255
  MEAN = 84.553
  MINIMUM = 1
  STANDARD_DEVIATION = 73.042
END_OBJECT = IMAGE
/* MAP OBJECT DEFINITIONS */
OBJECT = IMAGE_MAP_PROJECTION
  ^DATA_SET_MAP_PROJECTION_CATALOG= "DSMAP.CAT"
  A_AXIS_RADIUS = 3396.0
  B_AXIS_RADIUS = 3396.0
  C_AXIS_RADIUS = 3396.0
  CENTER_LATITUDE = -87.0779
  CENTER_LONGITUDE = 241.644
  COORDINATE_SYSTEM_NAME = PLANETOGRAPHIC
  COORDINATE_SYSTEM_TYPE = "BODY-FIXED ROTATING"
  EASTERNMOST_LONGITUDE = 360.0
  FIRST_STANDARD_PARALLEL = "N/A"
  LINE_FIRST_PIXEL = 1
  LINE_LAST_PIXEL = 2272
  LINE_PROJECTION_OFFSET = 1033.625
  MAP_PROJECTION_ROTATION = 0.0
  MAP_PROJECTION_TYPE = ORTHOGRAPHIC
  MAP_RESOLUTION = 296.356901933333
  MAP_SCALE = 0.2
  MAXIMUM_LATITUDE = -78.1057
  MINIMUM_LATITUDE = -90.0
  POSITIVE_LONGITUDE_DIRECTION = EAST
  REFERENCE_LATITUDE = "N/A"
  REFERENCE_LONGITUDE = "N/A"
  SAMPLE_FIRST_PIXEL = 1
  SAMPLE_LAST_PIXEL = 5795
  SAMPLE_PROJECTION_OFFSET = 3090.125
  SECOND_STANDARD_PARALLEL = "N/A"
  WESTERNMOST_LONGITUDE = 0.0
END_OBJECT = IMAGE_MAP_PROJECTION
END
