PDS_VERSION_ID = PDS3
/* FILE DATA ELEMENTS */
RECORD_TYPE = UNDEFINED
/* POINTERS TO DATA OBJECTS */
^IMAGE = ("HP892_0000_P24.TIF")
/* IDENTIFICATION DATA ELEMENTS */
DATA_SET_ID = "MEX-M-HRSC-4-REFDR-MAPPROJECT-EXT9-V4.0"
DATA_SET_NAME = "MARS EXPRESS HRSC MAP PROJECTED REFDR EXTENSION9 V4.0"
DETECTOR_ID = MEX_HRSC_P2
EVENT_TYPE = "MARS-REGIONAL-VARIABLE-Gl-At"
INSTRUMENT_HOST_ID = MEX
INSTRUMENT_HOST_NAME = "MARS EXPRESS"
INSTRUMENT_ID = HRSC
INSTRUMENT_NAME = "HIGH RESOLUTION STEREO CAMERA"
MISSION_NAME = "MARS EXPRESS"
MISSION_PHASE_NAME = ME_Phase_50
PROCESSING_LEVEL_ID = 4
PRODUCT_CREATION_TIME = 2024-08-22T02:21:17.000Z
PRODUCT_ID = "HP892_0000_P24.TIF"
RELEASE_ID = 0016
REVISION_ID = 0000
/* QUALITY DATA ELEMENTS */
DATA_QUALITY_ID = 1
DATA_QUALITY_DESC = "Data calculated based on original SPICE kernels"
/* TIME DATA ELEMENTS */
SPACECRAFT_CLOCK_START_COUNT = "1/0668265365.00363"
SPACECRAFT_CLOCK_STOP_COUNT = "1/0668265960.00706"
START_TIME = 2024-07-05T13:19:51.080Z
STOP_TIME = 2024-07-05T13:25:02.839Z
/* ORBITAL DATA ELEMENTS */
ASCENDING_NODE_LONGITUDE = 94.42
MAXIMUM_RESOLUTION = 0.0828
FOOTPRINT_POINT_LATITUDE = (-73.7357,-73.9538,-74.071,-74.1831, -74.2898,-74.3916,-74.4881,-74.5793, -74.6655,-74.7466,-74.8227,-74.8939, -74.9601,-74.968,-74.8947,-75.2852, -75.5443,-75.8021,-76.0588,-76.3142, -76.5682,-76.8214,-77.0738,-77.3245, -77.5742,-77.8224,-78.069,-78.4365, -78.8008,-79.0441,-79.2827,-79.5216, -79.7594,-79.9958,-80.2309,-80.6973, -81.1593,-81.6134,-81.9504,-82.284, -82.615,-83.0483,-83.3676,-83.6866, -84.1027,-84.613,-85.0089,-85.2998, -85.6744,-86.1245,-86.2113,-86.2239, -85.9545,-85.6652,-85.3608,-85.0429, -84.7136,-84.4156,-84.0239,-83.667, -83.2586,-82.8384,-82.5568,-82.3202, -81.8875,-81.8392,-81.8219,-81.679, -81.517,-81.3356,-81.1355,-80.9162, -80.6795,-80.4262,-80.1511,-79.8633, -79.4937,-79.0913,-78.8371,-78.4891, -78.2292,-77.9533,-77.5851,-77.1939, -76.9045,-76.7073,-76.5045,-76.296, -75.9847,-75.7718,-75.5583,-75.3417, -75.1221,-74.9006,-74.675,-74.3386, -74.1118,-73.7656,-73.6504,-73.7357)
FOOTPRINT_POINT_LONGITUDE = (277.926,276.308,275.375,274.434, 273.487,272.531,271.57,270.603,269.631, 268.653,267.669,266.68,265.687,265.562, 265.487,265.71,265.864,266.024,266.189, 266.359,266.535,266.718,266.907,267.103 ,267.306,267.516,267.734,268.076, 268.438,268.695,268.957,269.232,269.519 ,269.818,270.131,270.799,271.534, 272.337,272.995,273.704,274.476,275.601 ,276.528,277.56,279.082,281.303,283.373 ,285.147,287.833,291.901,292.823, 292.961,296.954,300.453,303.511,306.177 ,308.516,310.321,312.39,314.013,315.641 ,317.064,317.938,318.622,319.749, 319.868,319.907,317.206,314.581,312.04, 309.588,307.228,304.965,302.801,300.731 ,298.763,296.443,294.262,293.022, 291.446,290.315,289.232,287.85,286.548, 285.61,285.006,284.42,283.853,283.026, 282.494,281.976,281.472,280.982,280.505 ,280.043,279.365,278.928,278.296, 278.089,277.926)
ORBIT_NUMBER = 25892
ORBITAL_ECCENTRICITY = 0.575
ORBITAL_INCLINATION = 87.08
ORBITAL_SEMIMAJOR_AXIS = 8837.79
PERIAPSIS_ALTITUDE = 366.71
PERIAPSIS_ARGUMENT_ANGLE = 206.93
PERIAPSIS_TIME = 2024-07-05T13:04:50.000Z
SPACECRAFT_ORIENTATION = (0.0,-1.0,0.0)
^MEX_ORIENTATION_DESC = "MEX_ORIENTATION_DESC.TXT"
SPACECRAFT_POINTING_MODE = ACROSSTRACK
^MEX_POINTING_DESC = "MEX_POINTING_DESC.TXT"
RIGHT_ASCENSION = -1e+32
DECLINATION = -1e+32
OFFSET_ANGLE = 2.061
SPACECRAFT_SOLAR_DISTANCE = 2.10178e+08
TARGET_NAME = MARS
/* CAMERA DATA ELEMENTS */
DETECTOR_TEMPERATURE = 18.5744
FOCAL_PLANE_TEMPERATURE = 9.3989
INST_CMPRS_NAME = "DISCRETE COSINE TRANSFORMATION (DCT)"
INST_CMPRS_RATIO = 8.78442
INST_CMPRS_QUALITY = 0
INST_CMPRS_QUANTZ_TBL_ID = 0
INSTRUMENT_TEMPERATURE = 11.0301
LENS_TEMPERATURE = 9.6028
MACROPIXEL_SIZE = 2
MISSING_FRAMES = 0
PIXEL_SUBSAMPLING_FLAG = N
SIGNAL_CHAIN_ID = 3
/* RADIOMETRIC DATA ELEMENTS */
BANDWIDTH = 177.0
CENTER_FILTER_WAVELENGTH = 676.5
RADIANCE_OFFSET = 2.14461
RADIANCE_SCALING_FACTOR = 0.0300159
REFLECTANCE_SCALING_FACTOR = 0.000703053
MEX:REFLECTANCE_OFFSET = 0.0502326
/* IMAGE OBJECT DEFINITIONS */
OBJECT = IMAGE
  INTERCHANGE_FORMAT = BINARY
  LINES = 14340
  LINE_SAMPLES = 10691
  SAMPLE_TYPE = UNSIGNED_INTEGER
  SAMPLE_BITS = 8
  BANDS = 1
  BAND_STORAGE_TYPE = BAND_SEQUENTIAL
  MAXIMUM = 255
  MEAN = 83.9035
  MINIMUM = 1
  STANDARD_DEVIATION = 83.0811
END_OBJECT = IMAGE
/* MAP OBJECT DEFINITIONS */
OBJECT = IMAGE_MAP_PROJECTION
  ^DATA_SET_MAP_PROJECTION_CATALOG= "DSMAP.CAT"
  A_AXIS_RADIUS = 3396.0
  B_AXIS_RADIUS = 3396.0
  C_AXIS_RADIUS = 3396.0
  CENTER_LATITUDE = -79.9661
  CENTER_LONGITUDE = 282.736
  COORDINATE_SYSTEM_NAME = PLANETOGRAPHIC
  COORDINATE_SYSTEM_TYPE = "BODY-FIXED ROTATING"
  EASTERNMOST_LONGITUDE = 319.907
  FIRST_STANDARD_PARALLEL = "N/A"
  LINE_FIRST_PIXEL = 1
  LINE_LAST_PIXEL = 14340
  LINE_PROJECTION_OFFSET = 7239.25
  MAP_PROJECTION_ROTATION = 0.0
  MAP_PROJECTION_TYPE = ORTHOGRAPHIC
  MAP_RESOLUTION = 1185.42760773333
  MAP_SCALE = 0.05
  MAXIMUM_LATITUDE = -73.6504
  MINIMUM_LATITUDE = -86.2239
  POSITIVE_LONGITUDE_DIRECTION = EAST
  REFERENCE_LATITUDE = "N/A"
  REFERENCE_LONGITUDE = "N/A"
  SAMPLE_FIRST_PIXEL = 1
  SAMPLE_LAST_PIXEL = 10691
  SAMPLE_PROJECTION_OFFSET = 5097.25
  SECOND_STANDARD_PARALLEL = "N/A"
  WESTERNMOST_LONGITUDE = 265.487
END_OBJECT = IMAGE_MAP_PROJECTION
END
