PDS_VERSION_ID = PDS3
/* FILE DATA ELEMENTS */
RECORD_TYPE = UNDEFINED
/* POINTERS TO DATA OBJECTS */
^IMAGE = ("HP892_0000_GR4.TIF")
/* IDENTIFICATION DATA ELEMENTS */
DATA_SET_ID = "MEX-M-HRSC-4-REFDR-MAPPROJECT-EXT9-V4.0"
DATA_SET_NAME = "MARS EXPRESS HRSC MAP PROJECTED REFDR EXTENSION9 V4.0"
DETECTOR_ID = MEX_HRSC_GREEN
EVENT_TYPE = "MARS-REGIONAL-VARIABLE-Gl-At"
INSTRUMENT_HOST_ID = MEX
INSTRUMENT_HOST_NAME = "MARS EXPRESS"
INSTRUMENT_ID = HRSC
INSTRUMENT_NAME = "HIGH RESOLUTION STEREO CAMERA"
MISSION_NAME = "MARS EXPRESS"
MISSION_PHASE_NAME = ME_Phase_50
PROCESSING_LEVEL_ID = 4
PRODUCT_CREATION_TIME = 2024-08-22T02:21:17.000Z
PRODUCT_ID = "HP892_0000_GR4.TIF"
RELEASE_ID = 0016
REVISION_ID = 0000
/* QUALITY DATA ELEMENTS */
DATA_QUALITY_ID = 1
DATA_QUALITY_DESC = "Data calculated based on original SPICE kernels"
/* TIME DATA ELEMENTS */
SPACECRAFT_CLOCK_START_COUNT = "1/0668265365.00363"
SPACECRAFT_CLOCK_STOP_COUNT = "1/0668265960.00706"
START_TIME = 2024-07-05T13:18:11.460Z
STOP_TIME = 2024-07-05T13:22:18.338Z
/* ORBITAL DATA ELEMENTS */
ASCENDING_NODE_LONGITUDE = 94.42
MAXIMUM_RESOLUTION = 0.1412
FOOTPRINT_POINT_LATITUDE = (-73.8325,-73.9416,-74.0248,-74.1043, -74.1804,-74.2531,-74.388,-74.5092, -74.6172,-74.7124,-74.7179,-74.7349, -74.9684,-75.2029,-75.556,-75.9114, -76.1492,-76.3885,-76.6289,-76.9891, -77.2281,-77.4665,-77.7037,-78.0583, -78.2933,-78.6446,-78.8776,-79.1097, -79.3409,-79.5711,-79.8003,-80.0285, -80.2555,-80.4816,-80.7067,-80.9305, -81.1532,-81.3746,-81.7046,-82.0322, -82.4634,-82.8887,-83.307,-83.7178, -84.1201,-84.5121,-84.893,-85.2604, -85.6109,-85.6958,-85.771,-85.5304, -85.1556,-84.9136,-84.6636,-84.4385, -84.1086,-83.6996,-83.42,-83.1718, -82.8831,-82.5166,-82.2912,-82.2534, -82.2402,-82.0824,-81.9028,-81.7018, -81.4807,-81.2407,-80.983,-80.7095, -80.4177,-80.1914,-79.7151,-79.3811, -79.0353,-78.6783,-78.4987,-78.1255, -77.9375,-77.7466,-77.5521,-77.3568, -77.1602,-76.9593,-76.656,-76.453, -76.2457,-76.0371,-75.7223,-75.5098, -75.2962,-75.0829,-74.8704,-74.5512, -74.2323,-74.0198,-73.9137,-73.8325)
FOOTPRINT_POINT_LONGITUDE = (277.241,276.231,275.421,274.608, 273.793,272.975,271.337,269.692,268.043 ,266.388,266.284,266.317,266.473, 266.635,266.889,267.159,267.348,267.544 ,267.75,268.072,268.297,268.531,268.772 ,269.153,269.418,269.837,270.13,270.436 ,270.755,271.087,271.433,271.795, 272.172,272.568,272.982,273.416,273.87, 274.347,275.109,275.935,277.14,278.486, 279.994,281.695,283.625,285.82,288.342, 291.25,294.613,295.537,296.399,299.594, 303.672,305.891,307.917,309.556,311.68, 313.955,315.323,316.431,317.615,318.97, 319.739,319.863,319.892,316.928,314.071 ,311.334,308.722,306.237,303.878, 301.639,299.547,298.037,295.216,293.479 ,291.846,290.312,289.547,288.162, 287.473,286.814,286.192,285.57,284.957, 284.393,283.555,282.992,282.483,281.98, 281.234,280.764,280.31,279.866,279.438, 278.824,278.242,277.87,277.688,277.241)
ORBIT_NUMBER = 25892
ORBITAL_ECCENTRICITY = 0.575
ORBITAL_INCLINATION = 87.08
ORBITAL_SEMIMAJOR_AXIS = 8837.79
PERIAPSIS_ALTITUDE = 366.71
PERIAPSIS_ARGUMENT_ANGLE = 206.93
PERIAPSIS_TIME = 2024-07-05T13:04:50.000Z
SPACECRAFT_ORIENTATION = (0.0,-1.0,0.0)
^MEX_ORIENTATION_DESC = "MEX_ORIENTATION_DESC.TXT"
SPACECRAFT_POINTING_MODE = ACROSSTRACK
^MEX_POINTING_DESC = "MEX_POINTING_DESC.TXT"
RIGHT_ASCENSION = -1e+32
DECLINATION = -1e+32
OFFSET_ANGLE = 2.061
SPACECRAFT_SOLAR_DISTANCE = 2.10178e+08
TARGET_NAME = MARS
/* CAMERA DATA ELEMENTS */
DETECTOR_TEMPERATURE = 18.1666
FOCAL_PLANE_TEMPERATURE = 9.3989
INST_CMPRS_NAME = "DISCRETE COSINE TRANSFORMATION (DCT)"
INST_CMPRS_RATIO = 10.3521
INST_CMPRS_QUALITY = 0
INST_CMPRS_QUANTZ_TBL_ID = 0
INSTRUMENT_TEMPERATURE = 11.0301
LENS_TEMPERATURE = 9.6028
MACROPIXEL_SIZE = 4
MISSING_FRAMES = 0
PIXEL_SUBSAMPLING_FLAG = N
SIGNAL_CHAIN_ID = 2
/* RADIOMETRIC DATA ELEMENTS */
BANDWIDTH = 88.0
CENTER_FILTER_WAVELENGTH = 538.0
RADIANCE_OFFSET = 0.841069
RADIANCE_SCALING_FACTOR = 0.0160418
REFLECTANCE_SCALING_FACTOR = 0.000610129
MEX:REFLECTANCE_OFFSET = 0.031989
/* IMAGE OBJECT DEFINITIONS */
OBJECT = IMAGE
  INTERCHANGE_FORMAT = BINARY
  LINES = 7170
  LINE_SAMPLES = 5346
  SAMPLE_TYPE = UNSIGNED_INTEGER
  SAMPLE_BITS = 8
  BANDS = 1
  BAND_STORAGE_TYPE = BAND_SEQUENTIAL
  MAXIMUM = 255
  MEAN = 70.2596
  MINIMUM = 1
  STANDARD_DEVIATION = 84.8984
END_OBJECT = IMAGE
/* MAP OBJECT DEFINITIONS */
OBJECT = IMAGE_MAP_PROJECTION
  ^DATA_SET_MAP_PROJECTION_CATALOG= "DSMAP.CAT"
  A_AXIS_RADIUS = 3396.0
  B_AXIS_RADIUS = 3396.0
  C_AXIS_RADIUS = 3396.0
  CENTER_LATITUDE = -79.9661
  CENTER_LONGITUDE = 282.736
  COORDINATE_SYSTEM_NAME = PLANETOGRAPHIC
  COORDINATE_SYSTEM_TYPE = "BODY-FIXED ROTATING"
  EASTERNMOST_LONGITUDE = 319.892
  FIRST_STANDARD_PARALLEL = "N/A"
  LINE_FIRST_PIXEL = 1
  LINE_LAST_PIXEL = 7170
  LINE_PROJECTION_OFFSET = 3619.375
  MAP_PROJECTION_ROTATION = 0.0
  MAP_PROJECTION_TYPE = ORTHOGRAPHIC
  MAP_RESOLUTION = 592.713803866667
  MAP_SCALE = 0.1
  MAXIMUM_LATITUDE = -73.8325
  MINIMUM_LATITUDE = -85.771
  POSITIVE_LONGITUDE_DIRECTION = EAST
  REFERENCE_LATITUDE = "N/A"
  REFERENCE_LONGITUDE = "N/A"
  SAMPLE_FIRST_PIXEL = 1
  SAMPLE_LAST_PIXEL = 5346
  SAMPLE_PROJECTION_OFFSET = 2548.375
  SECOND_STANDARD_PARALLEL = "N/A"
  WESTERNMOST_LONGITUDE = 266.284
END_OBJECT = IMAGE_MAP_PROJECTION
END
