PDS_VERSION_ID = PDS3
/* FILE DATA ELEMENTS */
RECORD_TYPE = UNDEFINED
/* POINTERS TO DATA OBJECTS */
^IMAGE = ("HP886_0000_S24.TIF")
/* IDENTIFICATION DATA ELEMENTS */
DATA_SET_ID = "MEX-M-HRSC-4-REFDR-MAPPROJECT-EXT9-V4.0"
DATA_SET_NAME = "MARS EXPRESS HRSC MAP PROJECTED REFDR EXTENSION9 V4.0"
DETECTOR_ID = MEX_HRSC_S2
EVENT_TYPE = "MARS-REGIONAL-VARIABLE-Gl-At"
INSTRUMENT_HOST_ID = MEX
INSTRUMENT_HOST_NAME = "MARS EXPRESS"
INSTRUMENT_ID = HRSC
INSTRUMENT_NAME = "HIGH RESOLUTION STEREO CAMERA"
MISSION_NAME = "MARS EXPRESS"
MISSION_PHASE_NAME = ME_Phase_50
PROCESSING_LEVEL_ID = 4
PRODUCT_CREATION_TIME = 2024-08-22T02:21:17.000Z
PRODUCT_ID = "HP886_0000_S24.TIF"
RELEASE_ID = 0016
REVISION_ID = 0000
/* QUALITY DATA ELEMENTS */
DATA_QUALITY_ID = 1
DATA_QUALITY_DESC = "Data calculated based on original SPICE kernels"
/* TIME DATA ELEMENTS */
SPACECRAFT_CLOCK_START_COUNT = "1/0668114481.00361"
SPACECRAFT_CLOCK_STOP_COUNT = "1/0668115545.39573"
START_TIME = 2024-07-03T19:25:49.686Z
STOP_TIME = 2024-07-03T19:46:07.600Z
/* ORBITAL DATA ELEMENTS */
ASCENDING_NODE_LONGITUDE = 94.52
MAXIMUM_RESOLUTION = 0.0896
FOOTPRINT_POINT_LATITUDE = (-74.7491,-74.9373,-75.0813,-75.3014, -75.3767,-75.4378,-75.4399,-75.3298, -76.2744,-77.1945,-78.0921,-78.9896, -79.8597,-80.7104,-81.5455,-82.3695, -83.1715,-83.9453,-85.109,-85.8523, -86.5866,-87.3054,-88.0069,-88.6867, -89.3239,-89.6872,-89.2279,-88.6178, -88.0039,-87.3997,-86.8051,-86.2222, -85.6506,-84.5471,-83.4938,-82.4685, -81.4808,-80.5342,-79.6238,-78.7495, -77.906,-77.0938,-76.3094,-75.5562, -74.8316,-74.6545,-74.6485,-74.856, -75.0671,-75.197,-75.2937,-75.3523, -75.3768,-75.3678,-75.3035,-75.1982, -75.0676,-74.9019,-74.6738,-74.6459, -74.636,-75.1775,-75.7479,-76.3437, -76.9797,-77.6275,-78.4896,-79.0146, -79.7318,-80.4675,-81.3903,-82.1141, -82.8023,-83.4188,-83.6855,-83.9142, -84.097,-84.2251,-84.2903,-84.2858, -84.2053,-84.051,-83.8202,-83.5157, -83.1431,-82.7083,-82.2164,-81.6737, -81.0833,-80.4517,-79.7811,-79.0756, -78.3369,-77.5652,-76.7655,-75.9377, -75.083,-74.643,-74.7491)
FOOTPRINT_POINT_LONGITUDE = (163.948,161.623,159.512,155.183, 152.973,150.173,150.032,149.823,149.781 ,149.721,149.642,149.581,149.486, 149.366,149.221,149.056,148.831,148.499 ,147.938,147.322,146.476,145.175, 142.952,138.401,124.956,51.0189,355.556 ,344.941,341.029,339.067,337.893, 337.137,336.619,336.029,335.764,335.586 ,335.509,335.518,335.579,335.685, 335.816,335.973,336.147,336.349,336.573 ,336.631,336.633,333.587,329.69,326.53, 323.342,320.131,316.909,313.681,309.657 ,306.065,302.905,299.786,296.337, 295.958,295.821,295.083,294.234,293.261 ,292.078,290.752,288.656,287.201, 284.906,282.059,277.538,272.888,266.985 ,259.518,255.09,250.191,244.835,239.035 ,232.894,226.541,220.11,213.843,207.825 ,202.178,196.983,192.275,188.046, 184.277,180.924,177.952,175.316,172.977 ,170.896,169.042,167.386,165.904, 164.573,163.959,163.948)
ORBIT_NUMBER = 25886
ORBITAL_ECCENTRICITY = 0.574
ORBITAL_INCLINATION = 87.08
ORBITAL_SEMIMAJOR_AXIS = 8827.64
PERIAPSIS_ALTITUDE = 367.06
PERIAPSIS_ARGUMENT_ANGLE = 207.94
PERIAPSIS_TIME = 2024-07-03T19:10:18.000Z
SPACECRAFT_ORIENTATION = (0.0,-1.0,0.0)
^MEX_ORIENTATION_DESC = "MEX_ORIENTATION_DESC.TXT"
SPACECRAFT_POINTING_MODE = ACROSSTRACK
^MEX_POINTING_DESC = "MEX_POINTING_DESC.TXT"
RIGHT_ASCENSION = -1e+32
DECLINATION = -1e+32
OFFSET_ANGLE = 0.0
SPACECRAFT_SOLAR_DISTANCE = 2.09978e+08
TARGET_NAME = MARS
/* CAMERA DATA ELEMENTS */
DETECTOR_TEMPERATURE = 18.5744
FOCAL_PLANE_TEMPERATURE = 9.195
INST_CMPRS_NAME = "DISCRETE COSINE TRANSFORMATION (DCT)"
INST_CMPRS_RATIO = 12.5961
INST_CMPRS_QUALITY = 0
INST_CMPRS_QUANTZ_TBL_ID = 0
INSTRUMENT_TEMPERATURE = 9.8067
LENS_TEMPERATURE = 9.6028
MACROPIXEL_SIZE = 2
MISSING_FRAMES = 0
PIXEL_SUBSAMPLING_FLAG = N
SIGNAL_CHAIN_ID = 1
/* RADIOMETRIC DATA ELEMENTS */
BANDWIDTH = 178.0
CENTER_FILTER_WAVELENGTH = 679.0
RADIANCE_OFFSET = 2.1699
RADIANCE_SCALING_FACTOR = 0.059566
REFLECTANCE_SCALING_FACTOR = 0.00139086
MEX:REFLECTANCE_OFFSET = 0.0506669
/* IMAGE OBJECT DEFINITIONS */
OBJECT = IMAGE
  INTERCHANGE_FORMAT = BINARY
  LINES = 20527
  LINE_SAMPLES = 33022
  SAMPLE_TYPE = UNSIGNED_INTEGER
  SAMPLE_BITS = 8
  BANDS = 1
  BAND_STORAGE_TYPE = BAND_SEQUENTIAL
  MAXIMUM = 255
  MEAN = 89.9678
  MINIMUM = 1
  STANDARD_DEVIATION = 72.3401
END_OBJECT = IMAGE
/* MAP OBJECT DEFINITIONS */
OBJECT = IMAGE_MAP_PROJECTION
  ^DATA_SET_MAP_PROJECTION_CATALOG= "DSMAP.CAT"
  A_AXIS_RADIUS = 3396.0
  B_AXIS_RADIUS = 3396.0
  C_AXIS_RADIUS = 3396.0
  CENTER_LATITUDE = -86.73560000000001
  CENTER_LONGITUDE = 261.997
  COORDINATE_SYSTEM_NAME = PLANETOGRAPHIC
  COORDINATE_SYSTEM_TYPE = "BODY-FIXED ROTATING"
  EASTERNMOST_LONGITUDE = 360.0
  FIRST_STANDARD_PARALLEL = "N/A"
  LINE_FIRST_PIXEL = 1
  LINE_LAST_PIXEL = 20527
  LINE_PROJECTION_OFFSET = 10682.25
  MAP_PROJECTION_ROTATION = 0.0
  MAP_PROJECTION_TYPE = ORTHOGRAPHIC
  MAP_RESOLUTION = 1185.42760773333
  MAP_SCALE = 0.05
  MAXIMUM_LATITUDE = -74.636
  MINIMUM_LATITUDE = -90.0
  POSITIVE_LONGITUDE_DIRECTION = EAST
  REFERENCE_LATITUDE = "N/A"
  REFERENCE_LONGITUDE = "N/A"
  SAMPLE_FIRST_PIXEL = 1
  SAMPLE_LAST_PIXEL = 33022
  SAMPLE_PROJECTION_OFFSET = 17666.75
  SECOND_STANDARD_PARALLEL = "N/A"
  WESTERNMOST_LONGITUDE = 0.0
END_OBJECT = IMAGE_MAP_PROJECTION
END
