PDS_VERSION_ID = PDS3
/* FILE DATA ELEMENTS */
RECORD_TYPE = UNDEFINED
/* POINTERS TO DATA OBJECTS */
^IMAGE = ("HP885_0000_S14.TIF")
/* IDENTIFICATION DATA ELEMENTS */
DATA_SET_ID = "MEX-M-HRSC-4-REFDR-MAPPROJECT-EXT9-V4.0"
DATA_SET_NAME = "MARS EXPRESS HRSC MAP PROJECTED REFDR EXTENSION9 V4.0"
DETECTOR_ID = MEX_HRSC_S1
EVENT_TYPE = "MARS-REGIONAL-VARIABLE-Gl-At"
INSTRUMENT_HOST_ID = MEX
INSTRUMENT_HOST_NAME = "MARS EXPRESS"
INSTRUMENT_ID = HRSC
INSTRUMENT_NAME = "HIGH RESOLUTION STEREO CAMERA"
MISSION_NAME = "MARS EXPRESS"
MISSION_PHASE_NAME = ME_Phase_50
PROCESSING_LEVEL_ID = 4
PRODUCT_CREATION_TIME = 2024-08-22T02:21:17.000Z
PRODUCT_ID = "HP885_0000_S14.TIF"
RELEASE_ID = 0016
REVISION_ID = 0000
/* QUALITY DATA ELEMENTS */
DATA_QUALITY_ID = 1
DATA_QUALITY_DESC = "Data calculated based on original SPICE kernels"
/* TIME DATA ELEMENTS */
SPACECRAFT_CLOCK_START_COUNT = "1/0668089367.64194"
SPACECRAFT_CLOCK_STOP_COUNT = "1/0668090505.45816"
START_TIME = 2024-07-03T12:23:37.469Z
STOP_TIME = 2024-07-03T12:31:52.879Z
/* ORBITAL DATA ELEMENTS */
ASCENDING_NODE_LONGITUDE = 94.54
MAXIMUM_RESOLUTION = 0.0704
FOOTPRINT_POINT_LATITUDE = (-77.1746,-77.3461,-77.4662,-77.5354, -77.5361,-77.6494,-78.5086,-79.0792, -79.647,-80.2127,-80.7765,-81.6156, -82.4509,-83.2798,-84.1028,-84.65, -85.1904,-86.0009,-86.7905,-87.312, -87.8201,-88.3078,-88.7519,-89.1849, -89.1234,-88.8032,-88.1354,-87.6531, -87.1601,-86.6565,-86.1532,-85.6489, -84.8897,-84.3869,-83.8825,-83.3811, -82.6292,-82.1284,-81.6298,-81.1358, -80.3961,-79.9035,-78.9294,-77.9641, -77.0054,-76.2977,-76.0588,-76.0415, -76.1143,-76.1923,-76.2071,-76.185, -76.1167,-75.9683,-75.8008,-75.7872, -75.7827,-76.6988,-77.8649,-78.7938, -79.7275,-80.421,-81.1188,-81.5859, -82.0427,-82.5049,-83.184,-83.8518, -84.2852,-84.7088,-85.311,-85.683, -86.0252,-86.3258,-86.672,-86.8154, -86.8761,-86.8489,-86.7348,-86.541, -86.2805,-85.7879,-85.2067,-84.7833, -84.339,-83.874,-83.3906,-82.8981, -82.3959,-81.8857,-81.367,-80.8418, -80.3104,-79.7788,-79.2335,-78.4128, -77.5839,-77.3049,-77.1746)
FOOTPRINT_POINT_LONGITUDE = (260.16,256.241,252.155,247.102,246.966 ,246.549,246.242,246.013,245.764, 245.487,245.179,244.657,244.02,243.241, 242.254,241.418,240.433,238.391,235.505 ,232.576,228.328,221.584,209.87,171.68, 135.401,111.689,95.2498,89.742,86.1319, 83.6177,81.7531,80.3209,78.7127,77.8724 ,77.178,76.5825,75.8462,75.4353,75.071, 74.7389,74.3069,74.0558,73.6054,73.2195 ,72.8872,72.6548,72.5881,72.5832, 70.4244,66.7307,63.4932,61.1424,57.9714 ,54.0457,51.0368,50.8399,50.7687, 49.9887,48.7953,47.6364,46.2292,44.9811 ,43.5028,42.3582,41.0905,39.6288, 37.0641,33.8877,31.3432,28.3498,22.8429 ,18.3202,12.9272,6.55816,355.071, 346.222,336.78,327.218,318.01,309.585, 302.203,293.035,285.916,282.082,278.839 ,276.058,273.657,271.596,269.807, 268.242,266.863,265.641,264.554,263.587 ,262.708,261.553,260.555,260.252, 260.16)
ORBIT_NUMBER = 25885
ORBITAL_ECCENTRICITY = 0.575
ORBITAL_INCLINATION = 87.07
ORBITAL_SEMIMAJOR_AXIS = 8836.13
PERIAPSIS_ALTITUDE = 366.42
PERIAPSIS_ARGUMENT_ANGLE = 208.11
PERIAPSIS_TIME = 2024-07-03T12:11:10.000Z
SPACECRAFT_ORIENTATION = (0.0,-1.0,0.0)
^MEX_ORIENTATION_DESC = "MEX_ORIENTATION_DESC.TXT"
SPACECRAFT_POINTING_MODE = ACROSSTRACK
^MEX_POINTING_DESC = "MEX_POINTING_DESC.TXT"
RIGHT_ASCENSION = -1e+32
DECLINATION = -1e+32
OFFSET_ANGLE = -1.603
SPACECRAFT_SOLAR_DISTANCE = 2.09945e+08
TARGET_NAME = MARS
/* CAMERA DATA ELEMENTS */
DETECTOR_TEMPERATURE = 17.5549
FOCAL_PLANE_TEMPERATURE = 9.3989
INST_CMPRS_NAME = "DISCRETE COSINE TRANSFORMATION (DCT)"
INST_CMPRS_RATIO = 9.7927
INST_CMPRS_QUALITY = 0
INST_CMPRS_QUANTZ_TBL_ID = 0
INSTRUMENT_TEMPERATURE = 11.234
LENS_TEMPERATURE = 9.3989
MACROPIXEL_SIZE = 2
MISSING_FRAMES = 0
PIXEL_SUBSAMPLING_FLAG = N
SIGNAL_CHAIN_ID = 1
/* RADIOMETRIC DATA ELEMENTS */
BANDWIDTH = 180.0
CENTER_FILTER_WAVELENGTH = 677.0
RADIANCE_OFFSET = 3.38232
RADIANCE_SCALING_FACTOR = 0.0498025
REFLECTANCE_SCALING_FACTOR = 0.00114528
MEX:REFLECTANCE_OFFSET = 0.0777812
/* IMAGE OBJECT DEFINITIONS */
OBJECT = IMAGE
  INTERCHANGE_FORMAT = BINARY
  LINES = 28584
  LINE_SAMPLES = 21925
  SAMPLE_TYPE = UNSIGNED_INTEGER
  SAMPLE_BITS = 8
  BANDS = 1
  BAND_STORAGE_TYPE = BAND_SEQUENTIAL
  MAXIMUM = 255
  MEAN = 91.5781
  MINIMUM = 1
  STANDARD_DEVIATION = 72.4904
END_OBJECT = IMAGE
/* MAP OBJECT DEFINITIONS */
OBJECT = IMAGE_MAP_PROJECTION
  ^DATA_SET_MAP_PROJECTION_CATALOG= "DSMAP.CAT"
  A_AXIS_RADIUS = 3396.0
  B_AXIS_RADIUS = 3396.0
  C_AXIS_RADIUS = 3396.0
  CENTER_LATITUDE = -87.6982
  CENTER_LONGITUDE = 33.0427
  COORDINATE_SYSTEM_NAME = PLANETOGRAPHIC
  COORDINATE_SYSTEM_TYPE = "BODY-FIXED ROTATING"
  EASTERNMOST_LONGITUDE = 360.0
  FIRST_STANDARD_PARALLEL = "N/A"
  LINE_FIRST_PIXEL = 1
  LINE_LAST_PIXEL = 28584
  LINE_PROJECTION_OFFSET = 13673.25
  MAP_PROJECTION_ROTATION = 0.0
  MAP_PROJECTION_TYPE = ORTHOGRAPHIC
  MAP_RESOLUTION = 1185.42760773333
  MAP_SCALE = 0.05
  MAXIMUM_LATITUDE = -75.78270000000001
  MINIMUM_LATITUDE = -90.0
  POSITIVE_LONGITUDE_DIRECTION = EAST
  REFERENCE_LATITUDE = "N/A"
  REFERENCE_LONGITUDE = "N/A"
  SAMPLE_FIRST_PIXEL = 1
  SAMPLE_LAST_PIXEL = 21925
  SAMPLE_PROJECTION_OFFSET = 11143.75
  SECOND_STANDARD_PARALLEL = "N/A"
  WESTERNMOST_LONGITUDE = 0.0
END_OBJECT = IMAGE_MAP_PROJECTION
END
