PDS_VERSION_ID = PDS3
/* FILE DATA ELEMENTS */
RECORD_TYPE = UNDEFINED
/* POINTERS TO DATA OBJECTS */
^IMAGE = ("HP885_0000_ND4.TIF")
/* IDENTIFICATION DATA ELEMENTS */
DATA_SET_ID = "MEX-M-HRSC-4-REFDR-MAPPROJECT-EXT9-V4.0"
DATA_SET_NAME = "MARS EXPRESS HRSC MAP PROJECTED REFDR EXTENSION9 V4.0"
DETECTOR_ID = MEX_HRSC_NADIR
EVENT_TYPE = "MARS-REGIONAL-VARIABLE-Gl-At"
INSTRUMENT_HOST_ID = MEX
INSTRUMENT_HOST_NAME = "MARS EXPRESS"
INSTRUMENT_ID = HRSC
INSTRUMENT_NAME = "HIGH RESOLUTION STEREO CAMERA"
MISSION_NAME = "MARS EXPRESS"
MISSION_PHASE_NAME = ME_Phase_50
PROCESSING_LEVEL_ID = 4
PRODUCT_CREATION_TIME = 2024-08-22T02:21:17.000Z
PRODUCT_ID = "HP885_0000_ND4.TIF"
RELEASE_ID = 0016
REVISION_ID = 0000
/* QUALITY DATA ELEMENTS */
DATA_QUALITY_ID = 1
DATA_QUALITY_DESC = "Data calculated based on original SPICE kernels"
/* TIME DATA ELEMENTS */
SPACECRAFT_CLOCK_START_COUNT = "1/0668089367.64194"
SPACECRAFT_CLOCK_STOP_COUNT = "1/0668090505.45816"
START_TIME = 2024-07-03T12:25:14.975Z
STOP_TIME = 2024-07-03T12:35:53.939Z
/* ORBITAL DATA ELEMENTS */
ASCENDING_NODE_LONGITUDE = 94.54
MAXIMUM_RESOLUTION = 0.0373
FOOTPRINT_POINT_LATITUDE = (-77.2989,-77.4754,-77.5353,-77.575, -77.594,-77.5872,-77.5859,-77.5807, -78.5119,-79.127,-79.7376,-80.3435, -80.9448,-81.5413,-82.1331,-82.7198, -83.3013,-83.8779,-84.4485,-85.013, -85.5707,-86.1199,-86.6606,-87.1874, -87.6965,-88.1741,-88.5954,-88.9006, -88.9812,-88.7977,-88.445,-88.0148, -87.5496,-87.069,-86.5805,-86.0886, -85.5957,-84.6121,-83.636,-82.67, -81.7152,-80.7727,-79.8429,-78.9255, -78.0206,-77.128,-76.2481,-76.0297, -76.016,-76.1111,-76.1627,-76.1947, -76.1917,-76.166,-76.1178,-76.0195, -75.8298,-75.628,-75.6107,-75.6024, -76.4406,-77.2879,-78.1433,-79.0058, -79.8737,-80.7445,-81.6146,-82.4787, -83.328,-84.149,-84.9189,-85.6003, -85.8906,-86.1343,-86.3205,-86.4386, -86.4797,-86.4398,-86.3191,-86.1242, -85.8633,-85.5467,-85.1839,-84.7834, -84.3514,-83.8941,-83.415,-82.9181, -82.4053,-81.879,-81.3407,-80.7915, -80.2327,-79.6648,-79.0889,-78.5051, -77.6158,-77.3159,-77.2989)
FOOTPRINT_POINT_LONGITUDE = (261.303,256.766,254.426,252.047, 249.631,246.564,246.41,246.012,245.607, 245.302,244.967,244.592,244.177,243.707 ,243.175,242.555,241.832,241.002, 239.989,238.766,237.242,235.269,232.756 ,229.242,224.26,216.568,204.053,183.224 ,154.047,127.782,111.066,101.096, 94.8406,90.6007,87.5896,85.3429,83.6117 ,81.1178,79.4088,78.1625,77.2244,76.475 ,75.8548,75.34,74.9002,74.522,74.177, 74.1058,74.1009,71.1828,68.7796,65.5793 ,63.1946,60.8267,58.4773,55.3853, 51.3634,48.1849,47.9443,47.8265,47.0633 ,46.1708,45.107,43.8356,42.2985,40.4171 ,38.0786,35.1255,31.318,26.3089,19.5767 ,10.4194,4.69544,358.115,350.697,342.57 ,334.005,325.37,317.054,309.365,302.483 ,296.459,291.257,286.791,282.967, 279.682,276.854,274.404,272.273,270.408 ,268.768,267.319,266.03,264.88,263.849, 262.921,261.694,261.323,261.303)
ORBIT_NUMBER = 25885
ORBITAL_ECCENTRICITY = 0.575
ORBITAL_INCLINATION = 87.07
ORBITAL_SEMIMAJOR_AXIS = 8836.13
PERIAPSIS_ALTITUDE = 366.42
PERIAPSIS_ARGUMENT_ANGLE = 208.11
PERIAPSIS_TIME = 2024-07-03T12:11:10.000Z
SPACECRAFT_ORIENTATION = (0.0,-1.0,0.0)
^MEX_ORIENTATION_DESC = "MEX_ORIENTATION_DESC.TXT"
SPACECRAFT_POINTING_MODE = ACROSSTRACK
^MEX_POINTING_DESC = "MEX_POINTING_DESC.TXT"
RIGHT_ASCENSION = -1e+32
DECLINATION = -1e+32
OFFSET_ANGLE = -1.603
SPACECRAFT_SOLAR_DISTANCE = 2.09945e+08
TARGET_NAME = MARS
/* CAMERA DATA ELEMENTS */
DETECTOR_TEMPERATURE = 18.3705
FOCAL_PLANE_TEMPERATURE = 9.3989
INST_CMPRS_NAME = "DISCRETE COSINE TRANSFORMATION (DCT)"
INST_CMPRS_RATIO = 6.45537
INST_CMPRS_QUALITY = 0
INST_CMPRS_QUANTZ_TBL_ID = 0
INSTRUMENT_TEMPERATURE = 11.234
LENS_TEMPERATURE = 9.3989
MACROPIXEL_SIZE = 1
MISSING_FRAMES = 0
PIXEL_SUBSAMPLING_FLAG = N
SIGNAL_CHAIN_ID = 0
/* RADIOMETRIC DATA ELEMENTS */
BANDWIDTH = 177.0
CENTER_FILTER_WAVELENGTH = 677.5
RADIANCE_OFFSET = 2.51636
RADIANCE_SCALING_FACTOR = 0.0493403
REFLECTANCE_SCALING_FACTOR = 0.00115532
MEX:REFLECTANCE_OFFSET = 0.0589216
/* IMAGE OBJECT DEFINITIONS */
OBJECT = IMAGE
  INTERCHANGE_FORMAT = BINARY
  LINES = 57167
  LINE_SAMPLES = 43850
  SAMPLE_TYPE = UNSIGNED_INTEGER
  SAMPLE_BITS = 8
  BANDS = 1
  BAND_STORAGE_TYPE = BAND_SEQUENTIAL
  MAXIMUM = 255
  MEAN = 88.134
  MINIMUM = 1
  STANDARD_DEVIATION = 67.6633
END_OBJECT = IMAGE
/* MAP OBJECT DEFINITIONS */
OBJECT = IMAGE_MAP_PROJECTION
  ^DATA_SET_MAP_PROJECTION_CATALOG= "DSMAP.CAT"
  A_AXIS_RADIUS = 3396.0
  B_AXIS_RADIUS = 3396.0
  C_AXIS_RADIUS = 3396.0
  CENTER_LATITUDE = -87.6982
  CENTER_LONGITUDE = 33.0427
  COORDINATE_SYSTEM_NAME = PLANETOGRAPHIC
  COORDINATE_SYSTEM_TYPE = "BODY-FIXED ROTATING"
  EASTERNMOST_LONGITUDE = 360.0
  FIRST_STANDARD_PARALLEL = "N/A"
  LINE_FIRST_PIXEL = 1
  LINE_LAST_PIXEL = 57167
  LINE_PROJECTION_OFFSET = 27347.0
  MAP_PROJECTION_ROTATION = 0.0
  MAP_PROJECTION_TYPE = ORTHOGRAPHIC
  MAP_RESOLUTION = 2370.85521546667
  MAP_SCALE = 0.025
  MAXIMUM_LATITUDE = -75.6024
  MINIMUM_LATITUDE = -90.0
  POSITIVE_LONGITUDE_DIRECTION = EAST
  REFERENCE_LATITUDE = "N/A"
  REFERENCE_LONGITUDE = "N/A"
  SAMPLE_FIRST_PIXEL = 1
  SAMPLE_LAST_PIXEL = 43850
  SAMPLE_PROJECTION_OFFSET = 22288.0
  SECOND_STANDARD_PARALLEL = "N/A"
  WESTERNMOST_LONGITUDE = 0.0
END_OBJECT = IMAGE_MAP_PROJECTION
END
