PDS_VERSION_ID = PDS3
/* FILE DATA ELEMENTS */
RECORD_TYPE = UNDEFINED
/* POINTERS TO DATA OBJECTS */
^IMAGE = ("HP884_0000_IR4.TIF")
/* IDENTIFICATION DATA ELEMENTS */
DATA_SET_ID = "MEX-M-HRSC-4-REFDR-MAPPROJECT-EXT9-V4.0"
DATA_SET_NAME = "MARS EXPRESS HRSC MAP PROJECTED REFDR EXTENSION9 V4.0"
DETECTOR_ID = MEX_HRSC_IR
EVENT_TYPE = "MARS-REGIONAL-VARIABLE-Gl-At"
INSTRUMENT_HOST_ID = MEX
INSTRUMENT_HOST_NAME = "MARS EXPRESS"
INSTRUMENT_ID = HRSC
INSTRUMENT_NAME = "HIGH RESOLUTION STEREO CAMERA"
MISSION_NAME = "MARS EXPRESS"
MISSION_PHASE_NAME = ME_Phase_50
PROCESSING_LEVEL_ID = 4
PRODUCT_CREATION_TIME = 2024-08-22T02:21:17.000Z
PRODUCT_ID = "HP884_0000_IR4.TIF"
RELEASE_ID = 0016
REVISION_ID = 0000
/* QUALITY DATA ELEMENTS */
DATA_QUALITY_ID = 1
DATA_QUALITY_DESC = "Data calculated based on original SPICE kernels"
/* TIME DATA ELEMENTS */
SPACECRAFT_CLOCK_START_COUNT = "1/0668064202.65115"
SPACECRAFT_CLOCK_STOP_COUNT = "1/0668065301.43300"
START_TIME = 2024-07-03T05:24:26.791Z
STOP_TIME = 2024-07-03T05:33:31.663Z
/* ORBITAL DATA ELEMENTS */
ASCENDING_NODE_LONGITUDE = 94.57
MAXIMUM_RESOLUTION = 0.1318
FOOTPRINT_POINT_LATITUDE = (-76.0404,-76.2791,-76.3928,-76.5635, -76.566,-76.6603,-77.5852,-78.1959, -78.8068,-79.4131,-80.0168,-80.6176, -81.2144,-81.8087,-82.3995,-82.9898, -83.5767,-84.1572,-84.7232,-85.2946, -85.8591,-86.694,-87.2416,-87.7727, -88.2766,-88.7209,-89.0275,-89.0571, -88.7929,-88.3757,-87.6423,-87.1267, -86.601,-85.8137,-85.2837,-84.7556, -84.2276,-83.705,-83.1796,-82.6525, -82.1353,-81.6172,-81.0996,-80.3289, -79.5633,-78.5489,-77.7931,-76.7948, -75.8056,-75.5582,-75.5008,-75.4338, -75.345,-75.2388,-75.0337,-74.8355, -74.4937,-74.4748,-74.4696,-75.4011, -76.3349,-77.4959,-78.1953,-79.1211, -80.0372,-80.7096,-81.1502,-81.5887, -82.2278,-82.6373,-83.0322,-83.408, -83.7644,-84.0924,-84.5187,-84.7491, -84.9399,-85.1164,-85.1548,-85.129, -84.9694,-84.6749,-84.264,-83.9364, -83.5702,-83.174,-82.7485,-82.3019, -81.8334,-81.3475,-80.8475,-80.0732, -79.5427,-79.0006,-78.4522,-77.6115, -77.0466,-76.4729,-76.1846,-76.0404)
FOOTPRINT_POINT_LONGITUDE = (368.364,364.407,362.0,356.747,356.634, 356.498,356.754,356.952,357.169,357.414 ,357.691,358.004,358.363,358.775, 359.252,359.807,360.464,361.259,362.246 ,363.453,364.994,368.279,371.556, 376.413,384.184,397.746,422.191,456.204 ,482.774,497.72,509.156,513.405,516.346 ,519.272,520.689,521.798,522.699, 523.422,524.045,524.585,525.02,525.405, 525.745,526.174,526.53,526.922,527.166, 527.435,527.656,527.707,527.718,522.074 ,519.292,516.943,513.488,510.875, 507.265,507.089,507.029,505.952,504.696 ,502.814,501.475,499.385,496.859, 494.609,492.902,490.991,487.695,485.166 ,482.322,479.127,475.514,471.465, 464.514,459.306,453.504,444.118,437.605 ,431.019,421.423,412.627,404.877, 400.351,396.259,392.645,389.4,386.542, 383.979,381.694,379.66,376.996,375.438, 374.023,372.752,371.046,370.049,369.128 ,368.699,368.364)
ORBIT_NUMBER = 25884
ORBITAL_ECCENTRICITY = 0.574
ORBITAL_INCLINATION = 87.07
ORBITAL_SEMIMAJOR_AXIS = 8828.05
PERIAPSIS_ALTITUDE = 367.46
PERIAPSIS_ARGUMENT_ANGLE = 208.24
PERIAPSIS_TIME = 2024-07-03T05:12:01.000Z
SPACECRAFT_ORIENTATION = (0.0,-1.0,0.0)
^MEX_ORIENTATION_DESC = "MEX_ORIENTATION_DESC.TXT"
SPACECRAFT_POINTING_MODE = NADIR
^MEX_POINTING_DESC = "MEX_POINTING_DESC.TXT"
RIGHT_ASCENSION = -1e+32
DECLINATION = -1e+32
OFFSET_ANGLE = -1e+32
SPACECRAFT_SOLAR_DISTANCE = 2.09913e+08
TARGET_NAME = MARS
/* CAMERA DATA ELEMENTS */
DETECTOR_TEMPERATURE = 17.1471
FOCAL_PLANE_TEMPERATURE = 8.9911
INST_CMPRS_NAME = "DISCRETE COSINE TRANSFORMATION (DCT)"
INST_CMPRS_RATIO = 14.6738
INST_CMPRS_QUALITY = 0
INST_CMPRS_QUANTZ_TBL_ID = 0
INSTRUMENT_TEMPERATURE = 11.0301
LENS_TEMPERATURE = 9.195
MACROPIXEL_SIZE = 4
MISSING_FRAMES = 0
PIXEL_SUBSAMPLING_FLAG = N
SIGNAL_CHAIN_ID = 2
/* RADIOMETRIC DATA ELEMENTS */
BANDWIDTH = 81.0
CENTER_FILTER_WAVELENGTH = 955.5
RADIANCE_OFFSET = 0.703216
RADIANCE_SCALING_FACTOR = 0.0109636
REFLECTANCE_SCALING_FACTOR = 0.00104223
MEX:REFLECTANCE_OFFSET = 0.0668497
/* IMAGE OBJECT DEFINITIONS */
OBJECT = IMAGE
  INTERCHANGE_FORMAT = BINARY
  LINES = 11512
  LINE_SAMPLES = 14972
  SAMPLE_TYPE = UNSIGNED_INTEGER
  SAMPLE_BITS = 8
  BANDS = 1
  BAND_STORAGE_TYPE = BAND_SEQUENTIAL
  MAXIMUM = 255
  MEAN = 78.0081
  MINIMUM = 1
  STANDARD_DEVIATION = 48.0973
END_OBJECT = IMAGE
/* MAP OBJECT DEFINITIONS */
OBJECT = IMAGE_MAP_PROJECTION
  ^DATA_SET_MAP_PROJECTION_CATALOG= "DSMAP.CAT"
  A_AXIS_RADIUS = 3396.0
  B_AXIS_RADIUS = 3396.0
  C_AXIS_RADIUS = 3396.0
  CENTER_LATITUDE = -86.4513
  CENTER_LONGITUDE = 113.79
  COORDINATE_SYSTEM_NAME = PLANETOGRAPHIC
  COORDINATE_SYSTEM_TYPE = "BODY-FIXED ROTATING"
  EASTERNMOST_LONGITUDE = 167.718
  FIRST_STANDARD_PARALLEL = "N/A"
  LINE_FIRST_PIXEL = 1
  LINE_LAST_PIXEL = 11512
  LINE_PROJECTION_OFFSET = 5819.625
  MAP_PROJECTION_ROTATION = 0.0
  MAP_PROJECTION_TYPE = ORTHOGRAPHIC
  MAP_RESOLUTION = 592.713803866667
  MAP_SCALE = 0.1
  MAXIMUM_LATITUDE = -74.4696
  MINIMUM_LATITUDE = -89.05710000000001
  POSITIVE_LONGITUDE_DIRECTION = EAST
  REFERENCE_LATITUDE = "N/A"
  REFERENCE_LONGITUDE = "N/A"
  SAMPLE_FIRST_PIXEL = 1
  SAMPLE_LAST_PIXEL = 14972
  SAMPLE_PROJECTION_OFFSET = 7915.625
  SECOND_STANDARD_PARALLEL = "N/A"
  WESTERNMOST_LONGITUDE = -3.502
END_OBJECT = IMAGE_MAP_PROJECTION
END
