PDS_VERSION_ID = PDS3
/* FILE DATA ELEMENTS */
RECORD_TYPE = UNDEFINED
/* POINTERS TO DATA OBJECTS */
^IMAGE = ("HP884_0000_GR4.TIF")
/* IDENTIFICATION DATA ELEMENTS */
DATA_SET_ID = "MEX-M-HRSC-4-REFDR-MAPPROJECT-EXT9-V4.0"
DATA_SET_NAME = "MARS EXPRESS HRSC MAP PROJECTED REFDR EXTENSION9 V4.0"
DETECTOR_ID = MEX_HRSC_GREEN
EVENT_TYPE = "MARS-REGIONAL-VARIABLE-Gl-At"
INSTRUMENT_HOST_ID = MEX
INSTRUMENT_HOST_NAME = "MARS EXPRESS"
INSTRUMENT_ID = HRSC
INSTRUMENT_NAME = "HIGH RESOLUTION STEREO CAMERA"
MISSION_NAME = "MARS EXPRESS"
MISSION_PHASE_NAME = ME_Phase_50
PROCESSING_LEVEL_ID = 4
PRODUCT_CREATION_TIME = 2024-08-22T02:21:17.000Z
PRODUCT_ID = "HP884_0000_GR4.TIF"
RELEASE_ID = 0016
REVISION_ID = 0000
/* QUALITY DATA ELEMENTS */
DATA_QUALITY_ID = 1
DATA_QUALITY_DESC = "Data calculated based on original SPICE kernels"
/* TIME DATA ELEMENTS */
SPACECRAFT_CLOCK_START_COUNT = "1/0668064202.65115"
SPACECRAFT_CLOCK_STOP_COUNT = "1/0668065301.43300"
START_TIME = 2024-07-03T05:25:28.913Z
STOP_TIME = 2024-07-03T05:36:12.515Z
/* ORBITAL DATA ELEMENTS */
ASCENDING_NODE_LONGITUDE = 94.57
MAXIMUM_RESOLUTION = 0.1367
FOOTPRINT_POINT_LATITUDE = (-76.0773,-76.2932,-76.4392,-76.5816, -76.6692,-76.6717,-76.6933,-77.3472, -77.9962,-78.6412,-79.2813,-79.9172, -80.5487,-81.1754,-81.7976,-82.4152, -83.0292,-83.6371,-84.2405,-84.836, -85.428,-86.0136,-86.5915,-87.161, -87.7176,-88.2531,-88.7451,-89.1255, -89.2217,-88.9577,-88.5197,-88.023, -87.5049,-86.9783,-86.4493,-85.9111, -85.3829,-84.8568,-84.3333,-83.8129, -82.7795,-81.7605,-80.7529,-79.7603, -78.7798,-77.8123,-76.8583,-75.9169, -75.6834,-75.4527,-75.4126,-75.3343, -75.187,-74.9267,-74.6576,-74.4051, -74.3841,-74.378,-75.25,-76.1284,-77.01 ,-77.8936,-78.777,-79.653,-80.5193, -81.3694,-82.187,-82.5784,-82.9548, -83.3131,-83.6552,-83.9624,-84.2381, -84.4725,-84.6663,-84.808,-84.8908, -84.9123,-84.8705,-84.7651,-84.5997, -84.377,-84.1027,-83.7821,-83.422, -83.0263,-82.6002,-82.1474,-81.6714, -81.1751,-80.6608,-80.1304,-79.5857, -79.0281,-78.4587,-77.8785,-77.2883, -76.6889,-76.3858,-76.0773)
FOOTPRINT_POINT_LONGITUDE = (368.963,365.759,363.063,359.596, 356.426,356.303,356.138,356.283,356.45, 356.633,356.843,357.079,357.348,357.657 ,358.015,358.43,358.908,359.493,360.194 ,361.094,362.192,363.61,365.514,368.158 ,372.089,378.444,390.004,413.464, 453.086,485.135,501.208,509.561,514.464 ,517.651,519.842,521.464,522.693, 523.651,524.419,525.043,526.029,526.722 ,527.266,527.667,527.995,528.26,528.47, 528.645,528.684,528.721,522.326,519.391 ,515.839,511.508,508.153,505.518, 505.318,505.25,504.221,503.026,501.624, 499.97,498.004,495.635,492.764,489.251, 484.885,482.306,479.417,476.178,472.484 ,468.423,463.909,458.936,453.511, 447.687,441.566,435.271,428.954,422.777 ,416.862,411.327,406.231,401.604, 397.417,393.674,390.325,387.339,384.671 ,382.287,380.143,378.244,376.524, 374.963,373.562,372.289,371.129,370.076 ,369.579,368.963)
ORBIT_NUMBER = 25884
ORBITAL_ECCENTRICITY = 0.574
ORBITAL_INCLINATION = 87.07
ORBITAL_SEMIMAJOR_AXIS = 8828.05
PERIAPSIS_ALTITUDE = 367.46
PERIAPSIS_ARGUMENT_ANGLE = 208.24
PERIAPSIS_TIME = 2024-07-03T05:12:01.000Z
SPACECRAFT_ORIENTATION = (0.0,-1.0,0.0)
^MEX_ORIENTATION_DESC = "MEX_ORIENTATION_DESC.TXT"
SPACECRAFT_POINTING_MODE = NADIR
^MEX_POINTING_DESC = "MEX_POINTING_DESC.TXT"
RIGHT_ASCENSION = -1e+32
DECLINATION = -1e+32
OFFSET_ANGLE = -1e+32
SPACECRAFT_SOLAR_DISTANCE = 2.09913e+08
TARGET_NAME = MARS
/* CAMERA DATA ELEMENTS */
DETECTOR_TEMPERATURE = 18.1666
FOCAL_PLANE_TEMPERATURE = 8.9911
INST_CMPRS_NAME = "DISCRETE COSINE TRANSFORMATION (DCT)"
INST_CMPRS_RATIO = 11.8753
INST_CMPRS_QUALITY = 0
INST_CMPRS_QUANTZ_TBL_ID = 0
INSTRUMENT_TEMPERATURE = 11.0301
LENS_TEMPERATURE = 9.195
MACROPIXEL_SIZE = 4
MISSING_FRAMES = 1
PIXEL_SUBSAMPLING_FLAG = N
SIGNAL_CHAIN_ID = 2
/* RADIOMETRIC DATA ELEMENTS */
BANDWIDTH = 88.0
CENTER_FILTER_WAVELENGTH = 538.0
RADIANCE_OFFSET = 0.988088
RADIANCE_SCALING_FACTOR = 0.024467
REFLECTANCE_SCALING_FACTOR = 0.000928217
MEX:REFLECTANCE_OFFSET = 0.0374857
/* IMAGE OBJECT DEFINITIONS */
OBJECT = IMAGE
  INTERCHANGE_FORMAT = BINARY
  LINES = 11512
  LINE_SAMPLES = 14972
  SAMPLE_TYPE = UNSIGNED_INTEGER
  SAMPLE_BITS = 8
  BANDS = 1
  BAND_STORAGE_TYPE = BAND_SEQUENTIAL
  MAXIMUM = 255
  MEAN = 55.2595
  MINIMUM = 1
  STANDARD_DEVIATION = 55.154
END_OBJECT = IMAGE
/* MAP OBJECT DEFINITIONS */
OBJECT = IMAGE_MAP_PROJECTION
  ^DATA_SET_MAP_PROJECTION_CATALOG= "DSMAP.CAT"
  A_AXIS_RADIUS = 3396.0
  B_AXIS_RADIUS = 3396.0
  C_AXIS_RADIUS = 3396.0
  CENTER_LATITUDE = -86.4513
  CENTER_LONGITUDE = 113.79
  COORDINATE_SYSTEM_NAME = PLANETOGRAPHIC
  COORDINATE_SYSTEM_TYPE = "BODY-FIXED ROTATING"
  EASTERNMOST_LONGITUDE = 168.721
  FIRST_STANDARD_PARALLEL = "N/A"
  LINE_FIRST_PIXEL = 1
  LINE_LAST_PIXEL = 11512
  LINE_PROJECTION_OFFSET = 5819.625
  MAP_PROJECTION_ROTATION = 0.0
  MAP_PROJECTION_TYPE = ORTHOGRAPHIC
  MAP_RESOLUTION = 592.713803866667
  MAP_SCALE = 0.1
  MAXIMUM_LATITUDE = -74.378
  MINIMUM_LATITUDE = -89.2217
  POSITIVE_LONGITUDE_DIRECTION = EAST
  REFERENCE_LATITUDE = "N/A"
  REFERENCE_LONGITUDE = "N/A"
  SAMPLE_FIRST_PIXEL = 1
  SAMPLE_LAST_PIXEL = 14972
  SAMPLE_PROJECTION_OFFSET = 7915.625
  SECOND_STANDARD_PARALLEL = "N/A"
  WESTERNMOST_LONGITUDE = -3.862
END_OBJECT = IMAGE_MAP_PROJECTION
END
