PDS_VERSION_ID = PDS3
/* FILE DATA ELEMENTS */
RECORD_TYPE = UNDEFINED
/* POINTERS TO DATA OBJECTS */
^IMAGE = ("HP881_0000_ND4.TIF")
/* IDENTIFICATION DATA ELEMENTS */
DATA_SET_ID = "MEX-M-HRSC-4-REFDR-MAPPROJECT-EXT9-V4.0"
DATA_SET_NAME = "MARS EXPRESS HRSC MAP PROJECTED REFDR EXTENSION9 V4.0"
DETECTOR_ID = MEX_HRSC_NADIR
EVENT_TYPE = "MARS-REGIONAL-VARIABLE-Gl-At"
INSTRUMENT_HOST_ID = MEX
INSTRUMENT_HOST_NAME = "MARS EXPRESS"
INSTRUMENT_ID = HRSC
INSTRUMENT_NAME = "HIGH RESOLUTION STEREO CAMERA"
MISSION_NAME = "MARS EXPRESS"
MISSION_PHASE_NAME = ME_Phase_50
PROCESSING_LEVEL_ID = 4
PRODUCT_CREATION_TIME = 2024-08-22T02:21:17.000Z
PRODUCT_ID = "HP881_0000_ND4.TIF"
RELEASE_ID = 0016
REVISION_ID = 0000
/* QUALITY DATA ELEMENTS */
DATA_QUALITY_ID = 1
DATA_QUALITY_DESC = "Data calculated based on original SPICE kernels"
/* TIME DATA ELEMENTS */
SPACECRAFT_CLOCK_START_COUNT = "1/0667988730.65382"
SPACECRAFT_CLOCK_STOP_COUNT = "1/0667989782.48391"
START_TIME = 2024-07-02T08:27:47.814Z
STOP_TIME = 2024-07-02T08:39:52.806Z
/* ORBITAL DATA ELEMENTS */
ASCENDING_NODE_LONGITUDE = 94.61
MAXIMUM_RESOLUTION = 0.0343
FOOTPRINT_POINT_LATITUDE = (-74.5167,-74.825,-74.9563,-75.022, -75.0243,-75.0266,-76.1195,-76.841, -77.5569,-78.267,-78.9715,-79.6703, -80.3633,-81.0506,-81.7321,-82.4076, -83.0772,-83.7408,-84.398,-85.0488, -85.6926,-86.3284,-86.9551,-87.5696, -88.165,-88.7227,-89.1749,-89.2957, -88.9712,-88.4675,-87.9143,-87.3459, -86.773,-86.2001,-85.6287,-85.0603, -84.4953,-83.934,-83.3768,-82.2747, -81.1894,-80.1212,-79.0698,-78.0352, -77.0171,-76.0152,-75.0292,-74.7851, -74.7697,-74.7819,-74.7381,-74.6748, -74.5433,-74.3189,-74.0251,-73.7991, -73.7772,-73.7666,-74.6821,-75.6066, -76.5386,-77.4759,-78.4151,-79.3526, -80.2817,-81.194,-82.0748,-82.4976, -82.9044,-83.2903,-83.6501,-83.9789, -84.2699,-84.5151,-84.7057,-84.8342, -84.894,-84.8807,-84.7934,-84.6333, -84.4029,-84.1116,-83.7667,-83.3743, -82.9403,-82.4706,-81.9699,-81.4425, -80.8918,-80.3204,-79.7306,-79.125, -78.5042,-77.8699,-77.2232,-76.5649, -75.8959,-74.8735,-74.5279,-74.5167)
FOOTPRINT_POINT_LONGITUDE = (313.301,308.154,304.852,302.393, 302.281,302.096,302.271,302.404,302.557 ,302.727,302.916,303.126,303.387, 303.676,304.01,304.417,304.905,305.484, 306.224,307.137,308.316,309.912,312.152 ,315.511,321.068,331.6,355.379,401.906, 437.152,452.402,459.767,463.968,466.65, 468.513,469.856,470.885,471.684,472.329 ,472.861,473.663,474.242,474.688, 475.015,475.291,475.503,475.678,475.803 ,475.829,475.831,471.448,468.297, 465.893,462.572,458.622,454.788,452.377 ,452.161,452.055,451.073,449.924, 448.566,446.951,445.009,442.658,439.772 ,436.192,431.679,428.984,425.94,422.49, 418.586,414.191,409.271,403.814,397.847 ,391.448,384.75,377.93,371.185,364.701, 358.631,353.055,348.007,343.489,339.476 ,335.924,332.783,330.005,327.544, 325.359,323.414,321.671,320.113,318.71, 317.444,316.299,315.259,313.869,313.447 ,313.301)
ORBIT_NUMBER = 25881
ORBITAL_ECCENTRICITY = 0.574
ORBITAL_INCLINATION = 87.09
ORBITAL_SEMIMAJOR_AXIS = 8826.86
PERIAPSIS_ALTITUDE = 366.45
PERIAPSIS_ARGUMENT_ANGLE = 208.78
PERIAPSIS_TIME = 2024-07-02T08:14:46.000Z
SPACECRAFT_ORIENTATION = (0.0,-1.0,0.0)
^MEX_ORIENTATION_DESC = "MEX_ORIENTATION_DESC.TXT"
SPACECRAFT_POINTING_MODE = NADIR
^MEX_POINTING_DESC = "MEX_POINTING_DESC.TXT"
RIGHT_ASCENSION = -1e+32
DECLINATION = -1e+32
OFFSET_ANGLE = -1e+32
SPACECRAFT_SOLAR_DISTANCE = 2.09816e+08
TARGET_NAME = MARS
/* CAMERA DATA ELEMENTS */
DETECTOR_TEMPERATURE = 17.9627
FOCAL_PLANE_TEMPERATURE = 8.9911
INST_CMPRS_NAME = "DISCRETE COSINE TRANSFORMATION (DCT)"
INST_CMPRS_RATIO = 6.41651
INST_CMPRS_QUALITY = 0
INST_CMPRS_QUANTZ_TBL_ID = 0
INSTRUMENT_TEMPERATURE = 11.0301
LENS_TEMPERATURE = 9.3989
MACROPIXEL_SIZE = 1
MISSING_FRAMES = 0
PIXEL_SUBSAMPLING_FLAG = N
SIGNAL_CHAIN_ID = 0
/* RADIOMETRIC DATA ELEMENTS */
BANDWIDTH = 177.0
CENTER_FILTER_WAVELENGTH = 677.5
RADIANCE_OFFSET = 2.37656
RADIANCE_SCALING_FACTOR = 0.0545485
REFLECTANCE_SCALING_FACTOR = 0.00127569
MEX:REFLECTANCE_OFFSET = 0.0555791
/* IMAGE OBJECT DEFINITIONS */
OBJECT = IMAGE
  INTERCHANGE_FORMAT = BINARY
  LINES = 45077
  LINE_SAMPLES = 66182
  SAMPLE_TYPE = UNSIGNED_INTEGER
  SAMPLE_BITS = 8
  BANDS = 1
  BAND_STORAGE_TYPE = BAND_SEQUENTIAL
  MAXIMUM = 255
  MEAN = 71.1036
  MINIMUM = 1
  STANDARD_DEVIATION = 53.2373
END_OBJECT = IMAGE
/* MAP OBJECT DEFINITIONS */
OBJECT = IMAGE_MAP_PROJECTION
  ^DATA_SET_MAP_PROJECTION_CATALOG= "DSMAP.CAT"
  A_AXIS_RADIUS = 3396.0
  B_AXIS_RADIUS = 3396.0
  C_AXIS_RADIUS = 3396.0
  CENTER_LATITUDE = -86.63500000000001
  CENTER_LONGITUDE = 56.1934
  COORDINATE_SYSTEM_NAME = PLANETOGRAPHIC
  COORDINATE_SYSTEM_TYPE = "BODY-FIXED ROTATING"
  EASTERNMOST_LONGITUDE = 115.831
  FIRST_STANDARD_PARALLEL = "N/A"
  LINE_FIRST_PIXEL = 1
  LINE_LAST_PIXEL = 45077
  LINE_PROJECTION_OFFSET = 23067.0
  MAP_PROJECTION_ROTATION = 0.0
  MAP_PROJECTION_TYPE = ORTHOGRAPHIC
  MAP_RESOLUTION = 2370.85521546667
  MAP_SCALE = 0.025
  MAXIMUM_LATITUDE = -73.7666
  MINIMUM_LATITUDE = -89.2957
  POSITIVE_LONGITUDE_DIRECTION = EAST
  REFERENCE_LATITUDE = "N/A"
  REFERENCE_LONGITUDE = "N/A"
  SAMPLE_FIRST_PIXEL = 1
  SAMPLE_LAST_PIXEL = 66182
  SAMPLE_PROJECTION_OFFSET = 35390.0
  SECOND_STANDARD_PARALLEL = "N/A"
  WESTERNMOST_LONGITUDE = -57.904
END_OBJECT = IMAGE_MAP_PROJECTION
END
