PDS_VERSION_ID = PDS3
/* FILE DATA ELEMENTS */
RECORD_TYPE = UNDEFINED
/* POINTERS TO DATA OBJECTS */
^IMAGE = ("HP879_0000_S14.TIF")
/* IDENTIFICATION DATA ELEMENTS */
DATA_SET_ID = "MEX-M-HRSC-4-REFDR-MAPPROJECT-EXT9-V4.0"
DATA_SET_NAME = "MARS EXPRESS HRSC MAP PROJECTED REFDR EXTENSION9 V4.0"
DETECTOR_ID = MEX_HRSC_S1
EVENT_TYPE = "MARS-REGIONAL-VARIABLE-Gl-At"
INSTRUMENT_HOST_ID = MEX
INSTRUMENT_HOST_NAME = "MARS EXPRESS"
INSTRUMENT_ID = HRSC
INSTRUMENT_NAME = "HIGH RESOLUTION STEREO CAMERA"
MISSION_NAME = "MARS EXPRESS"
MISSION_PHASE_NAME = ME_Phase_50
PROCESSING_LEVEL_ID = 4
PRODUCT_CREATION_TIME = 2024-08-22T02:21:17.000Z
PRODUCT_ID = "HP879_0000_S14.TIF"
RELEASE_ID = 0016
REVISION_ID = 0000
/* QUALITY DATA ELEMENTS */
DATA_QUALITY_ID = 1
DATA_QUALITY_DESC = "Data calculated based on original SPICE kernels"
/* TIME DATA ELEMENTS */
SPACECRAFT_CLOCK_START_COUNT = "1/0667938441.00351"
SPACECRAFT_CLOCK_STOP_COUNT = "1/0667939786.41297"
START_TIME = 2024-07-01T18:28:10.371Z
STOP_TIME = 2024-07-01T18:37:17.802Z
/* ORBITAL DATA ELEMENTS */
ASCENDING_NODE_LONGITUDE = 94.64
MAXIMUM_RESOLUTION = 0.0659
FOOTPRINT_POINT_LATITUDE = (-74.2701,-74.582,-74.7898,-74.9516, -74.9559,-75.0494,-75.6703,-76.2888, -76.9014,-77.5086,-78.1117,-78.7099, -79.3019,-79.8877,-80.7555,-81.3199, -82.1507,-82.6903,-83.2157,-83.724, -84.2116,-84.6731,-85.1024,-85.4918, -85.8301,-86.1064,-86.3061,-86.4406, -86.4117,-86.2005,-85.8181,-85.4887, -85.1183,-84.5007,-84.0528,-83.5948, -82.882,-82.3974,-81.6558,-80.8949, -80.1332,-79.1187,-78.3587,-77.3413, -76.3227,-75.3115,-75.0593,-74.9929, -74.7866,-74.5334,-74.2354,-74.0041, -73.7517,-73.3205,-72.8991,-72.8694, -72.8594,-73.7988,-74.494,-75.6491, -76.3272,-76.9895,-77.435,-78.3025, -78.729,-79.1337,-79.53,-79.914, -80.4624,-80.8008,-81.1244,-81.4207, -81.6891,-81.9261,-82.1298,-82.2964, -82.4224,-82.5051,-82.5427,-82.5341, -82.4787,-82.377,-82.2301,-82.04, -81.8092,-81.5405,-81.2369,-80.7223, -80.3443,-79.941,-79.5154,-78.8397, -78.367,-77.6292,-76.86,-76.0642, -75.2455,-74.6895,-74.4066,-74.2701)
FOOTPRINT_POINT_LONGITUDE = (167.249,163.412,160.217,157.06,156.962 ,157.131,157.712,158.35,159.043,159.802 ,160.639,161.566,162.593,163.739, 165.736,167.265,169.976,172.119,174.593 ,177.469,180.831,184.779,189.432, 194.924,201.344,208.787,217.103,230.849 ,240.158,253.185,264.289,270.485, 275.729,282.155,285.691,288.662,292.367 ,294.423,297.04,299.227,301.042,303.033 ,304.275,305.682,306.861,307.855,308.08 ,308.138,305.161,302.243,299.404, 297.499,295.635,292.844,290.472,290.317 ,290.26,288.795,287.557,285.181,283.534 ,281.695,280.329,277.282,275.543, 273.686,271.668,269.478,265.834,263.159 ,260.224,257.091,253.727,250.134, 246.315,242.288,238.086,233.747,229.319 ,224.852,220.403,216.028,211.779, 207.698,203.81,200.14,196.699,191.972, 189.115,186.456,184.014,180.708,178.713 ,176.014,173.612,171.477,169.58,168.441 ,167.888,167.249)
ORBIT_NUMBER = 25879
ORBITAL_ECCENTRICITY = 0.574
ORBITAL_INCLINATION = 87.07
ORBITAL_SEMIMAJOR_AXIS = 8826.94
PERIAPSIS_ALTITUDE = 366.73
PERIAPSIS_ARGUMENT_ANGLE = 209.12
PERIAPSIS_TIME = 2024-07-01T18:16:34.000Z
SPACECRAFT_ORIENTATION = (0.0,-1.0,0.0)
^MEX_ORIENTATION_DESC = "MEX_ORIENTATION_DESC.TXT"
SPACECRAFT_POINTING_MODE = ACROSSTRACK
^MEX_POINTING_DESC = "MEX_POINTING_DESC.TXT"
RIGHT_ASCENSION = -1e+32
DECLINATION = -1e+32
OFFSET_ANGLE = 2.519
SPACECRAFT_SOLAR_DISTANCE = 2.09751e+08
TARGET_NAME = MARS
/* CAMERA DATA ELEMENTS */
DETECTOR_TEMPERATURE = 17.5549
FOCAL_PLANE_TEMPERATURE = 8.7872
INST_CMPRS_NAME = "DISCRETE COSINE TRANSFORMATION (DCT)"
INST_CMPRS_RATIO = 11.1868
INST_CMPRS_QUALITY = 0
INST_CMPRS_QUANTZ_TBL_ID = 0
INSTRUMENT_TEMPERATURE = 11.0301
LENS_TEMPERATURE = 9.3989
MACROPIXEL_SIZE = 2
PIXEL_SUBSAMPLING_FLAG = N
SIGNAL_CHAIN_ID = 1
/* RADIOMETRIC DATA ELEMENTS */
BANDWIDTH = 180.0
CENTER_FILTER_WAVELENGTH = 677.0
RADIANCE_OFFSET = 2.76543
RADIANCE_SCALING_FACTOR = 0.0457652
REFLECTANCE_SCALING_FACTOR = 0.00105049
MEX:REFLECTANCE_OFFSET = 0.0634775
/* IMAGE OBJECT DEFINITIONS */
OBJECT = IMAGE
  INTERCHANGE_FORMAT = BINARY
  LINES = 16141
  LINE_SAMPLES = 33922
  SAMPLE_TYPE = UNSIGNED_INTEGER
  SAMPLE_BITS = 8
  BANDS = 1
  BAND_STORAGE_TYPE = BAND_SEQUENTIAL
  MAXIMUM = 255
  MEAN = 58.965
  MINIMUM = 1
  STANDARD_DEVIATION = 55.0938
END_OBJECT = IMAGE
/* MAP OBJECT DEFINITIONS */
OBJECT = IMAGE_MAP_PROJECTION
  ^DATA_SET_MAP_PROJECTION_CATALOG= "DSMAP.CAT"
  A_AXIS_RADIUS = 3396.0
  B_AXIS_RADIUS = 3396.0
  C_AXIS_RADIUS = 3396.0
  CENTER_LATITUDE = -84.2216
  CENTER_LONGITUDE = 248.634
  COORDINATE_SYSTEM_NAME = PLANETOGRAPHIC
  COORDINATE_SYSTEM_TYPE = "BODY-FIXED ROTATING"
  EASTERNMOST_LONGITUDE = 308.138
  FIRST_STANDARD_PARALLEL = "N/A"
  LINE_FIRST_PIXEL = 1
  LINE_LAST_PIXEL = 16141
  LINE_PROJECTION_OFFSET = 8928.75
  MAP_PROJECTION_ROTATION = 0.0
  MAP_PROJECTION_TYPE = ORTHOGRAPHIC
  MAP_RESOLUTION = 1185.42760773333
  MAP_SCALE = 0.05
  MAXIMUM_LATITUDE = -72.85939999999999
  MINIMUM_LATITUDE = -86.4406
  POSITIVE_LONGITUDE_DIRECTION = EAST
  REFERENCE_LATITUDE = "N/A"
  REFERENCE_LONGITUDE = "N/A"
  SAMPLE_FIRST_PIXEL = 1
  SAMPLE_LAST_PIXEL = 33922
  SAMPLE_PROJECTION_OFFSET = 18301.75
  SECOND_STANDARD_PARALLEL = "N/A"
  WESTERNMOST_LONGITUDE = 156.962
END_OBJECT = IMAGE_MAP_PROJECTION
END
