PDS_VERSION_ID = PDS3
/* FILE DATA ELEMENTS */
RECORD_TYPE = UNDEFINED
/* POINTERS TO DATA OBJECTS */
^IMAGE = ("HP878_0000_S14.TIF")
/* IDENTIFICATION DATA ELEMENTS */
DATA_SET_ID = "MEX-M-HRSC-4-REFDR-MAPPROJECT-EXT9-V4.0"
DATA_SET_NAME = "MARS EXPRESS HRSC MAP PROJECTED REFDR EXTENSION9 V4.0"
DETECTOR_ID = MEX_HRSC_S1
EVENT_TYPE = "MARS-REGIONAL-VARIABLE-Gl-At"
INSTRUMENT_HOST_ID = MEX
INSTRUMENT_HOST_NAME = "MARS EXPRESS"
INSTRUMENT_ID = HRSC
INSTRUMENT_NAME = "HIGH RESOLUTION STEREO CAMERA"
MISSION_NAME = "MARS EXPRESS"
MISSION_PHASE_NAME = ME_Phase_50
PROCESSING_LEVEL_ID = 4
PRODUCT_CREATION_TIME = 2024-08-22T02:21:17.000Z
PRODUCT_ID = "HP878_0000_S14.TIF"
RELEASE_ID = 0016
REVISION_ID = 0000
/* QUALITY DATA ELEMENTS */
DATA_QUALITY_ID = 1
DATA_QUALITY_DESC = "Data calculated based on original SPICE kernels"
/* TIME DATA ELEMENTS */
SPACECRAFT_CLOCK_START_COUNT = "1/0667913317.00361"
SPACECRAFT_CLOCK_STOP_COUNT = "1/0667914451.45412"
START_TIME = 2024-07-01T11:29:26.419Z
STOP_TIME = 2024-07-01T11:37:46.488Z
/* ORBITAL DATA ELEMENTS */
ASCENDING_NODE_LONGITUDE = 94.66
MAXIMUM_RESOLUTION = 0.068
FOOTPRINT_POINT_LATITUDE = (-76.1286,-76.4455,-76.6563,-76.8174, -76.8217,-76.9318,-77.5034,-78.0723, -78.6382,-79.2001,-79.7586,-80.5891, -81.4099,-81.9485,-82.7484,-83.2737, -83.7912,-84.3,-85.0369,-85.7344, -86.3753,-86.7549,-87.0807,-87.3356, -87.4982,-87.5515,-87.4899,-87.3183, -86.9067,-86.5598,-85.9651,-85.5368, -85.0914,-84.4034,-83.9321,-83.4592, -82.9824,-82.5033,-82.0216,-81.5381, -80.5676,-79.6045,-78.6491,-77.2133, -76.2649,-76.0312,-76.0014,-75.8265, -75.6984,-75.5209,-75.2461,-74.9991, -74.629,-74.3416,-74.3161,-74.308, -74.9681,-75.8452,-76.9319,-77.5777, -78.4268,-79.2606,-79.6689,-80.07, -80.4672,-80.8477,-81.3961,-81.7358, -82.064,-82.3735,-82.6611,-82.9179, -83.1499,-83.3489,-83.5105,-83.633, -83.7113,-83.7446,-83.7328,-83.6723, -83.5689,-83.4186,-83.2274,-82.9973, -82.7318,-82.273,-81.9317,-81.5676, -81.1789,-80.561,-80.1282,-79.6806, -79.2186,-78.7459,-78.2623,-77.5185, -77.0131,-76.4988,-76.2391,-76.1286)
FOOTPRINT_POINT_LONGITUDE = (267.777,263.546,259.939,256.301, 256.187,256.255,256.731,257.254,257.829 ,258.464,259.168,260.38,261.824,262.943 ,264.935,266.523,268.377,270.565, 274.647,280.078,287.502,293.966,301.964 ,311.704,323.049,335.377,347.582,358.93 ,372.476,379.4,387.379,391.444,394.769, 398.707,400.828,402.616,404.152,405.482 ,406.646,407.672,409.391,410.757, 411.864,413.197,413.911,414.069,414.089 ,410.325,408.178,405.687,402.513, 400.159,397.185,395.157,394.991,394.93, 393.925,392.414,390.194,388.649,386.289 ,383.5,381.927,380.212,378.333,376.293, 372.871,370.349,367.578,364.554,361.26, 357.72,353.878,349.736,345.375,340.787, 336.047,331.202,326.297,321.478,316.668 ,312.125,307.755,303.669,299.848, 294.566,291.395,288.532,285.849,282.272 ,280.141,278.191,276.389,274.75,273.241 ,271.197,269.974,268.836,268.3,267.777)
ORBIT_NUMBER = 25878
ORBITAL_ECCENTRICITY = 0.575
ORBITAL_INCLINATION = 87.07
ORBITAL_SEMIMAJOR_AXIS = 8834.05
PERIAPSIS_ALTITUDE = 366.16
PERIAPSIS_ARGUMENT_ANGLE = 209.29
PERIAPSIS_TIME = 2024-07-01T11:17:24.000Z
SPACECRAFT_ORIENTATION = (0.0,-1.0,0.0)
^MEX_ORIENTATION_DESC = "MEX_ORIENTATION_DESC.TXT"
SPACECRAFT_POINTING_MODE = ACROSSTRACK
^MEX_POINTING_DESC = "MEX_POINTING_DESC.TXT"
RIGHT_ASCENSION = -1e+32
DECLINATION = -1e+32
OFFSET_ANGLE = 1.414
SPACECRAFT_SOLAR_DISTANCE = 2.0972e+08
TARGET_NAME = MARS
/* CAMERA DATA ELEMENTS */
DETECTOR_TEMPERATURE = 17.7588
FOCAL_PLANE_TEMPERATURE = 8.7872
INST_CMPRS_NAME = "DISCRETE COSINE TRANSFORMATION (DCT)"
INST_CMPRS_RATIO = 10.1569
INST_CMPRS_QUALITY = 0
INST_CMPRS_QUANTZ_TBL_ID = 0
INSTRUMENT_TEMPERATURE = 10.8262
LENS_TEMPERATURE = 9.3989
MACROPIXEL_SIZE = 2
PIXEL_SUBSAMPLING_FLAG = N
SIGNAL_CHAIN_ID = 1
/* RADIOMETRIC DATA ELEMENTS */
BANDWIDTH = 180.0
CENTER_FILTER_WAVELENGTH = 677.0
RADIANCE_OFFSET = 2.9356
RADIANCE_SCALING_FACTOR = 0.0523051
REFLECTANCE_SCALING_FACTOR = 0.00120024
MEX:REFLECTANCE_OFFSET = 0.0673629
/* IMAGE OBJECT DEFINITIONS */
OBJECT = IMAGE
  INTERCHANGE_FORMAT = BINARY
  LINES = 13809
  LINE_SAMPLES = 23789
  SAMPLE_TYPE = UNSIGNED_INTEGER
  SAMPLE_BITS = 8
  BANDS = 1
  BAND_STORAGE_TYPE = BAND_SEQUENTIAL
  MAXIMUM = 255
  MEAN = 120.531
  MINIMUM = 1
  STANDARD_DEVIATION = 73.8522
END_OBJECT = IMAGE
/* MAP OBJECT DEFINITIONS */
OBJECT = IMAGE_MAP_PROJECTION
  ^DATA_SET_MAP_PROJECTION_CATALOG= "DSMAP.CAT"
  A_AXIS_RADIUS = 3396.0
  B_AXIS_RADIUS = 3396.0
  C_AXIS_RADIUS = 3396.0
  CENTER_LATITUDE = -85.288
  CENTER_LONGITUDE = 310.091
  COORDINATE_SYSTEM_NAME = PLANETOGRAPHIC
  COORDINATE_SYSTEM_TYPE = "BODY-FIXED ROTATING"
  EASTERNMOST_LONGITUDE = 54.089
  FIRST_STANDARD_PARALLEL = "N/A"
  LINE_FIRST_PIXEL = 1
  LINE_LAST_PIXEL = 13809
  LINE_PROJECTION_OFFSET = 6821.75
  MAP_PROJECTION_ROTATION = 0.0
  MAP_PROJECTION_TYPE = ORTHOGRAPHIC
  MAP_RESOLUTION = 1185.42760773333
  MAP_SCALE = 0.05
  MAXIMUM_LATITUDE = -74.30800000000001
  MINIMUM_LATITUDE = -87.5515
  POSITIVE_LONGITUDE_DIRECTION = EAST
  REFERENCE_LATITUDE = "N/A"
  REFERENCE_LONGITUDE = "N/A"
  SAMPLE_FIRST_PIXEL = 1
  SAMPLE_LAST_PIXEL = 23789
  SAMPLE_PROJECTION_OFFSET = 12388.75
  SECOND_STANDARD_PARALLEL = "N/A"
  WESTERNMOST_LONGITUDE = -103.813
END_OBJECT = IMAGE_MAP_PROJECTION
END
